BEGIN:VCALENDAR
VERSION:2.0
PRODID:-//Bellingham Alive - ECPv6.15.20//NONSGML v1.0//EN
CALSCALE:GREGORIAN
METHOD:PUBLISH
X-ORIGINAL-URL:https://bellinghamalive.com
X-WR-CALDESC:Events for Bellingham Alive
REFRESH-INTERVAL;VALUE=DURATION:PT1H
X-Robots-Tag:noindex
X-PUBLISHED-TTL:PT1H
BEGIN:VTIMEZONE
TZID:America/Denver
BEGIN:DAYLIGHT
TZOFFSETFROM:-0700
TZOFFSETTO:-0600
TZNAME:MDT
DTSTART:20220313T090000
END:DAYLIGHT
BEGIN:STANDARD
TZOFFSETFROM:-0600
TZOFFSETTO:-0700
TZNAME:MST
DTSTART:20221106T080000
END:STANDARD
BEGIN:DAYLIGHT
TZOFFSETFROM:-0700
TZOFFSETTO:-0600
TZNAME:MDT
DTSTART:20230312T090000
END:DAYLIGHT
BEGIN:STANDARD
TZOFFSETFROM:-0600
TZOFFSETTO:-0700
TZNAME:MST
DTSTART:20231105T080000
END:STANDARD
BEGIN:DAYLIGHT
TZOFFSETFROM:-0700
TZOFFSETTO:-0600
TZNAME:MDT
DTSTART:20240310T090000
END:DAYLIGHT
BEGIN:STANDARD
TZOFFSETFROM:-0600
TZOFFSETTO:-0700
TZNAME:MST
DTSTART:20241103T080000
END:STANDARD
END:VTIMEZONE
BEGIN:VEVENT
DTSTART;VALUE=DATE:20230901
DTEND;VALUE=DATE:20230904
DTSTAMP:20260419T083114
CREATED:20230831T184913Z
LAST-MODIFIED:20230831T184913Z
UID:37860-1693526400-1693785599@bellinghamalive.com
SUMMARY:ORCAS ISLAND JAZZ FESTIVAL
DESCRIPTION:Since 2015\, the Orcas Island Jazz Festival has aimed to celebrate and educate about this great musical art form. With highly regarded jazz artists performing on all three days\, this festival brings together Orcas Island locals and visitors\, young and old\, aficionados and amateur appreciators for a riotous good time. Orcas Center\, 917Mount Baker Rd.\, Eastsound\, 360.376.2281\, orcasislandjazzfestival.org
URL:https://bellinghamalive.com/event2/orcas-island-jazz-festival/
LOCATION:Orcas Center\, 917 Mt. Baker Rd.\, Eastsound\, WA\, 98245\, United States
END:VEVENT
BEGIN:VEVENT
DTSTART;TZID=America/Denver:20230901T200000
DTEND;TZID=America/Denver:20230901T200000
DTSTAMP:20260419T083114
CREATED:20230831T192316Z
LAST-MODIFIED:20230831T192316Z
UID:37878-1693598400-1693598400@bellinghamalive.com
SUMMARY:JUNGLE BROTHERS
DESCRIPTION:If you missed them in February\, don’t make the same mistake this month! Legendary hip-hop group Jungle Brothers return to Bellingham’s own The Shakedown. Lauded as innovative since the ‘80s\, the group was once a part of the Native Tongues collective along with huge names like De La Soul and Queen Latifah. Enjoy their hits and songs from 2020 album “Keep it Jungle” at this intimate show. The Shakedown\,1212 N. State St.\, Bellingham\, 360.778.1067\, shakedownbellingham.com
URL:https://bellinghamalive.com/event2/jungle-brothers/
LOCATION:The Shakedown\, 1212 N State St\, Bellingham
END:VEVENT
BEGIN:VEVENT
DTSTART;TZID=America/Denver:20230906T190000
DTEND;TZID=America/Denver:20230906T210000
DTSTAMP:20260419T083114
CREATED:20230905T162012Z
LAST-MODIFIED:20230905T162012Z
UID:37835-1694026800-1694034000@bellinghamalive.com
SUMMARY:Birchwood Garden Club's September Meeting
DESCRIPTION:Birchwood Garden Club’s September Meeting\nEstablished 1931 ~ Bellingham\, Washington\nPlanting Seeds of Friendship throughout our Community \nThe first meeting of the Birchwood Garden Club’s 2023-2024 season will feature Erika Simms of West Coast Seeds.\nWest Coast Seeds is in Delta\, B.C. Their catalog and gardening guide is full of information\, most notably their South Coastal B.C. Planting Guides\, with detailed schedules that apply to us here.\nErika Simms is a Vancouver\, B.C. native who loves to garden and share her passion. She has been with West Coast Seeds since 2016 and is currently working as the Community Roots Program Coordinator. Please join us for what will be a fun and informative meeting!\nBirchwood Garden Club membership is open to anyone in Whatcom or Skagit Counties. You are invited to join us at our monthly meetings where we will have membership brochures to join. Check out our website\, www.birchwoodgardenclub.org to see the fun activities and community services our club does! You can also join us on Instagram and Facebook @ Birchwood Garden Club.
URL:https://bellinghamalive.com/event2/birchwood-garden-clubs-september-meeting/
CATEGORIES:Plants/garden
ATTACH;FMTTYPE=image/jpeg:https://bellinghamalive.com/wp-content/uploads/2023/08/BGC-Daffodil.jpeg
END:VEVENT
BEGIN:VEVENT
DTSTART;TZID=America/Denver:20230908T193000
DTEND;TZID=America/Denver:20230908T223000
DTSTAMP:20260419T083114
CREATED:20230831T184559Z
LAST-MODIFIED:20230831T184559Z
UID:37858-1694201400-1694212200@bellinghamalive.com
SUMMARY:TIG NOTARO: HELLO AGAIN TOUR
DESCRIPTION:For one night only\, catch Tig Notaro at the MBT! Notaro is a multi-talented knockout comedian\, having written and acted in numerous shows\, authored a New York Times best selling memoir\, and endeared audiences all over the world with her dry but relatable wit. Why not get ready for the show by checking out one or both of her podcasts? Mount Baker Theatre\, 104 N. Commercial St.\, Bellingham\, 360.734.6080\, mountbakertheatre.com
URL:https://bellinghamalive.com/event2/tig-notaro-hello-again-tour/
LOCATION:Mount Baker Theatre\, 104 N Commercial St\, Bellingham
END:VEVENT
BEGIN:VEVENT
DTSTART;TZID=America/Denver:20230909T080000
DTEND;TZID=America/Denver:20230909T170000
DTSTAMP:20260419T083114
CREATED:20230831T185228Z
LAST-MODIFIED:20230831T185228Z
UID:37863-1694246400-1694278800@bellinghamalive.com
SUMMARY:SIPPIN' ON CIDER
DESCRIPTION:Shifting Gears\, a Bellingham organization dedicated to making outdoor recreation welcoming and accessible for women\, is hosting this cider tasting event! Community events like this one are the main avenue of funding for Shifting Gears’ no- or low-cost programming\, so join them for a night of fun and cider! Lost Giants Cider Co.\, 1200 Meador Ave.\,360.746.9841\, Bellingham\, letsshiftgears.com
URL:https://bellinghamalive.com/event2/sippin-on-cider/
LOCATION:Lost Giants Cider\, Bellingham\, WA\, United States
END:VEVENT
BEGIN:VEVENT
DTSTART;TZID=America/Denver:20230912T000000
DTEND;TZID=America/Denver:20230914T000000
DTSTAMP:20260419T083114
CREATED:20221227T143942Z
LAST-MODIFIED:20221227T143942Z
UID:35201-1694476800-1694649600@bellinghamalive.com
SUMMARY:WABI SABI
DESCRIPTION:Stay & Refresh With Our 2-Day Getaway Exploring Flawed Beauty \nWellness retreats are a healthful way to bring body and mind back into alignment\, and to recenter the seat of soul in the spirit of loving kindness. At Heartful Retreats\, the focus is on exploring our many selves through friendship\, writing and art making\, good food\, and mindful spirituality. Through a combination of poetry\, painting\, drawing\, and mixed media materials\, you will explore the ideals of “handmade’ and the imperfections that make objects singular and meaningful. By allowing the process to unfold and becoming enveloped in the moment\, mistakes and accidents will become your guide. Small class\, big impact – space is limited so book now. Specific info about this Retreat can be found at www.heartfulretreats.com/retreats or contact Yvette Neumann @360-510-9819.
URL:https://bellinghamalive.com/event2/wabi-sabi/
LOCATION:Heartful Retreats\, 8480 Thompson Beach Rd\, Anacortes\, WA\, 98221\, United States
CATEGORIES:Classes
ORGANIZER;CN="Heartful Retreats":MAILTO:yvette@heartfulretreats.com
END:VEVENT
BEGIN:VEVENT
DTSTART;TZID=America/Denver:20230913T183000
DTEND;TZID=America/Denver:20230913T210000
DTSTAMP:20260419T083114
CREATED:20230907T225330Z
LAST-MODIFIED:20230907T225330Z
UID:37945-1694629800-1694638800@bellinghamalive.com
SUMMARY:Italo-Argentinian Wine Dinner with Catena Zapata Wines
DESCRIPTION:Come and celebrate Italy in Argentina with us. \nWednesday\, September 13th\, 6:30pm\, at Milano’s\n1210 11th Street\nBellingham\, WA \n$120/person\, all included\, plus tax and tips.\nReserve by phoning Milano’s 360 599 2863.\nMake sure we confirm your reservation. \nITALY in ARGENTINA Wine DINNER MENU:\nAperitivo \nVerano Porteño \nDry Gin\, Danham Sauvignon Blanc wine\, Quince Syrup\, Grapefruit \nAntipasto \nItalian Chorizo Empanadas \nPairing: Alta Cabernet Sauvignon \nPrimo piatto \nCanelones de Verdura – Chard and Ricotta Canelones \nMade with Crepes instead of Pasta \nPairing: Natural la Marchigiana Chardonnay \nAmusebuche \nProvoleta with Faina \nBaked Sharp Provolone with Garbanzo Flour Flat Bread \nPairing: Natural la Marchigiana Bonarda \nSecondo piatto \nBistecca Milanesa \nBreaded Steak with Ham and Mozzarella \nPairing: Pareja Altamira Malbec \nDolce \nChocolate Alfajores with salted Dulce de Leche Gelato \nPairing: Catena Appellation White Clay Chenin Blanc/Semillon \nDigestivo \nIl Generale \nLenda Aunty Molly Rye 100 proof\, Aromatic Bitters \nRed Wine Reduction – Mendoza Cabernet Sauvignon Catena
URL:https://bellinghamalive.com/event2/italo-argentinian-wine-dinner-with-catena-zapata-wines/
CATEGORIES:Food & Drink
ATTACH;FMTTYPE=image/jpeg:https://bellinghamalive.com/wp-content/uploads/2023/09/p1.jpg
END:VEVENT
BEGIN:VEVENT
DTSTART;TZID=America/Denver:20230914T170000
DTEND;TZID=America/Denver:20230914T180000
DTSTAMP:20260419T083114
CREATED:20230907T164755Z
LAST-MODIFIED:20230907T164755Z
UID:37796-1694710800-1694714400@bellinghamalive.com
SUMMARY:Whatcom Literacy Council: Volunteer Recruitment
DESCRIPTION:Come learn about the ways you can volunteer with the Whatcom Literacy Council\, and how to make a positive impact on improving literacy rates in our community. \nProgram staff and current volunteers will be on hand to answer questions about our free adult literacy services.
URL:https://bellinghamalive.com/event2/whatcom-literacy-council-volunteer-recruitment/
CATEGORIES:Talk/Lecture
ATTACH;FMTTYPE=image/png:https://bellinghamalive.com/wp-content/uploads/2023/08/Volunteer-Recruitment-2.png
END:VEVENT
BEGIN:VEVENT
DTSTART;TZID=America/Denver:20230914T180000
DTEND;TZID=America/Denver:20230914T190000
DTSTAMP:20260419T083114
CREATED:20230608T164059Z
LAST-MODIFIED:20230608T164059Z
UID:37200-1694714400-1694718000@bellinghamalive.com
SUMMARY:Circling Home Launch Party
DESCRIPTION:Book launch party.\nCircling Home chronicles the adventures and challenges of raising children overseas.\nUW Bookstore 4326 University Way NE\, Seattle\, WA 98105\nSeptember 14th – 6PM\nTerryrepak.com
URL:https://bellinghamalive.com/event2/circling-home-launch-party/
LOCATION:UW Bookstore\, Seattle\, WA\, United States
CATEGORIES:Books & Talk
ATTACH;FMTTYPE=image/jpeg:https://bellinghamalive.com/wp-content/uploads/2023/05/Cover-small.jpg
END:VEVENT
BEGIN:VEVENT
DTSTART;TZID=America/Denver:20230917T070000
DTEND;TZID=America/Denver:20230917T120000
DTSTAMP:20260419T083114
CREATED:20230117T191358Z
LAST-MODIFIED:20230117T191501Z
UID:35702-1694934000-1694952000@bellinghamalive.com
SUMMARY:Mt. Baker Hill Climb
DESCRIPTION:Great views\, fresh air\, tough climbs. Ascend 4\,462 feet from Chair 9 in Glacier to Artist Point (5\,140 feet elevation) in approximately 22 miles. The Mt. Baker Highway (SR542) is known as one of the most scenic paved roads in the country and rarely is the highway closed to motorized vehicles from Glacier to Artist Point. With steep elevation and several switchbacks\, this ride is not for the faint of heart\, but the views are stunning. Experience the agony and the ecstasy! \nThis is a timed event. 1st female and male of each age division registered in the Competitive Division\, receive a custom Voler Winners Jersey and 1st – 3rd of each division receive a locally produced medal. \nThe race begins at MP 35\, 1/4 mile east of the check-in at Chair 9 Pizza & Bar. \nSocial: 7:00 AM\nRecreational: 8:00 AM\nCompetitive: 8:30 AM\nEnd time: 12:00pm (road closed until noon) \nAll start lines begin at Snowater Road\, just east of Glacier\, WA. Parking is available at the Chair 9 restaurant. All vehicles will need to have a NW Forest Pass ($5) to park at Artist Point. \nAnyone over the age of 13 can participate in the Mt. Baker Hill Climb. Riders between the ages of 13-15 years old on race day MUST be accompanied by a parent or guardian to participate. \nIndividual: $80 early bird\, $90 after; Tandem: $100 early bird\, $120 after May 31st \nVisit https://www.bakerhillclimb.com for more information.
URL:https://bellinghamalive.com/event2/mt-baker-hill-climb-3/
CATEGORIES:Sports
ORGANIZER;CN="Whatcom Events":MAILTO:info@skitosea.com
END:VEVENT
BEGIN:VEVENT
DTSTART;TZID=America/Denver:20230917T100000
DTEND;TZID=America/Denver:20230917T150000
DTSTAMP:20260419T083114
CREATED:20230831T185619Z
LAST-MODIFIED:20230831T185619Z
UID:37865-1694944800-1694962800@bellinghamalive.com
SUMMARY:BELLINGHAM VEG FEST
DESCRIPTION:Bellingham Veg Fest is an annual event spreading the good word— vegan food is accessible\, tasty\, and for everyone (not just hardcore vegans)! A variety of vegan-friendly businesses will be there\, and there will be live music\, crafts\, and yummy food to try. For more info\, check out their site or our coverage on pg. 20. Barkley Village\, Bellingham\, bellinghamvegfest.org
URL:https://bellinghamalive.com/event2/bellingham-veg-fest-2/
LOCATION:Barkley Village
ORGANIZER;CN="Bellingham Veg Fest":MAILTO:info@bellinghamvegfest.org
END:VEVENT
BEGIN:VEVENT
DTSTART;TZID=America/Denver:20230917T100000
DTEND;TZID=America/Denver:20230917T150000
DTSTAMP:20260419T083114
CREATED:20230907T164736Z
LAST-MODIFIED:20230907T164736Z
UID:37615-1694944800-1694962800@bellinghamalive.com
SUMMARY:Bellingham Veg Fest
DESCRIPTION:Bellingham Veg Fest\nSunday\, September 17th\n10am-3pm\nBarkley Village\n2219 Rimland Drive \nBellingham Veg Fest is a free to attend\, all-vegan\, all-ages\, family-friendly festival created to show how fun it is to live a vegan lifestyle. This event welcomes anyone and everyone— from the veg-curious to the experienced vegans.\nVeg Fest stands for compassion for all humans and non-humans\, sustainability of our planet\, and support for our local vegan and vegan-friendly small businesses and nonprofits. \nThe Fest will feature food\, art\, crafts\, kids corner\, raffle\, and more. Everything sold\, distributed\, and displayed at this event will be 100% vegan. Don’t forget to bring your reusable totes\, containers\, and utensils as this is a Toward Zero Waste event. \nWe are thrilled that this fest will be at the Barkley Village\, a beautiful space with ample free onsite parking!
URL:https://bellinghamalive.com/event2/bellingham-veg-fest-3/
CATEGORIES:Fairs & Festivals
ATTACH;FMTTYPE=image/jpeg:https://bellinghamalive.com/wp-content/uploads/2023/07/8632FC78-E610-4657-9A61-989E2EECC531.jpeg
END:VEVENT
BEGIN:VEVENT
DTSTART;TZID=America/Denver:20230918T184500
DTEND;TZID=America/Denver:20230918T194500
DTSTAMP:20260419T083114
CREATED:20230907T164856Z
LAST-MODIFIED:20230907T164856Z
UID:37838-1695062700-1695066300@bellinghamalive.com
SUMMARY:Belly Dance Fitness: An Introductory Workshop
DESCRIPTION:Sweat\, shimmy\, laugh\, and dance in this FREE workshop designed to introduce you to the art of belly dance. If you’ve been curious about this fascinating dance style\, come join instructor Rachel Carter for an introduction to the basics. Beginners welcome and encouraged! Wear comfortable clothes and bring a water bottle. Pre-registration required.\nhttp://whatcomcommunityed.com/
URL:https://bellinghamalive.com/event2/belly-dance-fitness-an-introductory-workshop/
CATEGORIES:Classes
ATTACH;FMTTYPE=image/jpeg:https://bellinghamalive.com/wp-content/uploads/2023/08/Rachel-Belly-Dances-low-res.jpg
END:VEVENT
BEGIN:VEVENT
DTSTART;TZID=America/Denver:20230922T200000
DTEND;TZID=America/Denver:20230922T220000
DTSTAMP:20260419T083114
CREATED:20230831T192026Z
LAST-MODIFIED:20230831T192026Z
UID:37876-1695412800-1695420000@bellinghamalive.com
SUMMARY:112 + JON B
DESCRIPTION:112 is a late ‘90s to early 2000s R&B group with hits like Grammy award nominated song “Peaches & Cream” and “Only You\,” plus an independently produced EP “Forever” released in 2020. Joining them is R&B singer-songwriter Jon B\, whose first album in 1995 included the Grammy award nominated single “Someone to Love.” Together\, this show is a powerhouse of classic American R&B! Orca Ballroom\, Tulalip Resort Casino\, 10200 Quil Ceda Blvd.\, Tulalip\,888.272.1111\, tulalipresortcasino.com
URL:https://bellinghamalive.com/event2/112-jon-b/
LOCATION:Tulalip Resort Casino\, 10200 Quil Ceda Blvd.\, Tulalip
END:VEVENT
BEGIN:VEVENT
DTSTART;TZID=America/Denver:20230923T130000
DTEND;TZID=America/Denver:20230923T180000
DTSTAMP:20260419T083114
CREATED:20230907T164815Z
LAST-MODIFIED:20230907T164815Z
UID:37802-1695474000-1695492000@bellinghamalive.com
SUMMARY:Drinking for Dogs
DESCRIPTION:Drinking for Dogs is back! After three years of online auctions\, Happy Tails Happy Homes annual fundraising event will be LIVE and in-person on September 23 at Lost Giants Cider Company in Bellingham. Our silent auction begins at 1:00pm\, ends at 6:00pm\, and features goods and services from tons of local businesses\, including vacation stays in Suncadia and Mazatlán! We will also have live music by Original Jim.\nHappy Tails Happy Homes is a no-kill\, nonprofit animal welfare organization dedicated to protecting and serving the well-being of animals and fostering positive relationships between people and animals. We are an at-home foster program: no shelters\, no offices\, and no paid staff. All the money donated to HTHH goes directly to our animals.\nCome out and support Happy Tails Happy Homes and enjoy a fun afternoon of food\, drinks\, and good music!\nSaturday\, Sept. 23 1:00-6:00PM\nLost Giants Cider Company\n1200 Meador Ave.\nBellingham\, WA\nfor more info\, go to www.happytailshappyhomes.org
URL:https://bellinghamalive.com/event2/drinking-for-dogs/
CATEGORIES:Charity Events
ATTACH;FMTTYPE=image/jpeg:https://bellinghamalive.com/wp-content/uploads/2023/08/DFD-2023.jpg
END:VEVENT
BEGIN:VEVENT
DTSTART;TZID=America/Denver:20230923T140000
DTEND;TZID=America/Denver:20230923T153000
DTSTAMP:20260419T083114
CREATED:20230907T164704Z
LAST-MODIFIED:20230907T164704Z
UID:37597-1695477600-1695483000@bellinghamalive.com
SUMMARY:Drawings are for all of us one at a time: Lecture by Margaret Davidson
DESCRIPTION:Drawing\, by its very nature\, is an intimate art form. Looking at any drawing\, from any time period\, becomes an immediate\, familiar\, private\, and intense conversation with the artist. Join curator and artist Margaret Davidson for a lecture inspired by her exhibition Leading with Drawing. \nCost: Free for members | $5 suggested donation for non-members\nBecome a member today! Learn more at: monamuseum.org/membership \nimage credit\nMargaret Davidson\, “Button Coat with Super Strings\,” 2011\, colored pencil on rag paper\, 33.75″ by 32.5″ framed
URL:https://bellinghamalive.com/event2/drawings-are-for-all-of-us-one-at-a-time-lecture-by-margaret-davidson/
ATTACH;FMTTYPE=image/jpeg:https://bellinghamalive.com/wp-content/uploads/2023/07/ButtonCoatwithSuperstringsmde.jpg
END:VEVENT
BEGIN:VEVENT
DTSTART;TZID=America/Denver:20230923T160000
DTEND;TZID=America/Denver:20230923T170000
DTSTAMP:20260419T083114
CREATED:20230921T171053Z
LAST-MODIFIED:20230921T171053Z
UID:37847-1695484800-1695488400@bellinghamalive.com
SUMMARY:Author Event
DESCRIPTION:Local poet Victoria McCallum will read from her newly released book I Dreamed the Ocean Froze in the Readings Gallery at Village Books in Fairhaven on Sat.\, Sept. 23 at 4 p.m. Advanced registration is required: www.villagebooks.com. Also see Victoria’s website for more info: www.parrotfishpress.com.
URL:https://bellinghamalive.com/event2/author-event/
CATEGORIES:Books & Talk
ATTACH;FMTTYPE=image/jpeg:https://bellinghamalive.com/wp-content/uploads/2023/08/IMG_2962-rotated.jpg
END:VEVENT
BEGIN:VEVENT
DTSTART;TZID=America/Denver:20230923T170000
DTEND;TZID=America/Denver:20230923T181500
DTSTAMP:20260419T083114
CREATED:20230921T171353Z
LAST-MODIFIED:20230921T171353Z
UID:38013-1695488400-1695492900@bellinghamalive.com
SUMMARY:Hello Autumn Soundbath and chakra Balancing session
DESCRIPTION:Say hello to fall and welcome Autumn! Come together to celebrate the change in seasons. We’ll take a trance journey to explore inner healing\, rest and peace \nThrough the use of voice\, singing bowls\, bells\, rattles\, drums and other instruments\, you’ll be guided through an inner journey. We will create a sacred space for inner reflection and physical relaxation. \nWe start with words of intention\, and then we enter the journey through breath\, meditation and sounds. Let the journey guide you in to your inner world\, and allow the soundscapes of vibration to support you. You’ll leave the session feeling relaxed \, centered\, and grounded and connected with you body\, mind and spirit.\nAdmission: Tickets are $37\nTicket link – https://www.eventbrite.com/e/welcome-autumn-relaxation-soundbath-chakra-bala-tickets-690661325617
URL:https://bellinghamalive.com/event2/hello-autumn-soundbath-and-chakra-balancing-session/
CATEGORIES:Wellness
ATTACH;FMTTYPE=image/jpeg:https://bellinghamalive.com/wp-content/uploads/2023/09/51sEeLaI5kL.jpg
END:VEVENT
BEGIN:VEVENT
DTSTART;TZID=America/Denver:20230923T183000
DTEND;TZID=America/Denver:20230923T183000
DTSTAMP:20260419T083114
CREATED:20230921T171216Z
LAST-MODIFIED:20230921T171216Z
UID:37977-1695493800-1695493800@bellinghamalive.com
SUMMARY:Dudestock
DESCRIPTION:We will be showing the Big Lebowski\, have costume contests\, bowling\, and of course white Russians (for our 21+ attendees only\, of course). All ages are welcome\, but the movie is rated R. Enjoy!
URL:https://bellinghamalive.com/event2/dudestock/
CATEGORIES:Film
ATTACH;FMTTYPE=image/png:https://bellinghamalive.com/wp-content/uploads/2023/09/dudestock23-300y.png
END:VEVENT
BEGIN:VEVENT
DTSTART;TZID=America/Denver:20230923T200000
DTEND;TZID=America/Denver:20230923T230000
DTSTAMP:20260419T083114
CREATED:20230831T191700Z
LAST-MODIFIED:20230831T191700Z
UID:37873-1695499200-1695510000@bellinghamalive.com
SUMMARY:HELL'S BELLES
DESCRIPTION:Hell’s Belles are back at Swinomish Casino and Lodge for a night of rock ‘n’ roll magic. This world-famous all-female band covers AC/DC’s greatest hits and was once endorsed by Angus Young (lead guitarist of AC/DC) himself. After performing all across the world including Singapore\, Japan\, Canada\, and all over the U.S.\, they’re here in our corner of the Pacific Northwest! Swinomish Casino & Lodge\,12885 Casino Dr.\, Anacortes\, 1.888.288.8883\, swinomishcasinoandlodge.com
URL:https://bellinghamalive.com/event2/hells-belles/
LOCATION:Swinomish Casino and Lodge\, 12885 Casino Dr.\, Anacortes\, WA\, 98221\, United States
END:VEVENT
BEGIN:VEVENT
DTSTART;TZID=America/Denver:20230924T000000
DTEND;TZID=America/Denver:20230928T000000
DTSTAMP:20260419T083114
CREATED:20221227T143709Z
LAST-MODIFIED:20221227T143709Z
UID:35203-1695513600-1695859200@bellinghamalive.com
SUMMARY:CREATIVE ABSTRACTION
DESCRIPTION:Stay & Play At A 5-Day Conceptual Painting Workshop \nWellness retreats are a healthful way to bring body and mind back into alignment\, and to recenter the seat of soul in the spirit of loving kindness. At Heartful Retreats\, the focus is on exploring our many selves through friendship\, writing and art making\, good food\, and mindful spirituality. In this workshop\, you’ll learn to create an original work from the ground up\, applying essential painting and composition skills\, and a design-driven methodology. What you will leave with is a finished project you can be proud of\, a better understanding of the creative process\, and meaningful friendships that add joy to life. Small class\, big impact – space is limited so book now. Specific info about this Retreat can be found at www.heartfulretreats.com/retreats or contact Yvette Neumann @360-510-9819.
URL:https://bellinghamalive.com/event2/creative-abstraction/
LOCATION:Heartful Retreats\, 8480 Thompson Beach Rd\, Anacortes\, WA\, 98221\, United States
CATEGORIES:Classes
ORGANIZER;CN="Heartful Retreats":MAILTO:yvette@heartfulretreats.com
END:VEVENT
BEGIN:VEVENT
DTSTART;TZID=America/Denver:20230924T143000
DTEND;TZID=America/Denver:20230924T143000
DTSTAMP:20260419T083114
CREATED:20230921T171322Z
LAST-MODIFIED:20230921T171322Z
UID:37982-1695565800-1695565800@bellinghamalive.com
SUMMARY:Muppet Movie
DESCRIPTION:Please join us for this special celebration of the life and legacy of Jim Henson\, creator of the Muppets\, on his birthday — September 24. Two bargain-priced Sunday showings to choose from — bring the whole family! \nIn the Muppets’ first feature film\, Kermit the Frog decides to pursue a movie career and starts a cross-country trip from Florida to California. \nAlong the way\, he meets and befriends Fozzie Bear\, Miss Piggy\, Gonzo\, and rock musicians Dr. Teeth and the Electric Mayhem. \nWhen Kermit is offered a job by Doc Hopper (Charles Durning) to advertise the fried frog legs at Doc’s restaurant chain\, Kermit turns Hopper down. However\, Hopper refuses to relent and pursues Kermit and his companions to a final showdown.
URL:https://bellinghamalive.com/event2/muppet-movie/
CATEGORIES:Film
ATTACH;FMTTYPE=image/jpeg:https://bellinghamalive.com/wp-content/uploads/2023/09/muppet-movie-caro_edited.jpg
END:VEVENT
BEGIN:VEVENT
DTSTART;VALUE=DATE:20230929
DTEND;VALUE=DATE:20231031
DTSTAMP:20260419T083114
CREATED:20230831T185900Z
LAST-MODIFIED:20230831T185900Z
UID:37868-1695945600-1698710399@bellinghamalive.com
SUMMARY:SKAGIT BIGFOOT FEST 2023
DESCRIPTION:Bigfoot enthusiasts and believers\, welcome to the second annual Skagit Bigfoot Fest! This festival is put on by a team of Skagitonians who want to support local businesses and “Keep Skagit Wild.” Tons of live music\, live comedy\, Bigfoot talks\, a beer and wine garden\, and vendor markets will keep you busy\, but keep your eyes peeled for Sasquatches– the costume contest guarantees you’ll see a few! Skagit County Fairgrounds\, 501 Taylor St.\, Mount Vernon\, skagitbigfootfest.com
URL:https://bellinghamalive.com/event2/skagit-bigfoot-fest-2023/
LOCATION:Skagit County Fairgrounds\, 501 Taylor St.\, Mount Vernon\, WA\, 98273\, United States
ORGANIZER;CN="Skagit County Fairgrounds":MAILTO:fairgrounds@co.skagit.wa.us
END:VEVENT
BEGIN:VEVENT
DTSTART;TZID=America/Denver:20230929T100000
DTEND;TZID=America/Denver:20230930T190000
DTSTAMP:20260419T083114
CREATED:20230907T164636Z
LAST-MODIFIED:20230907T164636Z
UID:37933-1695981600-1696100400@bellinghamalive.com
SUMMARY:Truck Show-Neeter House of Luxury Jewelry Shop
DESCRIPTION:Neeter House of Luxury Presents The Gabriel & Company\, Artisan of Love Trunk Show – Receive a Free Gift with an appointment\, Call 360-778-1613\nFriday September 29 (10 am to 7 pm) Saturday September 30 (11 am to 6 pm)\nNeeter House of Luxury 21- Bellwether Way\, STE 107\, On Marina Side. https://neeterhouseofluxury.com
URL:https://bellinghamalive.com/event2/truck-show-neeter-house-of-luxury-jewelry-shop/
CATEGORIES:Fashion & Shopping
ATTACH;FMTTYPE=image/png:https://bellinghamalive.com/wp-content/uploads/2023/09/Screenshot-2023-09-07-094614.png
END:VEVENT
BEGIN:VEVENT
DTSTART;VALUE=DATE:20230930
DTEND;VALUE=DATE:20231001
DTSTAMP:20260419T083114
CREATED:20230831T190816Z
LAST-MODIFIED:20230831T190816Z
UID:37870-1696032000-1696118399@bellinghamalive.com
SUMMARY:SKAGIT FARM TO PINT FEST
DESCRIPTION:Showcasing the intoxicating bounty of the Skagit Valley’s fertile lands\, Skagit Farm to Pint Fest gives you the opportunity to sample beers from many of the county’s breweries. You can chat with passionate brewers and farmers while you sample the astounding variety of beers and plenty of fresh local food\, enjoy live music\, and support our agricultural community. La Conner Marina\, 613 N. 2nd St.\, La Conner\, skagitfarmtopint.com
URL:https://bellinghamalive.com/event2/skagit-farm-to-pint-fest/
LOCATION:La Conner Marina
END:VEVENT
BEGIN:VEVENT
DTSTART;TZID=America/Denver:20230930T110000
DTEND;TZID=America/Denver:20230930T170000
DTSTAMP:20260419T083114
CREATED:20230921T171254Z
LAST-MODIFIED:20230921T171254Z
UID:37850-1696071600-1696093200@bellinghamalive.com
SUMMARY:Workshop: Drawing Exploratory (Class by Margaret Davidson)
DESCRIPTION:All experience levels welcome – workshop for ages 18 and up \nCost: $105 ($90 participation + $15 materials fee) \nWhere: In-person art class at the MoNA studio \nWhen: Saturday\, September 30 from 11:00 AM to 5:00 PM with 1 hour lunch \nAll Materials Provided \nIn this one-day workshop\, we will throw ourselves into the fun – and sometimes the surprises – of discovering the relationships between the drawing mark and the drawing surface. \nStarting with smooth paper\, then moving to slightly textured paper\, and then heavily textured paper\, and finally drawing on things that aren’t even paper at all we will copy some of the greats\, and also do something of our own. Participants can expect to make at least four finished drawings in various media.\nRSVP at: monamuseum.org/events/margaretdavidsonworkshop
URL:https://bellinghamalive.com/event2/workshop-drawing-exploratory-class-by-margaret-davidson/
CATEGORIES:Art
ATTACH;FMTTYPE=image/jpeg:https://bellinghamalive.com/wp-content/uploads/2023/08/IMG_20230713_1157431.jpg
END:VEVENT
END:VCALENDAR