BEGIN:VCALENDAR
VERSION:2.0
PRODID:-//Bellingham Alive - ECPv6.15.20//NONSGML v1.0//EN
CALSCALE:GREGORIAN
METHOD:PUBLISH
X-WR-CALNAME:Bellingham Alive
X-ORIGINAL-URL:https://bellinghamalive.com
X-WR-CALDESC:Events for Bellingham Alive
REFRESH-INTERVAL;VALUE=DURATION:PT1H
X-Robots-Tag:noindex
X-PUBLISHED-TTL:PT1H
BEGIN:VTIMEZONE
TZID:America/Denver
BEGIN:DAYLIGHT
TZOFFSETFROM:-0700
TZOFFSETTO:-0600
TZNAME:MDT
DTSTART:20220313T090000
END:DAYLIGHT
BEGIN:STANDARD
TZOFFSETFROM:-0600
TZOFFSETTO:-0700
TZNAME:MST
DTSTART:20221106T080000
END:STANDARD
BEGIN:DAYLIGHT
TZOFFSETFROM:-0700
TZOFFSETTO:-0600
TZNAME:MDT
DTSTART:20230312T090000
END:DAYLIGHT
BEGIN:STANDARD
TZOFFSETFROM:-0600
TZOFFSETTO:-0700
TZNAME:MST
DTSTART:20231105T080000
END:STANDARD
BEGIN:DAYLIGHT
TZOFFSETFROM:-0700
TZOFFSETTO:-0600
TZNAME:MDT
DTSTART:20240310T090000
END:DAYLIGHT
BEGIN:STANDARD
TZOFFSETFROM:-0600
TZOFFSETTO:-0700
TZNAME:MST
DTSTART:20241103T080000
END:STANDARD
END:VTIMEZONE
BEGIN:VEVENT
DTSTART;VALUE=DATE:20230708
DTEND;VALUE=DATE:20230710
DTSTAMP:20260419T122036
CREATED:20230418T214654Z
LAST-MODIFIED:20230418T214654Z
UID:36816-1688774400-1688947199@bellinghamalive.com
SUMMARY:Pride IN Bellingham
DESCRIPTION:Pride IN Bellingham attracts guests from all walks of life and of all ages who come together from Bellingham and across Washington State to celebrate the Pride Movement and LGBTQIA+ rights together. Located in the heart of Downtown Bellingham these events are centered around Depot Market Square and bring folks to further explore Bellingham and the Downtown District. For event details and ways to contribute go to https://prideinbellingham.org/
URL:https://bellinghamalive.com/event2/pride-in-bellingham/
CATEGORIES:Fairs & Festivals
END:VEVENT
BEGIN:VEVENT
DTSTART;TZID=America/Denver:20230708T070000
DTEND;TZID=America/Denver:20230708T140000
DTSTAMP:20260419T122036
CREATED:20230516T194018Z
LAST-MODIFIED:20230516T194018Z
UID:37032-1688799600-1688824800@bellinghamalive.com
SUMMARY:Lake Whatcom Triathlon
DESCRIPTION:Enjoy the picturesque course in this challenging but fun\, triathlon in Bellingham\, WA. Featuring Olympic and sprint-distance triathlons\, aquabike\, and kids splash ‘n dash! The Lake Whatcom Triathlon is the host for the 2023 USAT Washington State Championships for Highschool and Age Group Divisions. All ages and levels are welcome. Can be completed solo or as a relay team. Registration includes participation in guided course previews and weekly training groups leading up to the main event. After the race\, stick around for a post-race party packed with prizes and awards. This is a USAT-sanctioned event.
URL:https://bellinghamalive.com/event2/lake-whatcom-triathlon/
CATEGORIES:Sports
ATTACH;FMTTYPE=image/jpeg:https://bellinghamalive.com/wp-content/uploads/2023/05/2021.07.10.DarrenSteinbach.LakeWhatcomTriathlon.06435-scaled.jpg
END:VEVENT
BEGIN:VEVENT
DTSTART;TZID=America/Denver:20230715T100000
DTEND;TZID=America/Denver:20230715T140000
DTSTAMP:20260419T122036
CREATED:20230714T162054Z
LAST-MODIFIED:20230714T162054Z
UID:37575-1689415200-1689429600@bellinghamalive.com
SUMMARY:Vintage & Collectibles Market
DESCRIPTION:Over a dozen vendors will be selling their wares at the Lummi Island Grange Hall this Saturday\, July 15\, from 10am-2pm. Vintage goods\, collectibles\, antiques\, handcrafted items and more all await. Swing by before (or after) the Farmer’s Market for a fun morning of shopping!
URL:https://bellinghamalive.com/event2/vintage-collectibles-market/
CATEGORIES:Fairs & Festivals
END:VEVENT
BEGIN:VEVENT
DTSTART;TZID=America/Denver:20230715T100000
DTEND;TZID=America/Denver:20230715T160000
DTSTAMP:20260419T122036
CREATED:20230711T161947Z
LAST-MODIFIED:20230711T161947Z
UID:37400-1689415200-1689436800@bellinghamalive.com
SUMMARY:Heritage Flight Museum's July Fly Day
DESCRIPTION:HFM’s July Fly Day celebrates the spirit of service that inspires American veterans to commit their lives to the defense of our country. See and hear the incredible P-51 Mustang with its legendary Merlin v1650 engine. Enjoy Apollo 8 exhibits and kids’ activities\, grab a meal at the food truck and enjoy a fun family day out at Skagit Regional Airport. Flying is subject to unexpected change; check heritageflight.org for the latest information or call at least one day ahead of the event: 360-424-5151 extension 107. Admission: $12/Adults\, $10/Seniors\, $5/Military and kids 5-17\, FREE Members and kids under 5.
URL:https://bellinghamalive.com/event2/heritage-flight-museums-july-fly-day/
CATEGORIES:Museum
ATTACH;FMTTYPE=image/jpeg:https://bellinghamalive.com/wp-content/uploads/2023/06/230522_FDA_GoSkagit_Update_July.jpg
END:VEVENT
BEGIN:VEVENT
DTSTART;TZID=America/Denver:20230715T110000
DTEND;TZID=America/Denver:20230715T160000
DTSTAMP:20260419T122036
CREATED:20230516T194246Z
LAST-MODIFIED:20230516T194246Z
UID:37117-1689418800-1689436800@bellinghamalive.com
SUMMARY:Orcas Island Cider and Mead Festival
DESCRIPTION:Don’t miss the Orcas Island Cider and Mead festival happening July 15th from 11am to 4pm in Eastsound Village Green! Get ready for some fun in the sun\, great music\, and tasty sips. There will be cider and mead sampling from multiple regional producers\, live music\, and the farmer’s market! Some intriguing cider flavors include watermelon\, blackberry\, juicy peach\, grapefruit gimlet and ginger and lime just to name a few! Some mouthwatering meads include meadjito\, chamomile\, blackberry current\, a juniper/pine blend\, a pepper mead and even a chocolate berry mead and many more exciting flavors! Get your tickets here: https://tinyurl.com/OICiderMeadtix Proceeds benefit the Orcas Senior Center. Also\, for more on-going information follow us on Facebook at Orcas Island Cider and Mead Festival or at www.orcasislandciderfest.org
URL:https://bellinghamalive.com/event2/orcas-island-cider-and-mead-festival/
LOCATION:Eastsound Village Green
CATEGORIES:Fairs & Festivals
ATTACH;FMTTYPE=image/png:https://bellinghamalive.com/wp-content/uploads/2023/05/2023-CM-Fest-Flyer.png
END:VEVENT
BEGIN:VEVENT
DTSTART;TZID=America/Denver:20230715T200000
DTEND;TZID=America/Denver:20230715T220000
DTSTAMP:20260419T122036
CREATED:20230711T172851Z
LAST-MODIFIED:20230711T172851Z
UID:37514-1689451200-1689458400@bellinghamalive.com
SUMMARY:Frida Flamenca
DESCRIPTION:Celebrate the incredible life of Mexican painter and activist Magdalena Carmen Frida Kahlo Calderón. From the pages of Frida’s diary\, artist Deseo Carmin brings this beautiful story to life with Flamenco dance\, live music\, song and special performances!
URL:https://bellinghamalive.com/event2/frida-flamenca/
CATEGORIES:Dance
END:VEVENT
BEGIN:VEVENT
DTSTART;TZID=America/Denver:20230716T100000
DTEND;TZID=America/Denver:20230716T150000
DTSTAMP:20260419T122036
CREATED:20230711T162011Z
LAST-MODIFIED:20230711T162011Z
UID:37404-1689501600-1689519600@bellinghamalive.com
SUMMARY:12th Annual VVA Car Show
DESCRIPTION:Join Chapter 165 of the Vietnam Veterans Association in their annual Car Show honoring Ron Davenport. All funds raised are donated to Whatcom County Veterans and BTC. \nSunday\, July 16th\, 2023\n10AM-3PM\nBarkley Village\n2211 Rimland Drive\nBellingham\, Washington\nhttps://www.vva165.org/index.php/car-show\nNo cost for attendees. $20 to submit your car. There will be food vendors\, Car Show T-Shirts\, Veteran’s hats\, 40 trophies awarded\, artwork displays\, a raffle\, and veterans to meet!\nFor more information call David Loomis at 360-715-1489.
URL:https://bellinghamalive.com/event2/12th-annual-vva-car-show/
CATEGORIES:Charity Events
ATTACH;FMTTYPE=image/jpeg:https://bellinghamalive.com/wp-content/uploads/2023/06/VVA-Car-Show.jpg
END:VEVENT
BEGIN:VEVENT
DTSTART;TZID=America/Denver:20230721T200000
DTEND;TZID=America/Denver:20230721T220000
DTSTAMP:20260419T122036
CREATED:20230711T174507Z
LAST-MODIFIED:20230711T174507Z
UID:37516-1689969600-1689976800@bellinghamalive.com
SUMMARY:Cabaret from Berlin
DESCRIPTION:Come join our fabulous Fräulein Kabarett -Manuela Horn\, as she cracks her whip & welcomes in all little kittens into her wild and raucous den of varieté\, circus\, burlesque and mischievous mayhem! 21+ Event
URL:https://bellinghamalive.com/event2/cabaret-from-berlin/
CATEGORIES:Nightlife
ATTACH;FMTTYPE=image/jpeg:https://bellinghamalive.com/wp-content/uploads/2023/07/IMG_1869.jpeg
END:VEVENT
BEGIN:VEVENT
DTSTART;TZID=America/Denver:20230722T070000
DTEND;TZID=America/Denver:20230722T210000
DTSTAMP:20260419T122036
CREATED:20230117T185640Z
LAST-MODIFIED:20230117T185640Z
UID:35699-1690009200-1690059600@bellinghamalive.com
SUMMARY:Tour de Whatcom
DESCRIPTION:Enjoy all that the Northwest has to offer in one beautiful ride! Mt. Baker\, Lake Whatcom\, valleys\, rivers\, farmland\, and beaches. With rides varying from 22 miles to 100\, you’ll find a great ride for every member of the family. A portion of proceeds benefit local charities\, ride for a great cause! \nPost-ride after party at Boundary Bay Brewery for the Tour de Whatcom. Meet other riders and share stories of your day! Each rider receives apiece of free Tour de Whatcom swag. The Beer Garden is open for all ages until 5 pm. \n$45 – $85\, depending on length of ride and time of registration (early bird discounts and family rates available\, more info on our website)\nCENTURY ROUTE (100 MILES): Early Bird – $70/85\, Walk-up – $85\nMETRIC CENTURY ROUTE (62 MILES): Early Bird – $60/70\, Walk-up – $75\n48 MILE ROUTE: Early Bird – $55/65\, Walk-up: $70\n22 MILE ROUTE: Early Bird – $45/55\, Walk-up: $60\nTandem Riders for all rides except Family Rates: (+$20)\nFAMILY RATE (3-4 Riders): Early Bird – $160/210\, Walk-up – $215\nFAMILY RATE (5-6 Riders): Early Bird – $190/240\, Walk-up – $245 \nThere is not a minimum age for riders. However\, bike trailers and tag along systems for pulling children (eg. Trail-a-bike\, Co-pilot) are not permitted. It is up to each parent to determine their child’s ability to safely complete the course. \nVisit https://www.tourdewhatcom.com for more information.
URL:https://bellinghamalive.com/event2/tour-de-whatcom-3/
CATEGORIES:Sports
ORGANIZER;CN="Tour de Whatcom":MAILTO:info@tourdewhatcom.com
END:VEVENT
BEGIN:VEVENT
DTSTART;TZID=America/Denver:20230728T190000
DTEND;TZID=America/Denver:20230728T210000
DTSTAMP:20260419T122036
CREATED:20230726T201716Z
LAST-MODIFIED:20230726T201716Z
UID:37618-1690570800-1690578000@bellinghamalive.com
SUMMARY:WINE SCHOOL!
DESCRIPTION:It’s time to get schooled about wine! Join us this Friday at 7pm for a guided tasting of some of our favorite wines from our selection. Whether you’re new to natural wine or drink nothing but\, this lineup will make you so happy. $25 for five tastes and some good stories. See you Friday!\nGarden Path Fermentation: Great Northern Bottle Shop & Lounge\n1319 Commercial Street\nBellingham\, WA\n360-503-8956\ngardenpathwa.com
URL:https://bellinghamalive.com/event2/wine-school/
CATEGORIES:Food & Drink
END:VEVENT
BEGIN:VEVENT
DTSTART;TZID=America/Denver:20230730T130000
DTEND;TZID=America/Denver:20230730T150000
DTSTAMP:20260419T122036
CREATED:20230711T164947Z
LAST-MODIFIED:20230711T164947Z
UID:37433-1690722000-1690729200@bellinghamalive.com
SUMMARY:Interfaith Coalition Summer Shindig
DESCRIPTION:Grab your friends and come hang out with us at the Boundary Bay Brewery Beer Garden on July 30\, 1-3PM. Live music\, a 24-hour online auction\, cornhole\, and more is in store at our Summer Shindig fundraiser for families! Stay the entire time or just pop in to catch a song or two by one of Bellingham’s favorite bands\, The Naughty Blokes! \nOur 24-hour online auction will begin July 29 and entire during our Summer Shindig!* \nTickets are $10 and can be purchased in advance or at the door. Purchase your ticket here: https://bit.ly/InterfaithCoalitionSummerShindig2023 \n*You can still bid in the online auction if you can’t make it to the event!
URL:https://bellinghamalive.com/event2/interfaith-coalition-summer-shindig/
CATEGORIES:Concert
ATTACH;FMTTYPE=image/png:https://bellinghamalive.com/wp-content/uploads/2023/06/Interfaith-Coalition-Summer-Shindig_Instagram.png
END:VEVENT
END:VCALENDAR