BEGIN:VCALENDAR
VERSION:2.0
PRODID:-//Bellingham Alive - ECPv6.15.20//NONSGML v1.0//EN
CALSCALE:GREGORIAN
METHOD:PUBLISH
X-WR-CALNAME:Bellingham Alive
X-ORIGINAL-URL:https://bellinghamalive.com
X-WR-CALDESC:Events for Bellingham Alive
REFRESH-INTERVAL;VALUE=DURATION:PT1H
X-Robots-Tag:noindex
X-PUBLISHED-TTL:PT1H
BEGIN:VTIMEZONE
TZID:UTC
BEGIN:STANDARD
TZOFFSETFROM:+0000
TZOFFSETTO:+0000
TZNAME:UTC
DTSTART:20180101T000000
END:STANDARD
END:VTIMEZONE
BEGIN:VEVENT
DTSTART;TZID=UTC:20190822T094500
DTEND;TZID=UTC:20190822T130000
DTSTAMP:20260423T135816
CREATED:20190409T033625Z
LAST-MODIFIED:20190409T033625Z
UID:24073-1566467100-1566478800@bellinghamalive.com
SUMMARY:Schooner Zodiac Brunch on the Bay Sail
DESCRIPTION:Take Sunday brunch to the next level by enjoying it from the deck of a classic 1920’s sailing yacht! Join the crew of the Zodiac in helping to raise the ship’s sails before enjoying delicious mimosa from the ship’s bar. The Zodiac will glide throughout Bellingham bay as our ship’s cook prepares and serves up a delicious brunch buffet menu original to each cruise! \nAdults: $69\nChildren: $49\nBoarding Time: 9:45 AM\nSail: 10:00 AM to 1:00 PM \nwww.schoonerzodiac.com/cruises
URL:https://bellinghamalive.com/event2/schooner-zodiac-brunch-on-the-bay-sail/
LOCATION:Bellingham Cruise Terminal\, 355 Harris Ave.\, Bellingham\, WA\, 98225\, United States
CATEGORIES:Food & Drink
END:VEVENT
BEGIN:VEVENT
DTSTART;TZID=UTC:20190821T180000
DTEND;TZID=UTC:20190821T190000
DTSTAMP:20260423T135816
CREATED:20190814T045654Z
LAST-MODIFIED:20190814T045654Z
UID:26517-1566410400-1566414000@bellinghamalive.com
SUMMARY:Empowering NSEA Solar Workshop
DESCRIPTION:Learn how you can reduce your energy bill and support an amazing non-profit in our community! \nAttend a FREE solar workshop and install solar at your home before tax incentives/rebates run out. For every system installed through this program\, the Nooksack Salmon Enhancement Association will receive one donated solar panel at their Bellingham headquarters. \nThis workshop is Wednesday\, August 21st from 6:00-7:00pm. Register at www.nsea.solar or 360-746-0859. Walk-ins welcome!
URL:https://bellinghamalive.com/event2/empowering-nsea-solar-workshop/
LOCATION:Nooksack Salmon Enhancement Association\, WA\, United States
CATEGORIES:Talk/Lecture
END:VEVENT
BEGIN:VEVENT
DTSTART;TZID=UTC:20190818T190000
DTEND;TZID=UTC:20190818T210000
DTSTAMP:20260423T135816
CREATED:20190814T032640Z
LAST-MODIFIED:20190814T032640Z
UID:26194-1566154800-1566162000@bellinghamalive.com
SUMMARY:Week in Review Live: Bellingham
DESCRIPTION:Every each week KUOW listeners tune in to Week in Review to hear host Bill Radke and guests makes sense of the week’s news. This summer KUOW is taking the show down the Sound\, recording in front of live audiences in Bellingham\, Edmonds and Olympia. The tour will culminate with a “Year in Review” show in December at the Cornish Playhouse in Seattle. \nOn August 18th the show will record live at the Mt. Baker Theatre in Bellingham from 7:00pm-9:00pm. The show is free and open to the public\, but an RSVP is required. Details at KUOW.org/events. \nWeek in Review Host\, Bill Radke; multimedia journalist\, Joni Balter; Host of Live Wire! Luke Burbank\, and author and tech entrepreneur\, Antonio Garcia Martinez. Come have a drink\, unpack the week’s news with Bill Radke and guests\, and experience the making of your favorite radio program and join the panelists for a post-show mixer. \nKUOW is committed to providing access and reasonable accommodation for individuals with disabilities at our events. To request disability accommodations\, please email events@kuow.org or call us at 206.221.7159 at least 10 days in advance of the event.\nKUOW is a founding NPR member station\, bringing sound stories and sound voices to the Puget Sound Region and beyond since 1952. With a weekly audience of over 500\,000 listeners and over 50\,000 contributing members\, KUOW seeks to create and serve a more informed public. Tune in at 94.9 FM\, visit KUOW.org\, or tell your smart speaker to “Play KUOW.”
URL:https://bellinghamalive.com/event2/week-in-review-live-bellingham/
LOCATION:Mount Baker Theatre\, 104 N Commercial St\, Bellingham
CATEGORIES:Talk/Lecture
END:VEVENT
BEGIN:VEVENT
DTSTART;TZID=UTC:20190818T094500
DTEND;TZID=UTC:20190818T130000
DTSTAMP:20260423T135816
CREATED:20190409T033712Z
LAST-MODIFIED:20190409T033712Z
UID:24071-1566121500-1566133200@bellinghamalive.com
SUMMARY:Schooner Zodiac Brunch on the Bay Sail
DESCRIPTION:Take Sunday brunch to the next level by enjoying it from the deck of a classic 1920’s sailing yacht! Join the crew of the Zodiac in helping to raise the ship’s sails before enjoying delicious mimosa from the ship’s bar. The Zodiac will glide throughout Bellingham bay as our ship’s cook prepares and serves up a delicious brunch buffet menu original to each cruise! \nAdults: $69\nChildren: $49\nBoarding Time: 9:45 AM\nSail: 10:00 AM to 1:00 PM \nwww.schoonerzodiac.com/cruises
URL:https://bellinghamalive.com/event2/schooner-zodiac-brunch-on-the-bay-sail-2/
LOCATION:Bellingham Cruise Terminal\, 355 Harris Ave.\, Bellingham\, WA\, 98225\, United States
CATEGORIES:Food & Drink
END:VEVENT
BEGIN:VEVENT
DTSTART;TZID=UTC:20190818T000000
DTEND;TZID=UTC:20191006T000000
DTSTAMP:20260423T135816
CREATED:20190814T033050Z
LAST-MODIFIED:20190814T033050Z
UID:26371-1566086400-1570320000@bellinghamalive.com
SUMMARY:Bellingham Roller Betties:  Join Booty Camp!
DESCRIPTION:Interested in being a Skater or Official for the Bellingham Roller Betties?! Come to our Booty Camp – NO skating experience needed!! We will teach you everything we know\, and whip you into shape for our Season 13! \nFees & Costs:\nRegistration Fee: $40 in cash\, check or debit.\nRink Fees: $5 per week. Lynden Skateway accepts cash or cards.\nSkate Rental Fee: $2 per week. Lynden Skateway accepts cash or cards. \nRink & Rental Fees are separate from your registration fee\, and go directly to Lynden Skateway\, not the Betties. \nMEET & GREET\nSunday\, August 11\, 5:00 – 7:00 PM\nCommunity Foods Co-op Connections Building Classroom\n405 E. Holly Street\, Bellingham \nWhat to bring: just yourself! Meet current Betties and members of the Derby Enforcement Agencey (DEA)\, learn about time commitments\, what to expect at booty camp\, gear and insurance requirements and ask all of your questions to get you ready for Booty Camp! \nDERBY GEAR 101\nSunday\, August 18\, 3:00 – 5:00 PM\nUnknown Board Shop\n105 Grand Ave\, Bellingham \nWhat to bring: You don’t have to bring anything\, but if you want to buy or order gear\, bring your money! Zac and members of the BRB Training Committee will go over the different pieces of equipment and help you try on sizes and get yourself ready for Booty Camp. Get the Betties discount from one of our favorite sponsors! \nBOOTY CAMP DATES & TIMES\nLynden Skateway\n421 Judson Street Aly\, Lynden \nSundays: 5:00 – 8:00 PM\nAugust 25\nSeptember 8\nSeptember 15\nSeptember 22\nSeptember 29\nOctober 6 \nAdditional Questions? \nPlease feel free to email training@bellinghamrollerbetties.com for more info!
URL:https://bellinghamalive.com/event2/bellingham-roller-betties-join-booty-camp/
LOCATION:Lynden Skateway\, 421 Judson Street Aly\, Lynden
CATEGORIES:Sports
END:VEVENT
BEGIN:VEVENT
DTSTART;TZID=UTC:20190818T000000
DTEND;TZID=UTC:20190929T000000
DTSTAMP:20260423T135816
CREATED:20190814T040138Z
LAST-MODIFIED:20190814T040138Z
UID:26499-1566086400-1569715200@bellinghamalive.com
SUMMARY:The Power of Small Things
DESCRIPTION:64 Artists • 99 Artworks • All Artwork Available for Purchase \nThis national juried art exhibition celebrates the combined impact of small things – from discovering profound beauty in small moments to embracing small changes that lead to a better world. All artworks are 10×10” or smaller. \nFor the first day of the exhibition\, August 17\, the gallery will open at 5pm with the opening reception. For the remainder of the exhibition\, the gallery will be open Thursday–Sunday\, 11am–5pm.
URL:https://bellinghamalive.com/event2/the-power-of-small-things/
LOCATION:Port Angeles Fine Art Center\, 1203 E Lauridsen Blvd\, Port Angeles
CATEGORIES:Art
END:VEVENT
BEGIN:VEVENT
DTSTART;TZID=UTC:20190817T170000
DTEND;TZID=UTC:20190817T170000
DTSTAMP:20260423T135816
CREATED:20190814T035947Z
LAST-MODIFIED:20190814T035947Z
UID:26497-1566061200-1566061200@bellinghamalive.com
SUMMARY:Opening Reception: The Power of Small Things
DESCRIPTION:64 Artists • 99 Artworks • All Artwork Available for Purchase \nThis national juried art exhibition celebrates the combined impact of small things – from discovering profound beauty in small moments to embracing small changes that lead to a better world. All artworks are 10×10” or smaller. \nFor the first day of the exhibition\, August 17\, the gallery will open at 5pm with the opening reception. For the remainder of the exhibition\, the gallery will be open Thursday–Sunday\, 11am–5pm.
URL:https://bellinghamalive.com/event2/opening-reception-the-power-of-small-things/
LOCATION:Port Angeles Fine Art Center\, 1203 E Lauridsen Blvd\, Port Angeles
CATEGORIES:Art
END:VEVENT
BEGIN:VEVENT
DTSTART;TZID=UTC:20190817T113000
DTEND;TZID=UTC:20190817T153000
DTSTAMP:20260423T135816
CREATED:20190814T030824Z
LAST-MODIFIED:20190814T030824Z
UID:26052-1566041400-1566055800@bellinghamalive.com
SUMMARY:Pottery Arists at WAM
DESCRIPTION:The Whatcom Art Market Gallery features a new pottery artist on Saturday\, August 17 from 11:30 to 3:30. Deanna Brown of Elemental Walk Pottery\, creates her pottery pieces by hand and wheel and will be happy to explain her techniques to you when you visit the gallery at 1103 11th St. in Fairhaven\, Bellingham. Open daily from 10 to 6. 360-738-8564 whatcomartmarket.org.
URL:https://bellinghamalive.com/event2/pottery-arists-at-wam/
CATEGORIES:Art
END:VEVENT
BEGIN:VEVENT
DTSTART;TZID=UTC:20190817T110000
DTEND;TZID=UTC:20190817T140000
DTSTAMP:20260423T135816
CREATED:20190716T045940Z
LAST-MODIFIED:20190716T045940Z
UID:25943-1566039600-1566050400@bellinghamalive.com
SUMMARY:Skagit Artists’ Educational Presentation
DESCRIPTION:Skagit Artists invites all who are interested to a free presentation by the Hadrian Stone Design and Art Gallery team. Proprietor and artist\, Houston Foist\, along with apprentice\, Ben Vanderwerff\, will discuss his beautiful and functional art created from glass fiber reinforced concrete. Hadrian Gallery Director\, Jody Thompson\, will speak about artists taking that pivotal step into marketing their work\, being prepared to show in an art gallery space\, and will present the fundamentals of handling and displaying artwork. There will be a question and answer period. \nsedro-woolley.chambermaster.com
URL:https://bellinghamalive.com/event2/skagit-artists-educational-presentation/
CATEGORIES:Art
END:VEVENT
BEGIN:VEVENT
DTSTART;TZID=UTC:20190817T100000
DTEND;TZID=UTC:20190818T170000
DTSTAMP:20260423T135816
CREATED:20190716T043813Z
LAST-MODIFIED:20190716T043813Z
UID:25934-1566036000-1566147600@bellinghamalive.com
SUMMARY:FRESH PAINT: Festival of Artists at Work
DESCRIPTION:FRESH PAINT: Festival of Artists at Work\nAugust 17 & 18\, 10am-5pm\, Port of Everett South Marina\nFree Admission\nOn-site Parking $2 / Free Shuttle from Schack Art Center to the Marina\nPurchase art fresh off the easel during the Schack’s summer art festival. Enjoy glassblowing and live music while watching artists at work as you stroll along the scenic Everett waterfront. Search Jetty Island for a blown glass float during the Fresh Paint Float Find sponsored by Rodland Toyota.\n425-259-5050 or schack.org/events for more info.\nhttps://www.schack.org/events/fresh-paint/
URL:https://bellinghamalive.com/event2/fresh-paint-festival-of-artists-at-work/
CATEGORIES:Fairs & Festivals
END:VEVENT
END:VCALENDAR