BEGIN:VCALENDAR
VERSION:2.0
PRODID:-//Bellingham Alive - ECPv6.15.20//NONSGML v1.0//EN
CALSCALE:GREGORIAN
METHOD:PUBLISH
X-ORIGINAL-URL:https://bellinghamalive.com
X-WR-CALDESC:Events for Bellingham Alive
REFRESH-INTERVAL;VALUE=DURATION:PT1H
X-Robots-Tag:noindex
X-PUBLISHED-TTL:PT1H
BEGIN:VTIMEZONE
TZID:America/Denver
BEGIN:DAYLIGHT
TZOFFSETFROM:-0700
TZOFFSETTO:-0600
TZNAME:MDT
DTSTART:20230312T090000
END:DAYLIGHT
BEGIN:STANDARD
TZOFFSETFROM:-0600
TZOFFSETTO:-0700
TZNAME:MST
DTSTART:20231105T080000
END:STANDARD
BEGIN:DAYLIGHT
TZOFFSETFROM:-0700
TZOFFSETTO:-0600
TZNAME:MDT
DTSTART:20240310T090000
END:DAYLIGHT
BEGIN:STANDARD
TZOFFSETFROM:-0600
TZOFFSETTO:-0700
TZNAME:MST
DTSTART:20241103T080000
END:STANDARD
BEGIN:DAYLIGHT
TZOFFSETFROM:-0700
TZOFFSETTO:-0600
TZNAME:MDT
DTSTART:20250309T090000
END:DAYLIGHT
BEGIN:STANDARD
TZOFFSETFROM:-0600
TZOFFSETTO:-0700
TZNAME:MST
DTSTART:20251102T080000
END:STANDARD
BEGIN:DAYLIGHT
TZOFFSETFROM:-0700
TZOFFSETTO:-0600
TZNAME:MDT
DTSTART:20260308T090000
END:DAYLIGHT
BEGIN:STANDARD
TZOFFSETFROM:-0600
TZOFFSETTO:-0700
TZNAME:MST
DTSTART:20261101T080000
END:STANDARD
BEGIN:DAYLIGHT
TZOFFSETFROM:-0700
TZOFFSETTO:-0600
TZNAME:MDT
DTSTART:20270314T090000
END:DAYLIGHT
BEGIN:STANDARD
TZOFFSETFROM:-0600
TZOFFSETTO:-0700
TZNAME:MST
DTSTART:20271107T080000
END:STANDARD
END:VTIMEZONE
BEGIN:VEVENT
DTSTART;TZID=America/Denver:20241206T120000
DTEND;TZID=America/Denver:20241206T210000
DTSTAMP:20260420T033003
CREATED:20241120T162100Z
LAST-MODIFIED:20241120T162100Z
UID:42575-1733486400-1733518800@bellinghamalive.com
SUMMARY:December FREE FIRST FRIDAY!
DESCRIPTION:Winters are cold\, so get warm with textile crafts! In December\, join us as we embark on a cozy adventure and explore the world of fiber arts with local makers and creatives. As always\, our activities are available to crafters of all ages! Visit the Whatcom Museum website for all the details. \nSPECIAL STORYTIME WITH AUTHOR STEFANIE FIELDS\n10:30 am \nBABY & TODDLER MUSIC CLASSES AT THE FIG WITH TABER DARLAND\n11 – 11:30 am & 11:30 am – noon \nSHIBORI TIE-DYEING WITH SERAFIMA ZAVOROTNY AND FIONA FERGUSON\n12:30 – 2:30 pm \nWOVEN COASTERS WITH NAOMI WHITING\n1 – 4 pm \nSPINNING DEMONSTRATION WITH HEATHER SEEVERS\n2 – 4 pm \nWET FELTING IN THE FIG WITH JANIE PEMBLE\n3 – 5 pm \nDIY DRYER BALLS WITH NORTHWEST YARNS\n4 – 6 pm \nBELLINGHAM SYMPHONY ORCHESTRA: MEET A MUSICIAN\n4 – 4:30 pm \nKNIT NIGHT WITH MONK SLIPPERS JAZZ QUARTET\n5 – 7 pm \nWebsite: https://www.whatcommuseum.org/free-first-friday/#december
URL:https://bellinghamalive.com/event2/december-free-first-friday/
CATEGORIES:Family Friendly
ATTACH;FMTTYPE=image/png:https://bellinghamalive.com/wp-content/uploads/2024/11/DEC_FFF_7.5-ratio.png
END:VEVENT
BEGIN:VEVENT
DTSTART;TZID=America/Denver:20241206T130000
DTEND;TZID=America/Denver:20260206T150000
DTSTAMP:20260420T033003
CREATED:20241125T162927Z
LAST-MODIFIED:20250702T065745Z
UID:42657-1733490000-1770390000@bellinghamalive.com
SUMMARY:Free Fridays in the Open Art Studio!
DESCRIPTION:From 1–3 PM on (almost) every Friday\, stop by Make.Shift’s Open Art Studio and craft whatever you’d like with the supplies and tools we have available (including vintage magazines and collage materials\, paint of all kinds\, pens\, pencils\, yarn\, embroidery thread\, and fabric)! Refreshments available. \nFor accessibility information\, visit makeshiftartspace.org/accessibility. \nAlways all-ages! \nMake.Shift Art Space\n306 Flora St.\nBellingham\, WA 98225
URL:https://bellinghamalive.com/event2/free-fridays-in-the-open-art-studio/
CATEGORIES:Art
ATTACH;FMTTYPE=image/png:https://bellinghamalive.com/wp-content/uploads/2024/11/Free-Fridays.png
END:VEVENT
BEGIN:VEVENT
DTSTART;TZID=America/Denver:20241206T170000
DTEND;TZID=America/Denver:20241206T210000
DTSTAMP:20260420T033003
CREATED:20241125T162857Z
LAST-MODIFIED:20241125T162857Z
UID:42654-1733504400-1733518800@bellinghamalive.com
SUMMARY:FABulously Festive First Friday
DESCRIPTION:FABulous friends\, it’s time for our third annual holiday market! Join us at December’s First Friday Art Walk for art\, gift ideas\, a new gallery show\, open studios\, and more! Enjoy hot apple cider and adult refreshments\, snap your picture in the photo booth\, and give the Naughty or Nice Wheel a spin!\nThe FAB Studios are multiple artist studios under one roof – our artists and artisans are creating on both the 1st and 2nd floors. For this night we’ll also have multiple guest artists!\nFriday\, December 6th from 5-9pm\n314 E Holly St\, Downtown Bellingham.
URL:https://bellinghamalive.com/event2/fabulously-festive-first-friday/
CATEGORIES:Art
ATTACH;FMTTYPE=image/jpeg:https://bellinghamalive.com/wp-content/uploads/2024/11/FAB-Festive-Handout-Digital.jpg
END:VEVENT
BEGIN:VEVENT
DTSTART;TZID=America/Denver:20241206T190000
DTEND;TZID=America/Denver:20241207T203000
DTSTAMP:20260420T033003
CREATED:20241126T170040Z
LAST-MODIFIED:20241126T170040Z
UID:42680-1733511600-1733603400@bellinghamalive.com
SUMMARY:Shrek the Musical
DESCRIPTION:Once upon a time\, in a far away swamp\, there lived an ogre named… Shrek! Based on the DreamWorks classic\, this musical tells the tale of an unlikely hero who finds himself on a life-changing journey alongside a wisecracking Donkey and a feisty princess who resists her rescue. Performed by BAAY students ages 11-12.
URL:https://bellinghamalive.com/event2/shrek-the-musical-3/
CATEGORIES:Theater
ATTACH;FMTTYPE=image/jpeg:https://bellinghamalive.com/wp-content/uploads/2024/11/BAAY-Shrek.jpg
END:VEVENT
BEGIN:VEVENT
DTSTART;TZID=America/Denver:20241206T193000
DTEND;TZID=America/Denver:20241221T220000
DTSTAMP:20260420T033003
CREATED:20241108T165351Z
LAST-MODIFIED:20241108T165351Z
UID:42497-1733513400-1734818400@bellinghamalive.com
SUMMARY:The Secret Garden\, The Musical
DESCRIPTION:Theater Arts Guild presents the beloved classic and Tony Award-winning production The Secret Garden\, The Musical\, directed by Dr. Terri Brown and music directed by David Brown. \nStep into a world where magic blooms and hearts heal. This isn’t just a show; it’s a journey of forgiveness and renewal\, set to enchant audiences like never before. \nPrepare to be whisked away to a place of wonder\, beauty\, and the powerful magic of nature. The Secret Garden\, The Musical is based on Frances Hodgson Burnett’s timeless novel and reimagined with breathtaking music and captivating narrative. It’s more than a musical; it’s a place where lost things are found\, and dreams come to life.\nLincoln Theatre\, Mount Vernon WA\nBox Office 360-336-8955\nlincolntheatre.org\nDecember 6 – 21\, 2024\ntickets: $20 – $34 applicable fees.\nDISCOUNT NIGHT: Thursday\, December 12: $20 all seats + applicable fees.\n712 South 1st Street\, Mount Vernon WA
URL:https://bellinghamalive.com/event2/the-secret-garden-the-musical/
CATEGORIES:Theater
END:VEVENT
BEGIN:VEVENT
DTSTART;TZID=America/Denver:20241207T120000
DTEND;TZID=America/Denver:20241207T160000
DTSTAMP:20260420T033003
CREATED:20241120T161516Z
LAST-MODIFIED:20241120T161516Z
UID:42560-1733572800-1733587200@bellinghamalive.com
SUMMARY:Handmade Holidays: Taylor Swift Bracelets
DESCRIPTION:Craving a cozy holiday craft party? Join us in the Old City Hall’s Rotunda Room to create crafts that celebrate the season and make the perfect gifts. We’ll have a different activity each week with versions appropriate for our youngest visitors and seasoned crafters alike. Free fun for the whole family! \nOn December 7\, we’re calling all Swifties to create friendship bracelets at the museum. Use beaded letters to create a custom bracelet for a friend or build a tradeable tribute to your favorite pop star. \nCrafts are free! Admission to Old City Hall is by donation through the month of December.
URL:https://bellinghamalive.com/event2/handmade-holidays-taylor-swift-bracelets/
CATEGORIES:Family Friendly
ATTACH;FMTTYPE=image/png:https://bellinghamalive.com/wp-content/uploads/2024/11/DOCH_7.5-Ratio.png
END:VEVENT
BEGIN:VEVENT
DTSTART;TZID=America/Denver:20241207T140000
DTEND;TZID=America/Denver:20241208T153000
DTSTAMP:20260420T033003
CREATED:20241126T170045Z
LAST-MODIFIED:20241126T170045Z
UID:42684-1733580000-1733671800@bellinghamalive.com
SUMMARY:Shrek the Musical
DESCRIPTION:Once upon a time\, in a far away swamp\, there lived an ogre named… Shrek! Based on the DreamWorks classic\, this musical tells the tale of an unlikely hero who finds himself on a life-changing journey alongside a wisecracking Donkey and a feisty princess who resists her rescue. Performed by BAAY students ages 11-12.
URL:https://bellinghamalive.com/event2/shrek-the-musical-4/
CATEGORIES:Theater
END:VEVENT
BEGIN:VEVENT
DTSTART;TZID=America/Denver:20241207T140000
DTEND;TZID=America/Denver:20241208T153000
DTSTAMP:20260420T033003
CREATED:20241126T170105Z
LAST-MODIFIED:20241126T170105Z
UID:42688-1733580000-1733671800@bellinghamalive.com
SUMMARY:Shrek the Musical
DESCRIPTION:Once upon a time\, in a far away swamp\, there lived an ogre named… Shrek! Based on the DreamWorks classic\, this musical tells the tale of an unlikely hero who finds himself on a life-changing journey alongside a wisecracking Donkey and a feisty princess who resists her rescue. Performed by BAAY students ages 11-12.
URL:https://bellinghamalive.com/event2/shrek-the-musical-6/
CATEGORIES:Theater
END:VEVENT
BEGIN:VEVENT
DTSTART;TZID=America/Denver:20241207T181500
DTEND;TZID=America/Denver:20241209T171500
DTSTAMP:20260420T033003
CREATED:20241203T160846Z
LAST-MODIFIED:20241203T160846Z
UID:42729-1733595300-1733764500@bellinghamalive.com
SUMMARY:December Drop In Childcare Weekend!
DESCRIPTION:Drop in childcare weekend at Peace Centers! Need to attend a class\, get some cleaning done\, go shopping? We are open all weekend for you. Experienced and background checked teachers\, small ratio. Ages 6 months-11 years. See QR code for details and registration.
URL:https://bellinghamalive.com/event2/december-drop-in-childcare-weekend/
CATEGORIES:Family Friendly
ATTACH;FMTTYPE=image/jpeg:https://bellinghamalive.com/wp-content/uploads/2024/12/dropincarewinterfeast2.jpg
END:VEVENT
BEGIN:VEVENT
DTSTART;TZID=America/Denver:20241208T150000
DTEND;TZID=America/Denver:20241208T160000
DTSTAMP:20260420T033003
CREATED:20241120T161900Z
LAST-MODIFIED:20241120T161900Z
UID:42569-1733670000-1733673600@bellinghamalive.com
SUMMARY:Holiday Ukulele Concert
DESCRIPTION:Enjoy the splendor of Old City Hall\, festooned in its holiday finest\, while celebrating the songs of the season with the Community Ukulele Players (CUP). \nAdmission to Old City Hall is by donation through the month of December.
URL:https://bellinghamalive.com/event2/holiday-ukulele-concert-2/
CATEGORIES:Concert
ATTACH;FMTTYPE=image/png:https://bellinghamalive.com/wp-content/uploads/2024/11/DOCH_7.5-Ratio3.png
END:VEVENT
BEGIN:VEVENT
DTSTART;TZID=America/Denver:20241211T190000
DTEND;TZID=America/Denver:20241211T210000
DTSTAMP:20260420T033003
CREATED:20241008T190357Z
LAST-MODIFIED:20241008T190357Z
UID:42201-1733943600-1733950800@bellinghamalive.com
SUMMARY:Comedy Night Benefit Show
DESCRIPTION:Press pause on the holiday rush and join us for an evening of joy and laughter while supporting Road2Home.\nGet ready for a night full of laughter at our Comedy Night event! Join us as we bring together hilarious comedians for a great cause. All proceeds will go to Road2Home to support the homeless community.\nCome and enjoy a fun evening while making a difference in the lives of those in need. Don’t miss out on this opportunity to laugh and give back! Tickets are $40 and can be purchased at: https://www.eventbrite.com/e/comedy-night-to-benefit-road2home-tickets-1030124208237?aff=ebdsoporgprofile
URL:https://bellinghamalive.com/event2/comedy-night-benefit-show/
CATEGORIES:Comedy
ATTACH;FMTTYPE=image/png:https://bellinghamalive.com/wp-content/uploads/2024/10/Comedy-Night-Eventbrite-1.png
END:VEVENT
BEGIN:VEVENT
DTSTART;TZID=America/Denver:20241213T190000
DTEND;TZID=America/Denver:20241213T210000
DTSTAMP:20260420T033003
CREATED:20241112T162520Z
LAST-MODIFIED:20241112T162520Z
UID:42503-1734116400-1734123600@bellinghamalive.com
SUMMARY:Winter Wonder
DESCRIPTION:Bellingham Community Chorus presents seasonal music\, with some singalong selections\, in a family-friendly concert. Tickets online at www.bellinghamcommunitychorus.org or at the door. $20 per person; ages 12 and under are free
URL:https://bellinghamalive.com/event2/winter-wonder/
CATEGORIES:Concert
ATTACH;FMTTYPE=image/jpeg:https://bellinghamalive.com/wp-content/uploads/2024/11/IMG_6777.jpeg
END:VEVENT
BEGIN:VEVENT
DTSTART;TZID=America/Denver:20241213T190000
DTEND;TZID=America/Denver:20241213T210000
DTSTAMP:20260420T033003
CREATED:20241112T162540Z
LAST-MODIFIED:20241112T162540Z
UID:42509-1734116400-1734123600@bellinghamalive.com
SUMMARY:Winter Wonder
DESCRIPTION:Bellingham Community Chorus presents seasonal music\, with some singalong selections\, in a family-friendly concert. Tickets online at www.bellinghamcommunitychorus.org or at the door. $20 per person; ages 12 and under are free
URL:https://bellinghamalive.com/event2/winter-wonder-2/
CATEGORIES:Concert
ATTACH;FMTTYPE=image/jpeg:https://bellinghamalive.com/wp-content/uploads/2024/11/IMG_67771.jpeg
END:VEVENT
BEGIN:VEVENT
DTSTART;TZID=America/Denver:20241213T190000
DTEND;TZID=America/Denver:20241213T210000
DTSTAMP:20260420T033003
CREATED:20241202T164731Z
LAST-MODIFIED:20241202T164731Z
UID:42724-1734116400-1734123600@bellinghamalive.com
SUMMARY:Holiday History Hi-Jinks with the Good Time Girls
DESCRIPTION:Hooray! It’s time once again for “Holiday History Hi-jinks” the Good Time Girls’ annual celebration of holiday themed Belling-history\, this year with an ELECTRIC twist!\nFeaturing holiday history\, carols\, trivia\, and surprises! Festive dress encouraged – prizes for best holiday attire! Browse the Spark Museum!\nDoors at 7 Program at 7:30.\nSeating first-come first serve.\nFRIDAY DECEMBER 13\, 2024 7-10 pm\nAt The Spark Museum of Electrical Invention\n1312 Bay Street\, Bellingham\, WA 98225\, USA\n$30 21+ with valid ID\nLight snacks and no-host bar.
URL:https://bellinghamalive.com/event2/holiday-history-hi-jinks-with-the-good-time-girls/
CATEGORIES:Nightlife
ATTACH;FMTTYPE=image/png:https://bellinghamalive.com/wp-content/uploads/2024/12/Martini-Lady-fbevent.png
END:VEVENT
BEGIN:VEVENT
DTSTART;TZID=America/Denver:20241213T190000
DTEND;TZID=America/Denver:20241214T203000
DTSTAMP:20260420T033003
CREATED:20241126T170051Z
LAST-MODIFIED:20241126T170051Z
UID:42686-1734116400-1734208200@bellinghamalive.com
SUMMARY:Shrek the Musical
DESCRIPTION:Once upon a time\, in a far away swamp\, there lived an ogre named… Shrek! Based on the DreamWorks classic\, this musical tells the tale of an unlikely hero who finds himself on a life-changing journey alongside a wisecracking Donkey and a feisty princess who resists her rescue. Performed by BAAY students ages 11-12.
URL:https://bellinghamalive.com/event2/shrek-the-musical-5/
CATEGORIES:Theater
END:VEVENT
BEGIN:VEVENT
DTSTART;TZID=America/Denver:20241213T190000
DTEND;TZID=America/Denver:20241214T203000
DTSTAMP:20260420T033003
CREATED:20241126T170112Z
LAST-MODIFIED:20241126T170112Z
UID:42692-1734116400-1734208200@bellinghamalive.com
SUMMARY:Shrek the Musical
DESCRIPTION:Once upon a time\, in a far away swamp\, there lived an ogre named… Shrek! Based on the DreamWorks classic\, this musical tells the tale of an unlikely hero who finds himself on a life-changing journey alongside a wisecracking Donkey and a feisty princess who resists her rescue. Performed by BAAY students ages 11-12.
URL:https://bellinghamalive.com/event2/shrek-the-musical-7/
CATEGORIES:Theater
END:VEVENT
BEGIN:VEVENT
DTSTART;TZID=America/Denver:20241214T120000
DTEND;TZID=America/Denver:20241214T160000
DTSTAMP:20260420T033003
CREATED:20241120T161800Z
LAST-MODIFIED:20241120T161800Z
UID:42563-1734177600-1734192000@bellinghamalive.com
SUMMARY:Handmade Holidays: LEGO Ornaments
DESCRIPTION:Craving a cozy holiday craft party? Join us in the Old City Hall’s Rotunda Room to create crafts that celebrate the season and make the perfect gifts. We’ll have a different activity each week with versions appropriate for our youngest visitors and seasoned crafters alike. Free fun for the whole family! \nOn December 14\, LEGO® Master contestant Brad Bergman will supply holiday cheer with custom buildable LEGO® sets. Work with Brad to build a festive LEGO® ornament and while you’re at the museum\, don’t forget to vote for Old City Hall on LEGO® Ideas! \nCrafts are free! Admission to Old City Hall is by donation through the month of December.
URL:https://bellinghamalive.com/event2/handmade-holidays-lego-ornaments/
CATEGORIES:Family Friendly
ATTACH;FMTTYPE=image/png:https://bellinghamalive.com/wp-content/uploads/2024/11/DOCH_7.5-Ratio1.png
END:VEVENT
BEGIN:VEVENT
DTSTART;TZID=America/Denver:20241214T140000
DTEND;TZID=America/Denver:20241215T153000
DTSTAMP:20260420T033003
CREATED:20241126T170117Z
LAST-MODIFIED:20241126T170117Z
UID:42696-1734184800-1734276600@bellinghamalive.com
SUMMARY:Shrek the Musical
DESCRIPTION:Once upon a time\, in a far away swamp\, there lived an ogre named… Shrek! Based on the DreamWorks classic\, this musical tells the tale of an unlikely hero who finds himself on a life-changing journey alongside a wisecracking Donkey and a feisty princess who resists her rescue. Performed by BAAY students ages 11-12.
URL:https://bellinghamalive.com/event2/shrek-the-musical-8/
CATEGORIES:Theater
END:VEVENT
BEGIN:VEVENT
DTSTART;TZID=America/Denver:20241214T193000
DTEND;TZID=America/Denver:20241214T210000
DTSTAMP:20260420T033003
CREATED:20241205T164157Z
LAST-MODIFIED:20241205T164157Z
UID:42736-1734204600-1734210000@bellinghamalive.com
SUMMARY:To Whom It May Concern
DESCRIPTION:A live monthly show where folks read their letters on stage; real letters they’ve written or received\, correspondence back and forth\, old family letters\, letters from various local archives and those letters we only wish we could write. December letter readers include: Erika Crichton\, Brady McAtee\, Silvana Clark\, Dartanian London and Jayne Entwistle with special guest musician Allijah Motika.
URL:https://bellinghamalive.com/event2/to-whom-it-may-concern-4/
CATEGORIES:Theater
ATTACH;FMTTYPE=image/jpeg:https://bellinghamalive.com/wp-content/uploads/2024/12/letters.jpg
END:VEVENT
BEGIN:VEVENT
DTSTART;TZID=America/Denver:20241215T140000
DTEND;TZID=America/Denver:20241215T150000
DTSTAMP:20260420T033003
CREATED:20241120T161923Z
LAST-MODIFIED:20241120T161923Z
UID:42572-1734271200-1734274800@bellinghamalive.com
SUMMARY:Classic Carols
DESCRIPTION:Enjoy the splendor of Old City Hall\, festooned in its holiday finest\, while listening to your favorite holiday songs sung by the students of the Brooke Bates Music Studio. \nAdmission to Old City Hall is by donation through the month of December.
URL:https://bellinghamalive.com/event2/classic-carols/
CATEGORIES:Museum
ATTACH;FMTTYPE=image/png:https://bellinghamalive.com/wp-content/uploads/2024/11/DOCH_7.5-Ratio4.png
END:VEVENT
BEGIN:VEVENT
DTSTART;TZID=America/Denver:20241219T183000
DTEND;TZID=America/Denver:20241219T210000
DTSTAMP:20260420T033003
CREATED:20241209T172329Z
LAST-MODIFIED:20241209T172329Z
UID:42748-1734633000-1734642000@bellinghamalive.com
SUMMARY:Benefit Concert for the Children of Gaza
DESCRIPTION:Benefit Concert to help the Children of Gaza. Thursday December 19\, 6:30 pm at the Firehouse Arts and Events Center\, 1314 Harris Ave. Doors open at 5:30 pm. $10-whatever you can give\, All proceeds to Middle East Children’s Alliance. Featuring: House Kat\, Giants Causeway Due\, JT and the Blue Impressions. With Michale Jacobsen\, back from the West Bank A community gathering – listen\, dance\, give. Contact: jeanbham@gmail.com
URL:https://bellinghamalive.com/event2/benefit-concert-for-the-children-of-gaza/
CATEGORIES:Concert
ATTACH;FMTTYPE=image/png:https://bellinghamalive.com/wp-content/uploads/2024/12/IMG_3642.png
END:VEVENT
BEGIN:VEVENT
DTSTART;TZID=America/Denver:20241219T193000
DTEND;TZID=America/Denver:20241219T210000
DTSTAMP:20260420T033003
CREATED:20241210T161445Z
LAST-MODIFIED:20241210T161445Z
UID:42768-1734636600-1734642000@bellinghamalive.com
SUMMARY:Bayshore Symphony Christmas Concert
DESCRIPTION:Come and listen to some favorite Christmas songs at our first annual Holiday Concert – A Christmas Celebration! Please note our new location in Bellingham – Our Saviour’s Lutheran Church! Start time 7:30pm Thursday\, December 19. Tickets at the door. Suggested $20 Donation. More information at bayshoresymphony.com and on Facebook/bayshoresymphony.
URL:https://bellinghamalive.com/event2/bayshore-symphony-christmas-concert/
CATEGORIES:Classical
ATTACH;FMTTYPE=image/jpeg:https://bellinghamalive.com/wp-content/uploads/2024/12/Bayshore-Season-20-Christmas-Postcard.jpg
END:VEVENT
BEGIN:VEVENT
DTSTART;TZID=America/Denver:20241220T190000
DTEND;TZID=America/Denver:20241221T203000
DTSTAMP:20260420T033003
CREATED:20241126T170124Z
LAST-MODIFIED:20241126T170124Z
UID:42699-1734721200-1734813000@bellinghamalive.com
SUMMARY:Shrek the Musical
DESCRIPTION:Once upon a time\, in a far away swamp\, there lived an ogre named… Shrek! Based on the DreamWorks classic\, this musical tells the tale of an unlikely hero who finds himself on a life-changing journey alongside a wisecracking Donkey and a feisty princess who resists her rescue. Performed by BAAY students ages 11-12.
URL:https://bellinghamalive.com/event2/shrek-the-musical-9/
CATEGORIES:Theater
END:VEVENT
BEGIN:VEVENT
DTSTART;TZID=America/Denver:20241221T120000
DTEND;TZID=America/Denver:20241221T160000
DTSTAMP:20260420T033003
CREATED:20241120T161829Z
LAST-MODIFIED:20241120T161829Z
UID:42566-1734782400-1734796800@bellinghamalive.com
SUMMARY:Handmade Holidays: Luminaries
DESCRIPTION:Craving a cozy holiday craft party? Join us in the Old City Hall’s Rotunda Room to create crafts that celebrate the season and make the perfect gifts. We’ll have a different activity each week with versions appropriate for our youngest visitors and seasoned crafters alike. Free fun for the whole family! \nOn December 21\, we’ll celebrate the winter solstice and create luminaries to light up the darkest night of the year. \nCrafts are free! Admission to Old City Hall is by donation through the month of December.
URL:https://bellinghamalive.com/event2/handmade-holidays-luminaries/
CATEGORIES:Family Friendly
ATTACH;FMTTYPE=image/png:https://bellinghamalive.com/wp-content/uploads/2024/11/DOCH_7.5-Ratio2.png
END:VEVENT
BEGIN:VEVENT
DTSTART;TZID=America/Denver:20241221T140000
DTEND;TZID=America/Denver:20241222T153000
DTSTAMP:20260420T033003
CREATED:20241126T170134Z
LAST-MODIFIED:20241126T170134Z
UID:42701-1734789600-1734881400@bellinghamalive.com
SUMMARY:Shrek the Musical
DESCRIPTION:Once upon a time\, in a far away swamp\, there lived an ogre named… Shrek! Based on the DreamWorks classic\, this musical tells the tale of an unlikely hero who finds himself on a life-changing journey alongside a wisecracking Donkey and a feisty princess who resists her rescue. Performed by BAAY students ages 11-12.
URL:https://bellinghamalive.com/event2/shrek-the-musical-10/
CATEGORIES:Theater
END:VEVENT
BEGIN:VEVENT
DTSTART;TZID=America/Denver:20241228T130000
DTEND;TZID=America/Denver:20241229T000000
DTSTAMP:20260420T033003
CREATED:20240821T182931Z
LAST-MODIFIED:20240828T175556Z
UID:41670-1735390800-1735430400@bellinghamalive.com
SUMMARY:Walton Magic
DESCRIPTION:MBT’s resident magician John Walton brings world-class magic to the magnificent Harold & Irene Walton Theatre for your favorite holiday tradition full of magic and wonder. Walton will perform many incredible illusions as well as some up-close tricks for an afternoon of fun for the whole family.\nhttps://www.mountbakertheatre.com/events-tickets/walton-magic-fy25/
URL:https://bellinghamalive.com/event2/walton-magic/
CATEGORIES:Family Friendly
ATTACH;FMTTYPE=image/jpeg:https://bellinghamalive.com/wp-content/uploads/2024/08/mbt_john-walton_web-800x800-1-1.jpg
END:VEVENT
BEGIN:VEVENT
DTSTART;TZID=America/Denver:20241231T183000
DTEND;TZID=America/Denver:20241231T213000
DTSTAMP:20260420T033003
CREATED:20241120T161351Z
LAST-MODIFIED:20241120T161351Z
UID:42535-1735669800-1735680600@bellinghamalive.com
SUMMARY:NYE @ Old City Hall with Live Music by Baby Cakes
DESCRIPTION:Kick off (or wrap up) your New Year’s Eve at the Whatcom Museum! Whether you’re a night owl just getting the party started or an early bird planning to turn in before midnight\, swing by Old City Hall for an unforgettable evening. Enjoy live music by BABY CAKES\, a cash bar by Tito’s Handmade Vodka (with one complimentary drink ticket provided)\, catered light appetizers\, and a free Champagne toast at 9 pm as we count down to 2025 alongside Times Square. \nThis is a 21+ event; please bring your ID.
URL:https://bellinghamalive.com/event2/nye-old-city-hall-with-live-music-by-baby-cakes/
CATEGORIES:Nightlife
ATTACH;FMTTYPE=image/png:https://bellinghamalive.com/wp-content/uploads/2024/11/2024-11-18-11_26_05-NYE-@-Old-City-Hall-TICKETS-ON-SALE-NOW-The-Whatcom-Museum.png
END:VEVENT
BEGIN:VEVENT
DTSTART;TZID=America/Denver:20250103T120000
DTEND;TZID=America/Denver:20250103T210000
DTSTAMP:20260420T033003
CREATED:20241224T161645Z
LAST-MODIFIED:20241224T161645Z
UID:43059-1735905600-1735938000@bellinghamalive.com
SUMMARY:January Free First Friday at the Whatcom Museum
DESCRIPTION:Start the year off small with the Whatcom Museum! After a busy holiday season\, join us at the Museum for a day of miniature crafts. Make your own wee world with like Shrinky Dinks and sculpting tiny clay masterpieces to making mini mugs\, bags\, and even plants. We’ll also celebrate miniature trains and railways with a pop-up wTrak Modular Wood Railway in the Family Interactive Gallery\, perfect for kids to play with. We’d love to see you as we launch another year of Free First Friday programming! \nVisit our whatcommuseum.org for all details\, times\, and building locations. \nTRAK MODULAR WOODEN RAILWAY AT THE FAMILY INTERACTIVE GALLERY\nThe Lightcatcher | 250 Flora St. | Friday AND Saturday \nBABY & TODDLER MUSIC CLASSES WITH LITTLE SAPLING MUSIC\nThe Lightcatcher | 250 Flora St. | 10:30 – 11 am\, 11 – 11:30 am & 11:30 am – noon \nTINY CLAY SCULPTURES WITH EMILY CAREY\nThe Lightcatcher | 250 Flora St. | 1 – 3 pm \nDOCENT TOURS OF THOMAS WOOD: UNDER THE INSPIRATION TREE\nThe Lightcatcher | 250 Flora St. | 1 pm & 6 pm \nPINT-SIZED PLANTS WITH CHIEF CURATOR OF ART AMY CHALOUPKA\nThe Lightcatcher | 250 Flora St. | 3 – 5 pm \nMINUSCULE MUGS AND BOOKS WITH KATRINA LYON\nOld City Hall | 121 Prospect St. | 4 – 6 pm \nSHRINKY DINKS WITH CHRISITAN ANNE SMITH\nThe Lightcatcher | 250 Flora St. | 4 – 6 pm \nSTARTING THE YEAR OFF SMALL WALL\nThe Lightcatcher | 250 Flora St. | All Day
URL:https://bellinghamalive.com/event2/january-free-first-friday-at-the-whatcom-museum/
CATEGORIES:Museum
ATTACH;FMTTYPE=image/png:https://bellinghamalive.com/wp-content/uploads/2024/12/JAN_FFF_7.5-ratio.png
END:VEVENT
BEGIN:VEVENT
DTSTART;TZID=America/Denver:20250105T150000
DTEND;TZID=America/Denver:20250105T163000
DTSTAMP:20260420T033003
CREATED:20241209T173634Z
LAST-MODIFIED:20241209T173634Z
UID:42751-1736089200-1736094600@bellinghamalive.com
SUMMARY:Obsessed with Light
DESCRIPTION:Sunday January 5th @ 3:00\, 2024\nFirehouse Arts and Events Center\nKuntz and Company presents\n“Obsessed with Light” \n“Obsessed with Light” is a meditation on light and the enduring obsession to create. The film pulls back the curtain on Loïe Fuller\, a wildly original performer who revolutionized the visual culture of the early 20th century. Creating a dialogue between the past and the present\, the documentary delves into the astonishing influence Fuller’s work has on contemporary artists including artists like Red Hot Chili Peppers\, Taylor Swift\, Bill T. Jones\, Shakira and William Kentridge. In the process\, the film uncovers commonalities that connect these creative luminaries to Fuller and to each other. \n“Obsessed with Light” is sponsored by CASCADIA International Women’s Film Festival \nTickets $12.00\nhttps://www.simpletix.com/e/obsessed-with-light-tickets-193857 \nFor more information:\nhttps://www.kuntzandco.org/documenting-grace-a-dance-film-festival \nQuestions and accommodations kuntzpam@gmail.com or 360-510-4711
URL:https://bellinghamalive.com/event2/obsessed-with-light/
CATEGORIES:Film
ATTACH;FMTTYPE=image/jpeg:https://bellinghamalive.com/wp-content/uploads/2024/12/obessed-with-light_poster-1.jpg
END:VEVENT
BEGIN:VEVENT
DTSTART;TZID=America/Denver:20250108T183000
DTEND;TZID=America/Denver:20250108T203000
DTSTAMP:20260420T033003
CREATED:20250107T190806Z
LAST-MODIFIED:20250107T190806Z
UID:43150-1736361000-1736368200@bellinghamalive.com
SUMMARY:Cyrus Nabipoor Quartet
DESCRIPTION:The Jazz Center of Bellingham presents Cyrus Nabipoor (trumpet); Jack Radsliff (guitar); Garrett Baxter (bass); Micah Hummel (drums). $20 general\, $10 students\, 6:30 pm. https://www.jazzcenterofbellingham.org/events
URL:https://bellinghamalive.com/event2/cyrus-nabipoor-quartet/
CATEGORIES:Concert
ATTACH;FMTTYPE=image/jpeg:https://bellinghamalive.com/wp-content/uploads/2025/01/cryusnewimage.jpg
END:VEVENT
END:VCALENDAR