BEGIN:VCALENDAR
VERSION:2.0
PRODID:-//Bellingham Alive - ECPv6.15.20//NONSGML v1.0//EN
CALSCALE:GREGORIAN
METHOD:PUBLISH
X-ORIGINAL-URL:https://bellinghamalive.com
X-WR-CALDESC:Events for Bellingham Alive
REFRESH-INTERVAL;VALUE=DURATION:PT1H
X-Robots-Tag:noindex
X-PUBLISHED-TTL:PT1H
BEGIN:VTIMEZONE
TZID:America/Denver
BEGIN:DAYLIGHT
TZOFFSETFROM:-0700
TZOFFSETTO:-0600
TZNAME:MDT
DTSTART:20240310T090000
END:DAYLIGHT
BEGIN:STANDARD
TZOFFSETFROM:-0600
TZOFFSETTO:-0700
TZNAME:MST
DTSTART:20241103T080000
END:STANDARD
BEGIN:DAYLIGHT
TZOFFSETFROM:-0700
TZOFFSETTO:-0600
TZNAME:MDT
DTSTART:20250309T090000
END:DAYLIGHT
BEGIN:STANDARD
TZOFFSETFROM:-0600
TZOFFSETTO:-0700
TZNAME:MST
DTSTART:20251102T080000
END:STANDARD
BEGIN:DAYLIGHT
TZOFFSETFROM:-0700
TZOFFSETTO:-0600
TZNAME:MDT
DTSTART:20260308T090000
END:DAYLIGHT
BEGIN:STANDARD
TZOFFSETFROM:-0600
TZOFFSETTO:-0700
TZNAME:MST
DTSTART:20261101T080000
END:STANDARD
END:VTIMEZONE
BEGIN:VEVENT
DTSTART;TZID=America/Denver:20250607T093000
DTEND;TZID=America/Denver:20250608T170000
DTSTAMP:20260420T062716
CREATED:20250502T190556Z
LAST-MODIFIED:20250502T190556Z
UID:45085-1749288600-1749402000@bellinghamalive.com
SUMMARY:Weekend Meditation workshop
DESCRIPTION:Awakening the Third Eye meditation workshop \nTake a plunge into deeper aspects of yourself through meditation\, vitality management and techniques for daily life that allow you to stay present and centered. \nIn these chaotic and turbulent times\, having tools to stay grounded\, connected and clear is needed more than ever. \nJune 7 – 8\n9.30 – 5pm each day \nReg price $285\nEarly bird (before May 8) $225 Student or Refresher $125 \nFor more info\, email ATEBellingham@gmail.com\nor register at https://forms.gle/Lkkjsifxd83qVmSm6
URL:https://bellinghamalive.com/event2/weekend-meditation-workshop/
CATEGORIES:Wellness
ATTACH;FMTTYPE=image/png:https://bellinghamalive.com/wp-content/uploads/2025/04/ATE_topgraphic.png
END:VEVENT
BEGIN:VEVENT
DTSTART;TZID=America/Denver:20250619T180000
DTEND;TZID=America/Denver:20250619T193000
DTSTAMP:20260420T062716
CREATED:20250409T170612Z
LAST-MODIFIED:20250409T170612Z
UID:44811-1750356000-1750361400@bellinghamalive.com
SUMMARY:Summer Solstice Walking Meditation + Sound Bath with Ruby
DESCRIPTION:Join Ruby Koa to celebrate the solstice with at least 15 minutes of walking mediation followed by an hour-long sound bath. Bring a yoga mat\, blanket or sleeping bag\, and dress warm! Pre-registration required.\nLink : http://apm.activecommunities.com/bellingham/Activity_Search/39737\nAGES: All (recommended 7 years and older)
URL:https://bellinghamalive.com/event2/summer-solstice-walking-meditation-sound-bath-with-ruby/
CATEGORIES:Wellness
ATTACH;FMTTYPE=image/png:https://bellinghamalive.com/wp-content/uploads/2025/04/Screenshot-2025-04-07-at-9.43.50-PM.png
END:VEVENT
END:VCALENDAR