BEGIN:VCALENDAR
VERSION:2.0
PRODID:-//Bellingham Alive - ECPv6.15.20//NONSGML v1.0//EN
CALSCALE:GREGORIAN
METHOD:PUBLISH
X-WR-CALNAME:Bellingham Alive
X-ORIGINAL-URL:https://bellinghamalive.com
X-WR-CALDESC:Events for Bellingham Alive
REFRESH-INTERVAL;VALUE=DURATION:PT1H
X-Robots-Tag:noindex
X-PUBLISHED-TTL:PT1H
BEGIN:VTIMEZONE
TZID:America/Denver
BEGIN:DAYLIGHT
TZOFFSETFROM:-0700
TZOFFSETTO:-0600
TZNAME:MDT
DTSTART:20240310T090000
END:DAYLIGHT
BEGIN:STANDARD
TZOFFSETFROM:-0600
TZOFFSETTO:-0700
TZNAME:MST
DTSTART:20241103T080000
END:STANDARD
BEGIN:DAYLIGHT
TZOFFSETFROM:-0700
TZOFFSETTO:-0600
TZNAME:MDT
DTSTART:20250309T090000
END:DAYLIGHT
BEGIN:STANDARD
TZOFFSETFROM:-0600
TZOFFSETTO:-0700
TZNAME:MST
DTSTART:20251102T080000
END:STANDARD
BEGIN:DAYLIGHT
TZOFFSETFROM:-0700
TZOFFSETTO:-0600
TZNAME:MDT
DTSTART:20260308T090000
END:DAYLIGHT
BEGIN:STANDARD
TZOFFSETFROM:-0600
TZOFFSETTO:-0700
TZNAME:MST
DTSTART:20261101T080000
END:STANDARD
END:VTIMEZONE
BEGIN:VEVENT
DTSTART;TZID=America/Denver:20250426T100000
DTEND;TZID=America/Denver:20250426T160000
DTSTAMP:20260420T062134
CREATED:20250307T173242Z
LAST-MODIFIED:20250307T173242Z
UID:44260-1745661600-1745683200@bellinghamalive.com
SUMMARY:Heritage Flight Museum's April Fly Day
DESCRIPTION:Heritage Flight Museum is back in the skies on April 26! Help us “knock off the rust” and start up the 2025 Fly Day series with our historic fleet of trainers and military aircraft. We’ve got amazing planes\, exhibits on the Apollo Space Program and more\, kids’ activities\, flight demos and the Brando’s BBQ truck on site. Admission is $12 adults\, $10 seniors\, $5 military and kids 5-17\, kids under 5 and members free. More info: www.heritageflight.org\, or call 360-424-5151 ahead of the event date.
URL:https://bellinghamalive.com/event2/heritage-flight-museums-april-fly-day/
CATEGORIES:Museum
ATTACH;FMTTYPE=image/jpeg:https://bellinghamalive.com/wp-content/uploads/2025/03/250000_FDA_16-to-9-aspect-copy.jpg
END:VEVENT
END:VCALENDAR