BEGIN:VCALENDAR
VERSION:2.0
PRODID:-//Bellingham Alive - ECPv6.15.20//NONSGML v1.0//EN
CALSCALE:GREGORIAN
METHOD:PUBLISH
X-WR-CALNAME:Bellingham Alive
X-ORIGINAL-URL:https://bellinghamalive.com
X-WR-CALDESC:Events for Bellingham Alive
REFRESH-INTERVAL;VALUE=DURATION:PT1H
X-Robots-Tag:noindex
X-PUBLISHED-TTL:PT1H
BEGIN:VTIMEZONE
TZID:America/Denver
BEGIN:DAYLIGHT
TZOFFSETFROM:-0700
TZOFFSETTO:-0600
TZNAME:MDT
DTSTART:20240310T090000
END:DAYLIGHT
BEGIN:STANDARD
TZOFFSETFROM:-0600
TZOFFSETTO:-0700
TZNAME:MST
DTSTART:20241103T080000
END:STANDARD
BEGIN:DAYLIGHT
TZOFFSETFROM:-0700
TZOFFSETTO:-0600
TZNAME:MDT
DTSTART:20250309T090000
END:DAYLIGHT
BEGIN:STANDARD
TZOFFSETFROM:-0600
TZOFFSETTO:-0700
TZNAME:MST
DTSTART:20251102T080000
END:STANDARD
BEGIN:DAYLIGHT
TZOFFSETFROM:-0700
TZOFFSETTO:-0600
TZNAME:MDT
DTSTART:20260308T090000
END:DAYLIGHT
BEGIN:STANDARD
TZOFFSETFROM:-0600
TZOFFSETTO:-0700
TZNAME:MST
DTSTART:20261101T080000
END:STANDARD
END:VTIMEZONE
BEGIN:VEVENT
DTSTART;TZID=America/Denver:20250315T120000
DTEND;TZID=America/Denver:20250315T150000
DTSTAMP:20260420T081314
CREATED:20250219T160927Z
LAST-MODIFIED:20250219T160927Z
UID:43890-1742040000-1742050800@bellinghamalive.com
SUMMARY:New Museum Opening
DESCRIPTION:MUSEO – Art & Archive\n704 W. Holly St\, Bellingham\nSaturday\, March 15th 12pm-3pm \nThe public is invited to celebrate the opening of a new museum in Old Town Bellingham. A sister museum to The Helen Loggie Museum of Art\, MUSEO is an assemblage of several collections – tied together with Bellingham as its anchor. Paintings by Ira Yeager\, pottery by Louis Mideke\, historic maps\, posters and an archive of over 100 years of Bellingham newspapers – all on permanent display in the beautifully restored 1913 US Hotel Building. Also open to the public will be the recently created Courthouse Plaza on the corner of Holly and E Street\, allowing a chance to see inside the restored Birney streetcar. We hope you’ll stop by and join the fun! \ninfo@theloggie.org
URL:https://bellinghamalive.com/event2/new-museum-opening/
CATEGORIES:Museum
ATTACH;FMTTYPE=image/jpeg:https://bellinghamalive.com/wp-content/uploads/2025/02/0.jpeg
END:VEVENT
END:VCALENDAR