BEGIN:VCALENDAR
VERSION:2.0
PRODID:-//Bellingham Alive - ECPv6.15.20//NONSGML v1.0//EN
CALSCALE:GREGORIAN
METHOD:PUBLISH
X-ORIGINAL-URL:https://bellinghamalive.com
X-WR-CALDESC:Events for Bellingham Alive
REFRESH-INTERVAL;VALUE=DURATION:PT1H
X-Robots-Tag:noindex
X-PUBLISHED-TTL:PT1H
BEGIN:VTIMEZONE
TZID:America/Denver
BEGIN:DAYLIGHT
TZOFFSETFROM:-0700
TZOFFSETTO:-0600
TZNAME:MDT
DTSTART:20240310T090000
END:DAYLIGHT
BEGIN:STANDARD
TZOFFSETFROM:-0600
TZOFFSETTO:-0700
TZNAME:MST
DTSTART:20241103T080000
END:STANDARD
BEGIN:DAYLIGHT
TZOFFSETFROM:-0700
TZOFFSETTO:-0600
TZNAME:MDT
DTSTART:20250309T090000
END:DAYLIGHT
BEGIN:STANDARD
TZOFFSETFROM:-0600
TZOFFSETTO:-0700
TZNAME:MST
DTSTART:20251102T080000
END:STANDARD
BEGIN:DAYLIGHT
TZOFFSETFROM:-0700
TZOFFSETTO:-0600
TZNAME:MDT
DTSTART:20260308T090000
END:DAYLIGHT
BEGIN:STANDARD
TZOFFSETFROM:-0600
TZOFFSETTO:-0700
TZNAME:MST
DTSTART:20261101T080000
END:STANDARD
BEGIN:DAYLIGHT
TZOFFSETFROM:-0700
TZOFFSETTO:-0600
TZNAME:MDT
DTSTART:20270314T090000
END:DAYLIGHT
BEGIN:STANDARD
TZOFFSETFROM:-0600
TZOFFSETTO:-0700
TZNAME:MST
DTSTART:20271107T080000
END:STANDARD
END:VTIMEZONE
BEGIN:VEVENT
DTSTART;TZID=America/Denver:20250627T170000
DTEND;TZID=America/Denver:20250627T193000
DTSTAMP:20260420T141241
CREATED:20250616T204257Z
LAST-MODIFIED:20250616T204257Z
UID:45650-1751043600-1751052600@bellinghamalive.com
SUMMARY:North Sound Voices Film Festival
DESCRIPTION:The North Sound Voices Film Fest will be the first of its kind in our region – a compelling event to educate\, inspire\, and motivate advocacy about the most crucial issues of our time. During this multi-day event\, we are showcasing eight documentary-style films that were produced\, filmed by\, and featuring people living and working in the North Sound. \nJoin us in Everett for our kick-off event! Visit https://northsoundach.org/nsv-film-festival/ for tickets and more information.
URL:https://bellinghamalive.com/event2/north-sound-voices-film-festival/
CATEGORIES:Film
ATTACH;FMTTYPE=image/png:https://bellinghamalive.com/wp-content/uploads/2025/06/Everett.png
END:VEVENT
BEGIN:VEVENT
DTSTART;TZID=America/Denver:20250710T180000
DTEND;TZID=America/Denver:20250710T192000
DTSTAMP:20260420T141241
CREATED:20250625T163345Z
LAST-MODIFIED:20250702T072312Z
UID:45822-1752170400-1752175200@bellinghamalive.com
SUMMARY:FILM: "Summer Qamp"
DESCRIPTION:Buried within the woods of Alberta\, Canada sits camp fYrefly\, a haven for LGBTQIA2S+ teens\, far away from the fierce political battle currently being waged against queer expression and gender identity. SUMMER QAMP invites audiences into the innocence and joy of a summer away with friends\, while never losing sight of the bravery of these young protagonists whose very existence is challenged in their normal lives. \nFilm plays at 6 p.m. Thursday\, July 10 at the Pickford Film Center (1318 Bay St.\, Bellingham). Tickets area available on the Pickford Film website. \nCo-presented by CASCADIA and the Pickford Film Center and in partnership with the Bellingham Queer Collective.
URL:https://bellinghamalive.com/event2/film-summer-qamp/
CATEGORIES:Film
ATTACH;FMTTYPE=image/png:https://bellinghamalive.com/wp-content/uploads/2025/06/Summer-Qamp.png
END:VEVENT
BEGIN:VEVENT
DTSTART;TZID=America/Denver:20250710T180000
DTEND;TZID=America/Denver:20250710T200000
DTSTAMP:20260420T141241
CREATED:20250616T204413Z
LAST-MODIFIED:20250702T071635Z
UID:45653-1752170400-1752177600@bellinghamalive.com
SUMMARY:North Sound Voices Film Festival
DESCRIPTION:The North Sound Voices Film Fest will be the first of its kind in our region – a compelling event to educate\, inspire\, and motivate advocacy about the most crucial issues of our time. During this multi-day event\, we are showcasing eight documentary-style films that were produced\, filmed by\, and featuring people living and working in the North Sound. \nJoin us for our virtual screening and Q&A! Visit https://northsoundach.org/nsv-film-festival/ for tickets and more information.
URL:https://bellinghamalive.com/event2/north-sound-voices-film-festival-2/
CATEGORIES:Film
ATTACH;FMTTYPE=image/png:https://bellinghamalive.com/wp-content/uploads/2025/06/July-10.png
END:VEVENT
BEGIN:VEVENT
DTSTART;TZID=America/Denver:20250820T180000
DTEND;TZID=America/Denver:20250820T200000
DTSTAMP:20260420T141241
CREATED:20250616T204422Z
LAST-MODIFIED:20250702T070844Z
UID:45656-1755712800-1755720000@bellinghamalive.com
SUMMARY:North Sound Voices Film Festival
DESCRIPTION:The North Sound Voices Film Fest will be the first of its kind in our region – a compelling event to educate\, inspire\, and motivate advocacy about the most crucial issues of our time. During this multi-day event\, we are showcasing eight documentary-style films that were produced\, filmed by\, and featuring people living and working in the North Sound. \nJoin us for our virtual screening and Q&A! Visit https://northsoundach.org/nsv-film-festival/ for tickets and more information.
URL:https://bellinghamalive.com/event2/north-sound-voices-film-festival-3/
CATEGORIES:Film
ATTACH;FMTTYPE=image/png:https://bellinghamalive.com/wp-content/uploads/2025/06/August-20.png
END:VEVENT
BEGIN:VEVENT
DTSTART;TZID=America/Denver:20251102T150000
DTEND;TZID=America/Denver:20251102T160000
DTSTAMP:20260420T141241
CREATED:20251020T162931Z
LAST-MODIFIED:20251020T162931Z
UID:47298-1762095600-1762099200@bellinghamalive.com
SUMMARY:THE SEA
DESCRIPTION:Kuntz and Company presents DOCUMENTING GRACE – a film series showcasing the work of dance artists going beyond the stage. The first film in the 2025/26 season is THE SEA\, created by Douglas Rosenberg. The Sea traces the imprints of aging on body and soul\, weaving a poetic dance of time and movement as it explores men’s evolving relationships with solitude\, intimacy\, and community. The Sea is a black-and-white feature filmed entirely on location along the Baltic Sea. Drawing inspiration from the evocative landscapes of Ingmar Bergman’s Fårö Island\, the film explores aging and the intimate relationships between men in their later years. Featuring a cast of predominantly untrained performers from the Fårö area\, The Sea reflects on camaraderie and the ways life’s experiences leave their marks on our bodies\, expressed through movement and the passage of time. November 2nd @ 3:00\, The Firehouse Arts and Events Center @ 1314 Harris Avenue in Fairhaven. For accommodations and information contact Pam @ kuntzpam@gmail.com or 360-510-4711. Tickets: https://www.kuntzandco.org/documenting-grace-a-dance-film-series
URL:https://bellinghamalive.com/event2/the-sea/
CATEGORIES:Film
ATTACH;FMTTYPE=image/jpeg:https://bellinghamalive.com/wp-content/uploads/2025/10/Waving-White-cloths-scaled.jpg
END:VEVENT
BEGIN:VEVENT
DTSTART;TZID=America/Denver:20251115T190000
DTEND;TZID=America/Denver:20251115T220000
DTSTAMP:20260420T141241
CREATED:20250909T155353Z
LAST-MODIFIED:20250909T155353Z
UID:46913-1763233200-1763244000@bellinghamalive.com
SUMMARY:Mountainfilm On Tour Bellingham
DESCRIPTION:Join the Rotary Club of Bellingham for Mountainfilm On Tour 2025! Mountainfilm On Tour is a collection of short films on nature\, recreation\, overcoming obstacles\, and celebrating LIFE! Mountainfilm has been celebrating the indomitable spirit through film since 1979\, using the power of film\, art\, and ideas to inspire audiences to create a better world. The event will include an evening of short and inspirational films about community\, nature\, and overcoming adversity\, food and beverages will be available\, and we will also be auctioning off thousands of dollars of items donated by local businesses. This event is a fundraiser for Rotary Club of Bellingham and is sponsored in part by the City of Bellingham.
URL:https://bellinghamalive.com/event2/mountainfilm-on-tour-bellingham-2/
CATEGORIES:Film
ATTACH;FMTTYPE=image/jpeg:https://bellinghamalive.com/wp-content/uploads/2025/09/Bellingham-Alive-scaled.jpg
END:VEVENT
BEGIN:VEVENT
DTSTART;TZID=America/Denver:20251116T150000
DTEND;TZID=America/Denver:20251116T173000
DTSTAMP:20260420T141241
CREATED:20251105T175814Z
LAST-MODIFIED:20251105T175814Z
UID:47486-1763305200-1763314200@bellinghamalive.com
SUMMARY:FILM: Nika And Madison
DESCRIPTION:In recognition of Native American Heritage Month\, CASCADIA International Women’s Film Festival is proud to announce the screening of “Nika And Madison” at 3 p.m. Sunday\, November 16 at Firehouse Performing Arts Center in Bellingham. The film is the first solo feature from emerging Indigenous director Eva Thomas\, a member of the Walpole Island First Nation in southwestern Ontario\, Canada. \n“Nika And Madison” centers on two young Indigenous women\, Nika and Madison\, as they re-evaluate their life and estranged friendship following a fateful encounter with police. Touching on topics such as systemic racism and police brutality it introduces audiences to a story that balances female friendship and agency. \nCASCADIA has been committed to presenting films directed by Indigenous women filmmakers. A few years ago\, the festival began presenting special screenings of films in November for Native American Heritage month. \n“Nika And Madison” will play at 3 p.m. Sunday\, November 16 the Firehouse Performing Arts Center\, 1314 Harris Ave.\, Bellingham.\nTickets are $12 / $10 students and available through the Eventive link here: https://bit.ly/47ljDvr
URL:https://bellinghamalive.com/event2/film-nika-and-madison/
CATEGORIES:Film
ATTACH;FMTTYPE=image/png:https://bellinghamalive.com/wp-content/uploads/2025/11/Nika-Madison.png
END:VEVENT
BEGIN:VEVENT
DTSTART;TZID=America/Denver:20251214T150000
DTEND;TZID=America/Denver:20251214T163000
DTSTAMP:20260420T141241
CREATED:20251203T200244Z
LAST-MODIFIED:20251203T200244Z
UID:47783-1765724400-1765729800@bellinghamalive.com
SUMMARY:SOS - Signs of Strength
DESCRIPTION:“SOS – SIGNS OF STRENGTH”\nA film by The Diavolo Veterans Project: \nSigns of Strength emerge through acts of resilience\, courage\, and human connection in the context of a moving and emotionally gripping performance by military veterans and civilian dancers. The choreography explores the journey of soldiers facing adversity\, highlighting their ability to find unity and meaning through individual feats and collective support. The “signs” are not physical objects but rather the embodiment of these qualities in the performance\, as the dancers navigate a dynamic set and physical challenges. \n*POST SCREENING CONVERSATION*\nBellingham’s very own Janet Ott will be leading a zoom conversation with with Christopher Loverro\, member of Diavolo’s Veterans Project and France Nguyen Vincent\, dramaturg for Diavolo’s Veteran’s project. \nFirehouse Arts and Events Center\n1314 Harris Avenue\nDecember 14th @ 3:00\nkuntzandco.org for tix
URL:https://bellinghamalive.com/event2/sos-signs-of-strength/
CATEGORIES:Film
ATTACH;FMTTYPE=image/jpeg:https://bellinghamalive.com/wp-content/uploads/2025/12/DVP-1.jpg
END:VEVENT
BEGIN:VEVENT
DTSTART;TZID=America/Denver:20260111T150000
DTEND;TZID=America/Denver:20260111T163000
DTSTAMP:20260420T141241
CREATED:20251229T213550Z
LAST-MODIFIED:20251229T213550Z
UID:48029-1768143600-1768149000@bellinghamalive.com
SUMMARY:An evening of Dance Short Films
DESCRIPTION:Documenting Grace\nAn evening of shorts\nJanuary 11\, 2026 @ 3:00\nFirehouse Arts and Events Center\nkuntzandco.orgSponsored by CASCADIA INTERNATIONAL WOMEN’S FILM FESTIVAL \nDANCING IN SILK – Since the early 1990s\, the art of Khmer classical ballet has found a new life in the ethnic neighborhood of Cambodia Town in Long Beach\, California with the passion of Sophiline Cheam Shapiro\, master dancer and survivor of the Khmer Rouge genocide. Today\, it is up to Khannia Ok\, her protégé\, to transmit this knowledge to a new generation of Cambodian-Americans\, especially young girls\, who grew up far from their roots. \nBLIND DANCER – We follow Lisa a blind librarian (Oslo) as she travels to dance with Europe’s only professional blind dancer\, Said Gharbi\, (Brussels). The two of them meet and make a duet over two weeks and on the last night they dance through the city of Brussels. \nFROM THERE TO HERE – The film follows the women who lead Kolkata Sanved: a nonprofit in Kolkata\, India\, that uses dance as a means to help survivors of human trafficking\, domestic violence\, and other forms of abuse\, “release trauma\, develop confidence\, and identify their own potentials as human beings—rather than as victims.”
URL:https://bellinghamalive.com/event2/an-evening-of-dance-short-films/
CATEGORIES:Film
END:VEVENT
BEGIN:VEVENT
DTSTART;TZID=America/Denver:20260201T150000
DTEND;TZID=America/Denver:20260201T161500
DTSTAMP:20260420T141241
CREATED:20260116T173908Z
LAST-MODIFIED:20260116T173908Z
UID:48246-1769958000-1769962500@bellinghamalive.com
SUMMARY:Wicket
DESCRIPTION:Documenting Grace/Kuntz and Company presents “Wicket” a screendance documentary about Gabriel Jaochico\, the breakdancing legend known as Bboy Wicket\, directed by Lily Plotkin. Once a global breakdancing icon\, Jaochico spent decades hiding his true identity. This documentary traces his rise to fame and his long journey toward coming out\, revealing a story of love\, legacy\, and self-acceptance. With legendary battle footage\, candid interviews\, and raw emotional honesty\, Wicket shines a light on the power of community and the freedom of living as your whole self. \nSunday February 1st @ 3:00\, 2025\nFirehouse Arts and Events Center \nKuntzandco.org for tickets and more information
URL:https://bellinghamalive.com/event2/wicket/
CATEGORIES:Film
ATTACH;FMTTYPE=image/jpeg:https://bellinghamalive.com/wp-content/uploads/2026/01/WICKET-POSTER-091025-copy-scaled.jpg
END:VEVENT
END:VCALENDAR