BEGIN:VCALENDAR
VERSION:2.0
PRODID:-//Bellingham Alive - ECPv6.15.20//NONSGML v1.0//EN
CALSCALE:GREGORIAN
METHOD:PUBLISH
X-ORIGINAL-URL:https://bellinghamalive.com
X-WR-CALDESC:Events for Bellingham Alive
REFRESH-INTERVAL;VALUE=DURATION:PT1H
X-Robots-Tag:noindex
X-PUBLISHED-TTL:PT1H
BEGIN:VTIMEZONE
TZID:America/Denver
BEGIN:DAYLIGHT
TZOFFSETFROM:-0700
TZOFFSETTO:-0600
TZNAME:MDT
DTSTART:20250309T090000
END:DAYLIGHT
BEGIN:STANDARD
TZOFFSETFROM:-0600
TZOFFSETTO:-0700
TZNAME:MST
DTSTART:20251102T080000
END:STANDARD
BEGIN:DAYLIGHT
TZOFFSETFROM:-0700
TZOFFSETTO:-0600
TZNAME:MDT
DTSTART:20260308T090000
END:DAYLIGHT
BEGIN:STANDARD
TZOFFSETFROM:-0600
TZOFFSETTO:-0700
TZNAME:MST
DTSTART:20261101T080000
END:STANDARD
BEGIN:DAYLIGHT
TZOFFSETFROM:-0700
TZOFFSETTO:-0600
TZNAME:MDT
DTSTART:20270314T090000
END:DAYLIGHT
BEGIN:STANDARD
TZOFFSETFROM:-0600
TZOFFSETTO:-0700
TZNAME:MST
DTSTART:20271107T080000
END:STANDARD
END:VTIMEZONE
BEGIN:VEVENT
DTSTART;TZID=America/Denver:20260201T150000
DTEND;TZID=America/Denver:20260201T161500
DTSTAMP:20260419T101101
CREATED:20260116T173908Z
LAST-MODIFIED:20260116T173908Z
UID:48246-1769958000-1769962500@bellinghamalive.com
SUMMARY:Wicket
DESCRIPTION:Documenting Grace/Kuntz and Company presents “Wicket” a screendance documentary about Gabriel Jaochico\, the breakdancing legend known as Bboy Wicket\, directed by Lily Plotkin. Once a global breakdancing icon\, Jaochico spent decades hiding his true identity. This documentary traces his rise to fame and his long journey toward coming out\, revealing a story of love\, legacy\, and self-acceptance. With legendary battle footage\, candid interviews\, and raw emotional honesty\, Wicket shines a light on the power of community and the freedom of living as your whole self. \nSunday February 1st @ 3:00\, 2025\nFirehouse Arts and Events Center \nKuntzandco.org for tickets and more information
URL:https://bellinghamalive.com/event2/wicket/
CATEGORIES:Film
ATTACH;FMTTYPE=image/jpeg:https://bellinghamalive.com/wp-content/uploads/2026/01/WICKET-POSTER-091025-copy-scaled.jpg
END:VEVENT
END:VCALENDAR