BEGIN:VCALENDAR
VERSION:2.0
PRODID:-//Bellingham Alive - ECPv6.15.20//NONSGML v1.0//EN
CALSCALE:GREGORIAN
METHOD:PUBLISH
X-ORIGINAL-URL:https://bellinghamalive.com
X-WR-CALDESC:Events for Bellingham Alive
REFRESH-INTERVAL;VALUE=DURATION:PT1H
X-Robots-Tag:noindex
X-PUBLISHED-TTL:PT1H
BEGIN:VTIMEZONE
TZID:America/Denver
BEGIN:DAYLIGHT
TZOFFSETFROM:-0700
TZOFFSETTO:-0600
TZNAME:MDT
DTSTART:20240310T090000
END:DAYLIGHT
BEGIN:STANDARD
TZOFFSETFROM:-0600
TZOFFSETTO:-0700
TZNAME:MST
DTSTART:20241103T080000
END:STANDARD
BEGIN:DAYLIGHT
TZOFFSETFROM:-0700
TZOFFSETTO:-0600
TZNAME:MDT
DTSTART:20250309T090000
END:DAYLIGHT
BEGIN:STANDARD
TZOFFSETFROM:-0600
TZOFFSETTO:-0700
TZNAME:MST
DTSTART:20251102T080000
END:STANDARD
BEGIN:DAYLIGHT
TZOFFSETFROM:-0700
TZOFFSETTO:-0600
TZNAME:MDT
DTSTART:20260308T090000
END:DAYLIGHT
BEGIN:STANDARD
TZOFFSETFROM:-0600
TZOFFSETTO:-0700
TZNAME:MST
DTSTART:20261101T080000
END:STANDARD
END:VTIMEZONE
BEGIN:VEVENT
DTSTART;TZID=America/Denver:20251214T150000
DTEND;TZID=America/Denver:20251214T163000
DTSTAMP:20260419T133138
CREATED:20251203T200244Z
LAST-MODIFIED:20251203T200244Z
UID:47783-1765724400-1765729800@bellinghamalive.com
SUMMARY:SOS - Signs of Strength
DESCRIPTION:“SOS – SIGNS OF STRENGTH”\nA film by The Diavolo Veterans Project: \nSigns of Strength emerge through acts of resilience\, courage\, and human connection in the context of a moving and emotionally gripping performance by military veterans and civilian dancers. The choreography explores the journey of soldiers facing adversity\, highlighting their ability to find unity and meaning through individual feats and collective support. The “signs” are not physical objects but rather the embodiment of these qualities in the performance\, as the dancers navigate a dynamic set and physical challenges. \n*POST SCREENING CONVERSATION*\nBellingham’s very own Janet Ott will be leading a zoom conversation with with Christopher Loverro\, member of Diavolo’s Veterans Project and France Nguyen Vincent\, dramaturg for Diavolo’s Veteran’s project. \nFirehouse Arts and Events Center\n1314 Harris Avenue\nDecember 14th @ 3:00\nkuntzandco.org for tix
URL:https://bellinghamalive.com/event2/sos-signs-of-strength/
CATEGORIES:Film
ATTACH;FMTTYPE=image/jpeg:https://bellinghamalive.com/wp-content/uploads/2025/12/DVP-1.jpg
END:VEVENT
END:VCALENDAR