BEGIN:VCALENDAR
VERSION:2.0
PRODID:-//Bellingham Alive - ECPv6.15.20//NONSGML v1.0//EN
CALSCALE:GREGORIAN
METHOD:PUBLISH
X-WR-CALNAME:Bellingham Alive
X-ORIGINAL-URL:https://bellinghamalive.com
X-WR-CALDESC:Events for Bellingham Alive
REFRESH-INTERVAL;VALUE=DURATION:PT1H
X-Robots-Tag:noindex
X-PUBLISHED-TTL:PT1H
BEGIN:VTIMEZONE
TZID:America/Denver
BEGIN:DAYLIGHT
TZOFFSETFROM:-0700
TZOFFSETTO:-0600
TZNAME:MDT
DTSTART:20240310T090000
END:DAYLIGHT
BEGIN:STANDARD
TZOFFSETFROM:-0600
TZOFFSETTO:-0700
TZNAME:MST
DTSTART:20241103T080000
END:STANDARD
BEGIN:DAYLIGHT
TZOFFSETFROM:-0700
TZOFFSETTO:-0600
TZNAME:MDT
DTSTART:20250309T090000
END:DAYLIGHT
BEGIN:STANDARD
TZOFFSETFROM:-0600
TZOFFSETTO:-0700
TZNAME:MST
DTSTART:20251102T080000
END:STANDARD
BEGIN:DAYLIGHT
TZOFFSETFROM:-0700
TZOFFSETTO:-0600
TZNAME:MDT
DTSTART:20260308T090000
END:DAYLIGHT
BEGIN:STANDARD
TZOFFSETFROM:-0600
TZOFFSETTO:-0700
TZNAME:MST
DTSTART:20261101T080000
END:STANDARD
END:VTIMEZONE
BEGIN:VEVENT
DTSTART;TZID=America/Denver:20250301T130000
DTEND;TZID=America/Denver:20250301T150000
DTSTAMP:20260420T064143
CREATED:20250227T170252Z
LAST-MODIFIED:20250227T170252Z
UID:43998-1740834000-1740841200@bellinghamalive.com
SUMMARY:NTL: The Importance of Being Earnest
DESCRIPTION:Saturday\, Mar 1\, 1:00 pm\nThree-time Olivier Award-winner Sharon D Clarke is joined by Ncuti Gatwa (Doctor Who; Sex Education) in this joyful reimagining of Oscar Wilde’s most celebrated comedy. \nWhile assuming the role of a dutiful guardian in the country\, Jack lets loose in town under a false identity. Meanwhile\, his friend Algy adopts a similar facade. Hoping to impress two eligible ladies\, the gentlemen find themselves caught in a web of lies they must carefully navigate. \nMax Webster (Life of Pi) directs this hilarious story of identity\, impersonation and romance\, filmed live from the National Theatre in London.\nRun Time: 170 min\, one intermission.
URL:https://bellinghamalive.com/event2/ntl-the-importance-of-being-earnest/
CATEGORIES:Film
ATTACH;FMTTYPE=image/png:https://bellinghamalive.com/wp-content/uploads/2025/02/ntl-importance-300.png
END:VEVENT
BEGIN:VEVENT
DTSTART;TZID=America/Denver:20250304T190000
DTEND;TZID=America/Denver:20250304T203000
DTSTAMP:20260420T064143
CREATED:20250227T170300Z
LAST-MODIFIED:20250227T170300Z
UID:44004-1741114800-1741120200@bellinghamalive.com
SUMMARY:All About Eve
DESCRIPTION:Join us at the Lincoln Theatre for our March Film Series: Costumes by Edith Head. \nWith over 500 film credits\, 35 Academy Award nominations\, and 8 wins\, Edith Head was the greatest costume designer of Hollywood’s golden age. Join us for three of her most glamorous and sumptuous films! \nMarch 4: All About Eve\nBette Davis is at her best — witty\, sarcastic\, biting and vulnerable — in this backstage story revolving around aspiring actress Eve Harrington (Anne Baxter). Tattered and forlorn\, Eve shows up in the dressing room of Broadway mega-star Margo Channing (David)\, telling a melancholy life story to Margo and her friends. Margo takes Eve under her wing\, but the results are unexpected.
URL:https://bellinghamalive.com/event2/all-about-eve/
CATEGORIES:Film
ATTACH;FMTTYPE=image/png:https://bellinghamalive.com/wp-content/uploads/2025/02/allabouteve-300.png
END:VEVENT
BEGIN:VEVENT
DTSTART;TZID=America/Denver:20250308T120000
DTEND;TZID=America/Denver:20250308T130000
DTSTAMP:20260420T064143
CREATED:20250227T170307Z
LAST-MODIFIED:20250227T170307Z
UID:44010-1741435200-1741438800@bellinghamalive.com
SUMMARY:March of the Penguin
DESCRIPTION:At the end of each Antarctic summer\, the emperor penguins of the South Pole journey to their traditional breeding grounds in a fascinating mating ritual that is captured in this documentary narrated by Morgan Freeman. \nThe journey across frozen tundra proves to be the simplest part of the ritual\, as after the egg is hatched\, the female must delicately transfer it to the male and make her way back to the distant sea to nourish herself and bring back food to her newborn chick. \nUnited States | English | 2005 | Nature Documentary | 80 minutes | G \nThis is a Sensory-Friendly film screening.\nWhat does Sensory-Friendly mean?\n· House lights are brighter\n· Movie sound is lower\n· Patrons can bring their own snacks\n· Patrons can bring their own sensory tools\n· Personal Closed Captioning devices and Assistive Listening devices are available \nAll tickets only $5. Children must be accompanied by an adult parent or guardian.
URL:https://bellinghamalive.com/event2/march-of-the-penguin/
CATEGORIES:Film
ATTACH;FMTTYPE=image/jpeg:https://bellinghamalive.com/wp-content/uploads/2025/02/penguins-pic.jpg
END:VEVENT
BEGIN:VEVENT
DTSTART;TZID=America/Denver:20250308T193000
DTEND;TZID=America/Denver:20250308T210000
DTSTAMP:20260420T064143
CREATED:20250227T170311Z
LAST-MODIFIED:20250227T170311Z
UID:44013-1741462200-1741467600@bellinghamalive.com
SUMMARY:Daniel James Brown
DESCRIPTION:Mount Vernon Library Foundation presents An Evening with Daniel James Brown. \nJoin the Mount Vernon Library Foundation for our second annual author event and support exciting library programs for the entire community. The library is open and paid for but the Foundation needs help to continue supporting the programs that make it extraordinary. \nDaniel James Brown is the author of The Boys In the Boat\, about the University of Washington rowing team during the Olympics in 1936\, and more recently\, Facing the Mountain: A True Story of Japanese American Heroes in World War II\, which introduces us to the Japanese Americans who fought in a special unit during WWII while many of their family members were incarcerated in detention camps. He’ll talk about both books\, how they are related\, and how he came to write them. \nBoth of these books will be available for purchase at the event\, courtesy of Seaport Books of LaConner. Looking to reserve one in advance? You can call Seaport at (360)399-1800 or email them at seaportbooksllc@gmail.com — they will hold your book for pickup or bring it to the event for you! \nThe Foundation will feature a free showing of the movie adaptation of The Boys In the Boat sometime in early March (details coming soon).
URL:https://bellinghamalive.com/event2/daniel-james-brown/
CATEGORIES:Film
ATTACH;FMTTYPE=image/png:https://bellinghamalive.com/wp-content/uploads/2025/02/daniel-james-brown-300.png
END:VEVENT
BEGIN:VEVENT
DTSTART;TZID=America/Denver:20250311T190000
DTEND;TZID=America/Denver:20250311T210000
DTSTAMP:20260420T064143
CREATED:20250227T170316Z
LAST-MODIFIED:20250227T170316Z
UID:44016-1741719600-1741726800@bellinghamalive.com
SUMMARY:Roman Holiday
DESCRIPTION:Overwhelmed by her suffocating schedule\, touring European princess Ann (Audrey Hepburn\, in her American film debut) takes off for a night while in Rome. When a sedative she took from her doctor kicks in\, however\, she falls asleep on a park bench and is found by an American reporter\, Joe Bradley (Gregory Peck)\,who takes her back to his apartment for safety. \nAt work the next morning\, Joe finds out Ann’s regal identity and bets his editor he can get exclusive interview with her — but romance soon gets in the way.
URL:https://bellinghamalive.com/event2/roman-holiday/
CATEGORIES:Film
ATTACH;FMTTYPE=image/png:https://bellinghamalive.com/wp-content/uploads/2025/02/romanholiday-300.png
END:VEVENT
BEGIN:VEVENT
DTSTART;TZID=America/Denver:20250313T193000
DTEND;TZID=America/Denver:20250313T210000
DTSTAMP:20260420T064143
CREATED:20250227T170349Z
LAST-MODIFIED:20250227T170349Z
UID:44019-1741894200-1741899600@bellinghamalive.com
SUMMARY:Altan
DESCRIPTION:The Lincoln Theatre and Celtic Arts Foundation are proud to present Altan. \nWith a career in Irish music over for 35 years\, Altan has achieved legendary status in a genre that has been equally shaped by the band’s influence and genius. Audiences from Ireland to Japan to Australia to Europe have embraced their heartwarming\, dynamic live performances and their exquisitely produced\, award-winning recordings. Over a dozen releases to date\, ranging from the most touching old Irish songs to hard-hitting reels and jigs. Altan’s newest release\, Donegal\, follows their acclaimed albums The Gap of Dreams and The Widening Gyre. \nAdding to their long list of awards and honors\, fiddler\, singer and founding member Mairéad Ní Mhaonaigh was the recipient of the Gradam Ceoil/Traditional Musician of the Year in 2017. Though the band received the same award for Band of the Year in 2001\, Mairéad was glad to be recognized on her own in a genre that has been slow to recognize female musicians. She is only the third woman in twenty years to receive the main award. \nThe seeds of Altan lie in the music and spontaneity of sessions in kitchens and pubs in their hometown of Donegal\, where their music was heard in an atmosphere of respect and intimacy. It is here that the band’s heart still lies\, whether they are performing on TV in Australia or jamming with Ricky Skaggs on the west coast of the United States. In spite of a hectic touring and recording schedule\, Altan continue fresh in their vision of bringing the beauty and joy of traditional music to audiences everywhere\, and have always promised themselves to continue as long as it’s fun — fortunately\, it still is!
URL:https://bellinghamalive.com/event2/altan/
CATEGORIES:Film
ATTACH;FMTTYPE=image/jpeg:https://bellinghamalive.com/wp-content/uploads/2025/02/altan-300.jpg
END:VEVENT
BEGIN:VEVENT
DTSTART;TZID=America/Denver:20250316T170000
DTEND;TZID=America/Denver:20250316T190000
DTSTAMP:20260420T064143
CREATED:20250227T170400Z
LAST-MODIFIED:20250227T170400Z
UID:44030-1742144400-1742151600@bellinghamalive.com
SUMMARY:Fly Fishing Film Tour
DESCRIPTION:This year’s Fly Fishing Film Tour (F3T) features an exciting lineup of films that capture the spirit of adventure and perseverance in the world of fly fishing. \nHighlights include Dan’s epic quest to land the hardest fish in fly fishing\, with musky legend Blane Chocklett by his side; a breathtaking adventure fishing for Atlantic Salmon amidst the caribou migration in remote northern waters; a journey through the high desert with guide Matt Mendes on the Deschutes River; the grit and determination of Captain Lacey Kelly\, a Florida tarpon guide; and April Vokey and Sam Lungren’s exploration of the untamed jungles of Guyana\, where they target arapaima\, peacock bass\, and more. \nPresented by: Skwala\, Yeti\, Costa NRS\, Monster\, Ross Reels\, Airlite\, Scientific Anglers\, Decked\, Daiichi\, C&F Design\, Sawyer\, Benchmade\, Stranahan’s\, Yakoda\, Turtlebox\, TroutRoutes\, Rambler\, Riversmith\, Restorline\, Adventure Entertainment\, Outside\, Anglers Journal\, Flylords\, TU Alaska\, Heroes on the Water
URL:https://bellinghamalive.com/event2/fly-fishing-film-tour-2/
CATEGORIES:Film
ATTACH;FMTTYPE=image/png:https://bellinghamalive.com/wp-content/uploads/2025/02/f3t25-caro2.png
END:VEVENT
BEGIN:VEVENT
DTSTART;TZID=America/Denver:20250318T190000
DTEND;TZID=America/Denver:20250318T210000
DTSTAMP:20260420T064143
CREATED:20250227T170405Z
LAST-MODIFIED:20250227T170405Z
UID:44034-1742324400-1742331600@bellinghamalive.com
SUMMARY:To Catch a Thief
DESCRIPTION:March 18: To Catch a Thief\nAlfred Hitchcock brings his particular sense of style and humor in a movie about the notorious cat burglar John Robie (Cary Grant) has long since retired to tend vineyards on the French Riviera. \nWhen a series of robberies is committed in his style\, John must clear his name. Armed with a list of people who own the most expensive jewels currently in the area\, John begins following the first owner\, young Francie (Grace Kelly). \nWhen her jewels are stolen\, Francie suspects John\, destroying their tentative romance. John goes on the lam to catch the thief and clear his own name.
URL:https://bellinghamalive.com/event2/to-catch-a-thief/
CATEGORIES:Film
ATTACH;FMTTYPE=image/jpeg:https://bellinghamalive.com/wp-content/uploads/2025/02/to-catch-a-thief-pic1.jpg
END:VEVENT
BEGIN:VEVENT
DTSTART;TZID=America/Denver:20250320T193000
DTEND;TZID=America/Denver:20250320T210000
DTSTAMP:20260420T064143
CREATED:20250227T170410Z
LAST-MODIFIED:20250227T170410Z
UID:44038-1742499000-1742504400@bellinghamalive.com
SUMMARY:Jenner Fox Band
DESCRIPTION:The Lincoln Theatre is proud to present Jenner Fox Band and the music of Paul Simon. \nJenner Fox Band brings new life to Paul Simon’s beloved catalog. The idea for the tribute project came to the band backstage on the eve of the 2020 election when someone started playing “American Tune\,” and they discovered their mutual reverence for Simon’s music. The project\, which they call “National Guitar\,” sold out its first show at the Alberta Rose Theatre in Portland and has continued to delight audiences up and down the west coast with a range of Simon’s music from Garfunkle to Graceland and everywhere in-between. Come prepared to sing along\, groove\, and celebrate some of the finest music from a true American original. \nThe five-piece band features piano\, organ\, electric guitar\, bass\, dobro\, acoustic guitar\, and layered vocal harmony. The night begins with a set of original material from the Jenner Fox Band before they turn to their tribute to Paul Simon.
URL:https://bellinghamalive.com/event2/jenner-fox-band/
CATEGORIES:Film
ATTACH;FMTTYPE=image/png:https://bellinghamalive.com/wp-content/uploads/2025/02/jenner-fox-caro3.png
END:VEVENT
BEGIN:VEVENT
DTSTART;TZID=America/Denver:20250322T120000
DTEND;TZID=America/Denver:20250322T130000
DTSTAMP:20260420T064143
CREATED:20250227T170416Z
LAST-MODIFIED:20250227T170416Z
UID:44045-1742644800-1742648400@bellinghamalive.com
SUMMARY:Sensory Friendly Film IF
DESCRIPTION:From writer and director John Krasinski\, IF is about a girl named Bea (Cailey Fleming) who discovers that she can see everyone’s imaginary friends\, as she embarks on a magical adventure to reconnect forgotten “IF”s with their kids. \nRyan Reynolds co-stars as Cal\, an adult who can also see imaginary friends and who enlists Bea’s help.
URL:https://bellinghamalive.com/event2/sensory-friendly-film-if/
CATEGORIES:Film
ATTACH;FMTTYPE=image/jpeg:https://bellinghamalive.com/wp-content/uploads/2025/02/if-pic-scaled.jpg
END:VEVENT
END:VCALENDAR