BEGIN:VCALENDAR
VERSION:2.0
PRODID:-//Bellingham Alive - ECPv6.15.20//NONSGML v1.0//EN
CALSCALE:GREGORIAN
METHOD:PUBLISH
X-WR-CALNAME:Bellingham Alive
X-ORIGINAL-URL:https://bellinghamalive.com
X-WR-CALDESC:Events for Bellingham Alive
REFRESH-INTERVAL;VALUE=DURATION:PT1H
X-Robots-Tag:noindex
X-PUBLISHED-TTL:PT1H
BEGIN:VTIMEZONE
TZID:America/Denver
BEGIN:DAYLIGHT
TZOFFSETFROM:-0700
TZOFFSETTO:-0600
TZNAME:MDT
DTSTART:20250309T090000
END:DAYLIGHT
BEGIN:STANDARD
TZOFFSETFROM:-0600
TZOFFSETTO:-0700
TZNAME:MST
DTSTART:20251102T080000
END:STANDARD
BEGIN:DAYLIGHT
TZOFFSETFROM:-0700
TZOFFSETTO:-0600
TZNAME:MDT
DTSTART:20260308T090000
END:DAYLIGHT
BEGIN:STANDARD
TZOFFSETFROM:-0600
TZOFFSETTO:-0700
TZNAME:MST
DTSTART:20261101T080000
END:STANDARD
BEGIN:DAYLIGHT
TZOFFSETFROM:-0700
TZOFFSETTO:-0600
TZNAME:MDT
DTSTART:20270314T090000
END:DAYLIGHT
BEGIN:STANDARD
TZOFFSETFROM:-0600
TZOFFSETTO:-0700
TZNAME:MST
DTSTART:20271107T080000
END:STANDARD
END:VTIMEZONE
BEGIN:VEVENT
DTSTART;TZID=America/Denver:20260107T190000
DTEND;TZID=America/Denver:20260107T230000
DTSTAMP:20260420T194708
CREATED:20260105T234914Z
LAST-MODIFIED:20260105T234914Z
UID:48108-1767812400-1767826800@bellinghamalive.com
SUMMARY:Open Jam!
DESCRIPTION:A FREE Open Mic Style Jam Session \nWe are so back!! \nFormerly known as Jam:30\, Blue Room’s open mic style jam session returns \nAdditional information: \nOpen Jam is a free form instrumental/vocal jam session with signups by instrument. It is a casual environment to practice your skills and meet new people. If you don’t play an instrument – simply sit back and enjoy the show! \nBlue Room provides a drumset\, piano\, electric guitar\, and various auxiliary percussion instruments. We encourage everyone to bring an instrument of their own! \nAdmission is free! Signups begin at 7pm and jamming starts closer to 8pm
URL:https://bellinghamalive.com/event2/open-jam-3/
LOCATION:WA
CATEGORIES:Concert
ATTACH;FMTTYPE=image/jpeg:https://bellinghamalive.com/wp-content/uploads/2026/01/OPEN-JAM.jpg
END:VEVENT
BEGIN:VEVENT
DTSTART;TZID=America/Denver:20260109T190000
DTEND;TZID=America/Denver:20260109T230000
DTSTAMP:20260420T194708
CREATED:20260105T234936Z
LAST-MODIFIED:20260105T234936Z
UID:48120-1767985200-1767999600@bellinghamalive.com
SUMMARY:Blue Room Presents | Haveyouseenthiswoman\, Sweet Illusion\, Sunday Lemonade
DESCRIPTION:A live rock show featuring: \nHave you seen this woman?\nA four piece alternative rock band from Bellingham\, Washington \nSweet Illusion is a Bellingham based blues pop group. They’re 60% ginger but full of soul. With songs inspired by the joys and sorrows of everyday life\, they will fill your night with lively songs drawing inspiration from classic rock\, funk\, and soul. Fronted by powerhouse vocalist and songwriter Jacqueline Stefanoff\, their songs explore themes of love\, identity\, and the human experience in a chaotic world. Their music is as lively as it is contemplative\, a groovy invitation to allow you to feel deeply and dance freely. \nSunday Lemonade
URL:https://bellinghamalive.com/event2/blue-room-presents-haveyouseenthiswoman-sweet-illusion-sunday-lemonade/
LOCATION:WA
CATEGORIES:Concert
ATTACH;FMTTYPE=image/jpeg:https://bellinghamalive.com/wp-content/uploads/2026/01/HYSTW.jpeg
END:VEVENT
BEGIN:VEVENT
DTSTART;TZID=America/Denver:20260114T190000
DTEND;TZID=America/Denver:20260114T230000
DTSTAMP:20260420T194708
CREATED:20260105T234940Z
LAST-MODIFIED:20260105T234940Z
UID:48123-1768417200-1768431600@bellinghamalive.com
SUMMARY:Super Smash LIVE
DESCRIPTION:Play in casual games or a tournament with a LIVE soundtrack from Super Smash Bros provided by The Fifth! \nWith setups for Smash\, Ultimate and Melee – Extra Controllers will be provided \nFeaturing\nThe Fifth – A jazz\, funk and fusion band from Bellingham Washington playing the Super Smash soundtrack LIVE for the first time!
URL:https://bellinghamalive.com/event2/super-smash-live/
LOCATION:WA
CATEGORIES:Concert
ATTACH;FMTTYPE=image/jpeg:https://bellinghamalive.com/wp-content/uploads/2026/01/smash-live-the-fifths-january-1.jpg
END:VEVENT
BEGIN:VEVENT
DTSTART;TZID=America/Denver:20260116T190000
DTEND;TZID=America/Denver:20260116T230000
DTSTAMP:20260420T194708
CREATED:20260105T234943Z
LAST-MODIFIED:20260105T234943Z
UID:48126-1768590000-1768604400@bellinghamalive.com
SUMMARY:Blue Room Presents | Third Space\, Escapade\, Sonitus
DESCRIPTION:A live rock show featuring:\nThird Space\nEscapade\nSonitus
URL:https://bellinghamalive.com/event2/blue-room-presents-third-space-escapade-sonitus/
LOCATION:WA
CATEGORIES:Concert
ATTACH;FMTTYPE=image/jpeg:https://bellinghamalive.com/wp-content/uploads/2026/01/IMG_2931_1.jpeg
END:VEVENT
BEGIN:VEVENT
DTSTART;TZID=America/Denver:20260122T180000
DTEND;TZID=America/Denver:20260122T220000
DTSTAMP:20260420T194708
CREATED:20260105T234947Z
LAST-MODIFIED:20260105T234947Z
UID:48129-1769104800-1769119200@bellinghamalive.com
SUMMARY:Sami Braman\, Allison De Groot\, and Quin Bachand
DESCRIPTION:Bellingham Folk Festival Presents:\nJoin us in welcoming the 2026 Folk Festival with a seated listening concert featuring a debut performance from this stunning new trio! \nWelcome to the 2026 edition and the 12th annual Bellingham Folk Festival! \nFeaturing \nLaurel Bliss and John Clark  7-7:45 pm \nLaurel Bliss and John Clark have been making music together in their home in Bellingham since 1986.  Whether playing Old Time and Cajun music with the Happy Valley Sluggers or singing old Country and Bluegrass gems from their songbooks\, they are having a beautiful musical life. \nSami Braman\, Allison De Groot\, and Quinn Bachand 8-9 pm \nSami Braman has been playing the fiddle since she was 6 years old\, coming up amid the music festivals and jamming communities of the Pacific Northwest’s vibrant traditional Old-Time music scene. A member of The Onlies and a frequent collaborator with Willie Watson\, she has performed and taught at festivals like Fiddle Tunes\, MerleFest\, Green Mountain Bluegrass Festival\, and Pickathon. Sami and Willie just wrapped up a run opening up for Alison Krauss and Union Station on their Summer 2025 Arcadia tour. She’s a tune-writer and honored to present a new project of original and traditional tunes joined by Allison De Groot and Quinn Bachand. Allison de Groot’s banjo playing; simultaneously spacious\, detailed and intensely rhythmic\, has earned her awards from the JUNOs\, Americana Music Award\, Canadian Folk Music Awards and most recently the Steve Martin Prize for Excellence in Banjo. She tours consistently with fiddler Tatiana Hargreaves\, percussive dancer Nic Gareiss and the Transatlantic Sessions House Band led by Jerry Douglas. Quinn Bachand is a versatile guitarist whose distinctive playing blend’s genres from Celtic traditional to jazz. This unique artistry has earned him accolades including Grammy nomination and has led to collaborations with acclaimed musicians such as Sami Braman and Allison de Groot.
URL:https://bellinghamalive.com/event2/sami-braman-allison-de-groot-and-quin-bachand/
LOCATION:WA
CATEGORIES:Concert
ATTACH;FMTTYPE=image/jpeg:https://bellinghamalive.com/wp-content/uploads/2026/01/Grid-BFF-Sami-Braman-Allison-de-Groot-and-Quinn-Bachand-1.jpg
END:VEVENT
BEGIN:VEVENT
DTSTART;TZID=America/Denver:20260123T180000
DTEND;TZID=America/Denver:20260123T220000
DTSTAMP:20260420T194708
CREATED:20260105T234951Z
LAST-MODIFIED:20260105T234951Z
UID:48132-1769191200-1769205600@bellinghamalive.com
SUMMARY:Benny Sidelinger with an opening set from Jeffrey Scott Mack
DESCRIPTION:Welcome to the 2026 edition and the 12th annual Bellingham Folk Festival! \nThe lights dim\, and the room fades. A band hovers on stage right\, but on the stage it’s just Benny now. The ancient banjo begins to hum\, then sing\, then rip. With fingers moving impossibly fast\, the music begins to vibrate and glow. Transitioning to another song he picks up a homemade and road-worn guitar. The slower\, heartfelt ballad written for his first daughter is almost a relief. Subtly\, the rest of the band adds layers to the sound one at a time. Benny’s voice rings out\, adding to the echoes of all the acts that have graced this stage. There is distance in that voice\, and you can hear the miles and miles of road in the guitar\, vibrating like smooth highways passing under weary tires. \nFeaturing: \nJeffrey Scott Mack is a Singer-Songwriter from Bellingham WA. His musical landscapes land somewhere between the dark\, evergreen forests of Washington State and the cobble stone riverbanks of the Midwest. He draws inspiration from the mundane moments that unite us all.
URL:https://bellinghamalive.com/event2/benny-sidelinger-with-an-opening-set-from-jeffrey-scott-mack/
LOCATION:WA
CATEGORIES:Concert
ATTACH;FMTTYPE=image/jpeg:https://bellinghamalive.com/wp-content/uploads/2026/01/BFF-Logo-1-1.jpg
END:VEVENT
BEGIN:VEVENT
DTSTART;TZID=America/Denver:20260124T190000
DTEND;TZID=America/Denver:20260124T230000
DTSTAMP:20260420T194708
CREATED:20260105T234954Z
LAST-MODIFIED:20260105T234954Z
UID:48135-1769281200-1769295600@bellinghamalive.com
SUMMARY:Tradwife Stringband: Old Time Ingenues
DESCRIPTION:Welcome to the 2026 edition and the 12th annual Bellingham Folk Festival! \nIndulge in a respite from our troublesome\, wearisome\, modernsome world with the Tradwife stringband! \nFeaturing \nTradwife stringband is a quintet of biological women and Moose\, traveling the country with some traditional old time music and values.
URL:https://bellinghamalive.com/event2/tradwife-stringband-old-time-ingenues/
LOCATION:WA
CATEGORIES:Concert
ATTACH;FMTTYPE=image/jpeg:https://bellinghamalive.com/wp-content/uploads/2026/01/Tradwife-January-24th-poster.jpg
END:VEVENT
BEGIN:VEVENT
DTSTART;TZID=America/Denver:20260125T123000
DTEND;TZID=America/Denver:20260125T144500
DTSTAMP:20260420T194708
CREATED:20251229T213553Z
LAST-MODIFIED:20251229T213553Z
UID:48031-1769344200-1769352300@bellinghamalive.com
SUMMARY:Skagit Symphony - Family Concert and Children’s Music Fair
DESCRIPTION:Sunday\, Jan 25\, 2026\nMcIntyre Hall 2501 E College Way \, Mount Vernon WA\n12:30 Sensory Friendly Access Only\n1:00pm Children’s Music Fair\n2:00pm Concert\nBring your family on a journey to the mountains! Hear Caroline Shaw’s glorious and colorful orchestral adaptation of the beloved book\, “The Mountain that Loved a Bird\,” narrated by local poet Sati Mookherjee. We’ll tip-toe through the Hall of the Mountain King\, hoping to escape A Night on Bald Mountain. In the hour before the concert begins\, enjoy the hands-on experiences our Children’s Music Fair has to offer. (Sensory friendly only enter at 12:30pm)
URL:https://bellinghamalive.com/event2/skagit-symphony-family-concert-and-childrens-music-fair/
LOCATION:WA
CATEGORIES:Concert
ATTACH;FMTTYPE=image/png:https://bellinghamalive.com/wp-content/uploads/2025/12/Skagit-Symphony-BSO-Slide-ad-Family-Concert-scaled.png
END:VEVENT
BEGIN:VEVENT
DTSTART;TZID=America/Denver:20260125T180000
DTEND;TZID=America/Denver:20260125T220000
DTSTAMP:20260420T194708
CREATED:20260105T234957Z
LAST-MODIFIED:20260105T234957Z
UID:48138-1769364000-1769378400@bellinghamalive.com
SUMMARY:Femme in Folk V2 ft. Zaia\, Wyatt and Willow
DESCRIPTION:Welcome to the 2026 edition and the 12th annual Bellingham Folk Festival! \nFor the final show of the 2026 Folk Festival we will be bringing back our Femme in Folk show from last year\, which features local\, iconic female folk performers! Join us to celebrate them and their music in the final show of the festival. \nFeaturing: \nZaia\, Wyatt & Willow is the collaborative project of three Bellingham songwriters Zaia Grace\, Hannah Wyatt\, and Claire Willow. Influenced by artists like “I’m With Her” and “Waxahatchee”\, their performance weaves fiddle & cello with enchanting three part harmonies\, transporting audiences with their original songs inspired by myth & folklore\, love & loss\, and finding one’s place on this wild earth. \nLolo Wawa \nLauren is twenty five\, writes songs and sings them with her friends! She currently leads the Bellingham based band Bellflower and also performs solo under the name Lolo Wawa.
URL:https://bellinghamalive.com/event2/femme-in-folk-v2-ft-zaia-wyatt-and-willow/
LOCATION:WA
CATEGORIES:Concert
ATTACH;FMTTYPE=image/png:https://bellinghamalive.com/wp-content/uploads/2026/01/ZWW-scaled.png
END:VEVENT
BEGIN:VEVENT
DTSTART;TZID=America/Denver:20260131T190000
DTEND;TZID=America/Denver:20260131T230000
DTSTAMP:20260420T194708
CREATED:20251105T175952Z
LAST-MODIFIED:20251105T175952Z
UID:47587-1769886000-1769900400@bellinghamalive.com
SUMMARY:SOVRN.STH Session 1: Veronica North
DESCRIPTION:Live music\, live art\, and community – benefiting Northwest Skate Collective\nEvent Page: https://tickets.venuepilot.com/e/sovrn-sth-session-1-veronica-north-2026-01-31-the-blue-room-bellingham-0f14cc \nSovereign Soirées presents the launch of SOVRN.STH (Sovereign South)\, a new concert and art series celebrating collaboration\, accessibility\, and community impact. \nSOVRN.STH Session 1 features a live\, intimate performance by Veronica North\, whose blend of heartfelt lyricism and indie-pop charm creates an experience that feels both raw and cinematic. Known for her emotional storytelling and captivating stage presence\, Veronica’s stripped-down set will highlight the vulnerability and power behind her music – offering an authentic connection between artist and audience. \nEnjoy live painting by Sierra James\, the artist behind SieArts\, whose work celebrates movement\, connection\, and the beauty of imperfection through layers of color and texture. As she paints live throughout the evening\, guests can also explore a curated exhibit of SieArts originals – a collection of vibrant pieces that merge the organic and emotional\, mirroring the rhythm of the night. \nA portion of proceeds – plus optional donations at checkout – will benefit the Northwest Skate Collective\, a local nonprofit leading the effort to build a state-of-the-art waterfront skatepark in Bellingham. The City of Bellingham has already committed $1.95 million toward the project’s $3 million goal\, with community fundraising underway to close the gap and begin construction in 2027. Your support helps create an inclusive\, world-class space for skaters of all ages and abilities. \nAll Ages | Bar with ID | ADA Accessible
URL:https://bellinghamalive.com/event2/sovrn-sth-session-1-veronica-north/
LOCATION:WA
CATEGORIES:Concert
ATTACH;FMTTYPE=image/jpeg:https://bellinghamalive.com/wp-content/uploads/2025/11/IMG_2374-scaled.jpg
END:VEVENT
BEGIN:VEVENT
DTSTART;TZID=America/Denver:20260204T190000
DTEND;TZID=America/Denver:20260204T230000
DTSTAMP:20260420T194708
CREATED:20260105T234918Z
LAST-MODIFIED:20260105T234918Z
UID:48111-1770231600-1770246000@bellinghamalive.com
SUMMARY:Open Jam!
DESCRIPTION:A FREE Open Mic Style Jam Session \nWe are so back!! \nFormerly known as Jam:30\, Blue Room’s open mic style jam session returns \nAdditional information: \nOpen Jam is a free form instrumental/vocal jam session with signups by instrument. It is a casual environment to practice your skills and meet new people. If you don’t play an instrument – simply sit back and enjoy the show! \nBlue Room provides a drumset\, piano\, electric guitar\, and various auxiliary percussion instruments. We encourage everyone to bring an instrument of their own! \nAdmission is free! Signups begin at 7pm and jamming starts closer to 8pm
URL:https://bellinghamalive.com/event2/open-jam-4/
LOCATION:WA
CATEGORIES:Concert
ATTACH;FMTTYPE=image/jpeg:https://bellinghamalive.com/wp-content/uploads/2026/01/OPEN-JAM1.jpg
END:VEVENT
BEGIN:VEVENT
DTSTART;TZID=America/Denver:20260217T190000
DTEND;TZID=America/Denver:20260217T230000
DTSTAMP:20260420T194708
CREATED:20260209T182847Z
LAST-MODIFIED:20260209T182847Z
UID:48503-1771354800-1771369200@bellinghamalive.com
SUMMARY:Everything Changes and That's OK Tour - Cherub & LCN!
DESCRIPTION:Electro indie duo Cherub bring their high energy live show to Bellingham on Tuesday\, February 17\, 2026 at Wild Buffalo House Of Music. Hailing from Nashville\, Tennessee\, Cherub is best known for their breakout hit “Doses & Mimosas\,” along with a catalog of infectious\, genre blending tracks that fuse electronic\, indie\, and pop influences. \nSupporting the night is LCN!\, a Filipino indie singer\, songwriter\, and recording artist from Seattle. Signed to 88rising\, LCN!’s music blends indie pop\, alternative rock\, and electronic elements\, earning him recognition as one of the Pacific Northwest’s rising voices. LCN! has toured across North America and opened for artists including Car\, The Garden\, Henry Morris\, and Pity Party (Girls Club).
URL:https://bellinghamalive.com/event2/everything-changes-and-thats-ok-tour-cherub-lcn/
LOCATION:WA
CATEGORIES:Concert
END:VEVENT
BEGIN:VEVENT
DTSTART;TZID=America/Denver:20260227T190000
DTEND;TZID=America/Denver:20260227T230000
DTSTAMP:20260420T194708
CREATED:20260105T235000Z
LAST-MODIFIED:20260105T235000Z
UID:48141-1772218800-1772233200@bellinghamalive.com
SUMMARY:Blue Room Presents | SOULFIRE with the Sam Harris Band
DESCRIPTION:Get ready for a night of smooth grooves and fiery soul at The Blue Room! \nThe evening begins with the Samuel Harris Band\, a refined four-piece delivering velvety jazz that sets the perfect mood. Then\, turn up the heat with Soul Fire\, a 70’s era powerhouse of brass-backed soul\, R&B\, and jazzy rock that’ll have you grooving in your seat. It’s where sophistication meets celebration — a night CLASSY as a craft cocktail and as FUN as the encore you’ll beg for. Dance the night away to an unforgettable blend of style & rhythm at The Blue Room. \nFeaturing \nSoul Fire is a newly formed Brass-backed 70’s band\, bringing the best 70’s vibes! Soul/funk/jazzy-rock tunes from Chicago\, Commodores\, Wings\, George Benson\, Tower of Power\, Earth Wind &Fire\, Pablo Cruise and more… Come dance to the SMOOTH side of the 70′! \nThe Sam Harris Band has become representative of the burgeoning jazz scene in Western Washington amongst the 18-30 year old demographic and can be found mostly in Seattle focusing on jazz/fusion originals and their unique covers of standard jazz tunes!
URL:https://bellinghamalive.com/event2/blue-room-presents-soulfire-with-the-sam-harris-band/
LOCATION:WA
CATEGORIES:Concert
ATTACH;FMTTYPE=image/jpeg:https://bellinghamalive.com/wp-content/uploads/2026/01/neon.jpg
END:VEVENT
BEGIN:VEVENT
DTSTART;TZID=America/Denver:20260228T190000
DTEND;TZID=America/Denver:20260228T213000
DTSTAMP:20260420T194708
CREATED:20260209T182819Z
LAST-MODIFIED:20260209T182819Z
UID:48498-1772305200-1772314200@bellinghamalive.com
SUMMARY:Fundraiser for What com & Skagit Immigrant Families
DESCRIPTION:Enjoy music by Hannah Wyatt\, Bad Posture Club\, and Cascade Cody with Jan Peters. All funds raised will be redistributed directly to local immigrant families in need of funds to cover rent\, food\, immigration lawyers\, and supplies for infants and children.\nWe celebrate what is good by sharing it.\nCof& at 1209 Cornwall Ave\, Bellingham\nDoors at 6:00\nMusic from 7-9:30\n$5-$25 sliding scale at the door\, cash or Venmo.\nReach out to badpostureclub@gmail.com with questions.\nwww.badpostureclub.net
URL:https://bellinghamalive.com/event2/fundraiser-for-what-com-skagit-immigrant-families/
LOCATION:WA
CATEGORIES:Concert
ATTACH;FMTTYPE=image/png:https://bellinghamalive.com/wp-content/uploads/2026/02/Hello-Neighbor-scaled.png
END:VEVENT
BEGIN:VEVENT
DTSTART;TZID=America/Denver:20260311T190000
DTEND;TZID=America/Denver:20260311T230000
DTSTAMP:20260420T194708
CREATED:20260105T234922Z
LAST-MODIFIED:20260105T234922Z
UID:48114-1773255600-1773270000@bellinghamalive.com
SUMMARY:Open Jam!
DESCRIPTION:A FREE Open Mic Style Jam Session \nWe are so back!! \nFormerly known as Jam:30\, Blue Room’s open mic style jam session returns \nAdditional information: \nOpen Jam is a free form instrumental/vocal jam session with signups by instrument. It is a casual environment to practice your skills and meet new people. If you don’t play an instrument – simply sit back and enjoy the show! \nBlue Room provides a drumset\, piano\, electric guitar\, and various auxiliary percussion instruments. We encourage everyone to bring an instrument of their own! \nAdmission is free! Signups begin at 7pm and jamming starts closer to 8pm
URL:https://bellinghamalive.com/event2/open-jam-5/
LOCATION:WA
CATEGORIES:Concert
ATTACH;FMTTYPE=image/jpeg:https://bellinghamalive.com/wp-content/uploads/2026/01/OPEN-JAM2.jpg
END:VEVENT
BEGIN:VEVENT
DTSTART;TZID=America/Denver:20260404T120000
DTEND;TZID=America/Denver:20260404T200000
DTSTAMP:20260420T194708
CREATED:20260323T155257Z
LAST-MODIFIED:20260323T155257Z
UID:48960-1775304000-1775332800@bellinghamalive.com
SUMMARY:Stones Throw Brewery's 10th Anniversary Block Party!
DESCRIPTION:Join us to celebrate Stones Throw’s 10th year of business with a block party from 12-8pm on April 4th! Free\, Family Friendly\, with live music and food trucks. We hope to see you there! More information can be found at https://www.stonesthrowbrewery.com/st-events/10-year-anniversary-block-party
URL:https://bellinghamalive.com/event2/stones-throw-brewerys-10th-anniversary-block-party/
LOCATION:WA
CATEGORIES:Concert
ATTACH;FMTTYPE=image/png:https://bellinghamalive.com/wp-content/uploads/2026/03/10th-Anniversary-Block-Party-Thumbnail.png
END:VEVENT
BEGIN:VEVENT
DTSTART;TZID=America/Denver:20260509T193000
DTEND;TZID=America/Denver:20260510T140000
DTSTAMP:20260420T194708
CREATED:20260306T223122Z
LAST-MODIFIED:20260306T223122Z
UID:48773-1778355000-1778421600@bellinghamalive.com
SUMMARY:Skagit Valley Chorale Spring 2026 Concert
DESCRIPTION:Skagit Valley Chorale Presents\, “Celebrating in Song.”\nHappy 250th Birthday\, USA!\nwith the North Cascades Concert Band.\nSaturday\, May 9th at 7:30pm\nSunday\, May 10th at 2pm \nCelebrating In Song
URL:https://bellinghamalive.com/event2/skagit-valley-chorale-spring-2026-concert/
LOCATION:WA
CATEGORIES:Concert
END:VEVENT
BEGIN:VEVENT
DTSTART;TZID=America/Denver:20260510T120000
DTEND;TZID=America/Denver:20260510T160000
DTSTAMP:20260420T194708
CREATED:20260407T213919Z
LAST-MODIFIED:20260407T213919Z
UID:49407-1778414400-1778428800@bellinghamalive.com
SUMMARY:Mother's Day Cocnert
DESCRIPTION:Mother’s Day Concert at Meerkerk Gardens\, Sunday May 10\, noon – 4 3531 Meerkerk Lane\, Greenbank\, WA. 3 great bands. Gorgeous rhododendron gardens. $15 admission\, children under 13 enter free. Dogs on leash welcome. Bring your own chair. free parking. Details at www.meerkerkgardens.org/events-overview
URL:https://bellinghamalive.com/event2/mothers-day-cocnert/
LOCATION:WA
CATEGORIES:Concert
ATTACH;FMTTYPE=image/png:https://bellinghamalive.com/wp-content/uploads/2026/04/Mother-Day-flier-2026-2-scaled.png
END:VEVENT
BEGIN:VEVENT
DTSTART;TZID=America/Denver:20260510T120000
DTEND;TZID=America/Denver:20260510T160000
DTSTAMP:20260420T194708
CREATED:20260416T161824Z
LAST-MODIFIED:20260416T161824Z
UID:49506-1778414400-1778428800@bellinghamalive.com
SUMMARY:Mother's Day Concert at Meerkerk Gardens
DESCRIPTION:Mother’s Day\, Sunday May 10\, is spectacular at Meerkerk Gardens\, 3531 Meerkerk Lane\, Greenbank. The rhododendrons are blooming in every color and nature’s beauty is on full display. Come walk the gardens and join us for fine music from local musicians on the Gazebo lawn from noon – 4. along with pie and beverages for purchase. Bring friends\, children\, and grandchildren\, and enjoy a lovely day together. Bring your own chair. Parking is free. Dogs on leash are welcome\, always. Admission is $15\, children under 13 come for free. More information at www.meerkerkgardens.org/mothers-day-celebration or call 360-678-1912.
URL:https://bellinghamalive.com/event2/mothers-day-concert-at-meerkerk-gardens/
LOCATION:WA
CATEGORIES:Concert
ATTACH;FMTTYPE=image/png:https://bellinghamalive.com/wp-content/uploads/2026/04/Mother-Day-flier-2026-4.15.26-scaled.png
END:VEVENT
BEGIN:VEVENT
DTSTART;TZID=America/Denver:20260516T193000
DTEND;TZID=America/Denver:20260516T210000
DTSTAMP:20260420T194708
CREATED:20260320T154409Z
LAST-MODIFIED:20260320T154409Z
UID:48942-1778959800-1778965200@bellinghamalive.com
SUMMARY:Skagit Symphony: The Great British Music Show
DESCRIPTION:Skagit Symphony is baking up a delicious finish to our Cult Classical season. Prove you’ll rise to the occasion by kneading to hear Holst’s The Planets with special guest Vox Pacifica! Soprano Renee Rybolt illuminates McIntyre Hall with Herbert Howell’s idyllic In Green Ways. \nFor more information visit https://www.skagitsymphony.com/the-great-british-music-show\nEmail the symphony office at info@skagitsymphony.com or call 360-848-9336 \nFor tickets\, visit https://purchase.mcintyrehall.org/EventAvailability?EventId=12001\nOr call the box office at 360-416-7727
URL:https://bellinghamalive.com/event2/skagit-symphony-the-great-british-music-show/
LOCATION:WA
CATEGORIES:Concert
ATTACH;FMTTYPE=image/png:https://bellinghamalive.com/wp-content/uploads/2026/03/05-May-Great-British-Music-Show.png
END:VEVENT
BEGIN:VEVENT
DTSTART;TZID=America/Denver:20260621T160000
DTEND;TZID=America/Denver:20260621T210000
DTSTAMP:20260420T194708
CREATED:20260323T155237Z
LAST-MODIFIED:20260323T155237Z
UID:48954-1782057600-1782075600@bellinghamalive.com
SUMMARY:Golden Jubilee at Chuckanut Bay Distillery
DESCRIPTION:Golden Jubilee at Chuckanut Bay Distillery \nSunday June 21st\n4-9PM\n1309 Cornwall Ave\nBellingham WA \nPlease join us for an acoustic assembly of rare musical decadence with celebration and salutation marking the 50th birthday for a stranger and friend. Featuring a handful from the region’s finest providing your high and happy soundtrack atop the city’s newest gorgeous transformative space: The Ballroom at Chuckanut Bay Distillery. \nWith live performances from: \nThe Hot Tomatoes\nBuddy Mac and His Ten-Gallon Troubadours\nDumpster Joe & The Boys (PDX)\nHot Damn Scandal\nAlder Street (EUGENE) \nHosted by Pace Rubadeau \nTickets available via: \ntinyurl.com/cbdgoldenjubilee \nEarly Bird $`25 (including processing fees)\nMarch 20th to April 30th \nAdvance `$30 (including processing fees\nMay 1st to June 20th \nDay of Show $35\n(cash/venmo @pacetrumpet) \n21+\nCash bar\nADA accessible \nBrilliant handmade keepsake courtesy Minoot Illustration
URL:https://bellinghamalive.com/event2/golden-jubilee-at-chuckanut-bay-distillery/
LOCATION:WA
CATEGORIES:Concert
ATTACH;FMTTYPE=image/jpeg:https://bellinghamalive.com/wp-content/uploads/2026/03/Golden-Jubilee_Color_v2-scaled.jpg
END:VEVENT
END:VCALENDAR