BEGIN:VCALENDAR
VERSION:2.0
PRODID:-//Bellingham Alive - ECPv6.15.20//NONSGML v1.0//EN
CALSCALE:GREGORIAN
METHOD:PUBLISH
X-WR-CALNAME:Bellingham Alive
X-ORIGINAL-URL:https://bellinghamalive.com
X-WR-CALDESC:Events for Bellingham Alive
REFRESH-INTERVAL;VALUE=DURATION:PT1H
X-Robots-Tag:noindex
X-PUBLISHED-TTL:PT1H
BEGIN:VTIMEZONE
TZID:America/Denver
BEGIN:DAYLIGHT
TZOFFSETFROM:-0700
TZOFFSETTO:-0600
TZNAME:MDT
DTSTART:20250309T090000
END:DAYLIGHT
BEGIN:STANDARD
TZOFFSETFROM:-0600
TZOFFSETTO:-0700
TZNAME:MST
DTSTART:20251102T080000
END:STANDARD
BEGIN:DAYLIGHT
TZOFFSETFROM:-0700
TZOFFSETTO:-0600
TZNAME:MDT
DTSTART:20260308T090000
END:DAYLIGHT
BEGIN:STANDARD
TZOFFSETFROM:-0600
TZOFFSETTO:-0700
TZNAME:MST
DTSTART:20261101T080000
END:STANDARD
BEGIN:DAYLIGHT
TZOFFSETFROM:-0700
TZOFFSETTO:-0600
TZNAME:MDT
DTSTART:20270314T090000
END:DAYLIGHT
BEGIN:STANDARD
TZOFFSETFROM:-0600
TZOFFSETTO:-0700
TZNAME:MST
DTSTART:20271107T080000
END:STANDARD
END:VTIMEZONE
BEGIN:VEVENT
DTSTART;TZID=America/Denver:20260311T190000
DTEND;TZID=America/Denver:20260311T230000
DTSTAMP:20260420T143800
CREATED:20260105T234922Z
LAST-MODIFIED:20260105T234922Z
UID:48114-1773255600-1773270000@bellinghamalive.com
SUMMARY:Open Jam!
DESCRIPTION:A FREE Open Mic Style Jam Session \nWe are so back!! \nFormerly known as Jam:30\, Blue Room’s open mic style jam session returns \nAdditional information: \nOpen Jam is a free form instrumental/vocal jam session with signups by instrument. It is a casual environment to practice your skills and meet new people. If you don’t play an instrument – simply sit back and enjoy the show! \nBlue Room provides a drumset\, piano\, electric guitar\, and various auxiliary percussion instruments. We encourage everyone to bring an instrument of their own! \nAdmission is free! Signups begin at 7pm and jamming starts closer to 8pm
URL:https://bellinghamalive.com/event2/open-jam-5/
CATEGORIES:Concert
ATTACH;FMTTYPE=image/jpeg:https://bellinghamalive.com/wp-content/uploads/2026/01/OPEN-JAM2.jpg
END:VEVENT
END:VCALENDAR