BEGIN:VCALENDAR
VERSION:2.0
PRODID:-//Bellingham Alive - ECPv6.15.20//NONSGML v1.0//EN
CALSCALE:GREGORIAN
METHOD:PUBLISH
X-ORIGINAL-URL:https://bellinghamalive.com
X-WR-CALDESC:Events for Bellingham Alive
REFRESH-INTERVAL;VALUE=DURATION:PT1H
X-Robots-Tag:noindex
X-PUBLISHED-TTL:PT1H
BEGIN:VTIMEZONE
TZID:America/Denver
BEGIN:DAYLIGHT
TZOFFSETFROM:-0700
TZOFFSETTO:-0600
TZNAME:MDT
DTSTART:20240310T090000
END:DAYLIGHT
BEGIN:STANDARD
TZOFFSETFROM:-0600
TZOFFSETTO:-0700
TZNAME:MST
DTSTART:20241103T080000
END:STANDARD
BEGIN:DAYLIGHT
TZOFFSETFROM:-0700
TZOFFSETTO:-0600
TZNAME:MDT
DTSTART:20250309T090000
END:DAYLIGHT
BEGIN:STANDARD
TZOFFSETFROM:-0600
TZOFFSETTO:-0700
TZNAME:MST
DTSTART:20251102T080000
END:STANDARD
BEGIN:DAYLIGHT
TZOFFSETFROM:-0700
TZOFFSETTO:-0600
TZNAME:MDT
DTSTART:20260308T090000
END:DAYLIGHT
BEGIN:STANDARD
TZOFFSETFROM:-0600
TZOFFSETTO:-0700
TZNAME:MST
DTSTART:20261101T080000
END:STANDARD
END:VTIMEZONE
BEGIN:VEVENT
DTSTART;TZID=America/Denver:20250903T103000
DTEND;TZID=America/Denver:20250903T113000
DTSTAMP:20260421T023109
CREATED:20250825T195451Z
LAST-MODIFIED:20250825T195451Z
UID:46514-1756895400-1756899000@bellinghamalive.com
SUMMARY:BMC matinee program with Bellissima Brass
DESCRIPTION:Bellingham Music Club opens its 110th season with Bellissima Brass\, a quintet that plays a women composers program for horn\, trumpet\, tuba and trombone. \nMichelle Rockwood\, Karolyn Labes\, Shelly Devlin\, Amy Kavanagh\, and Emma Eliason will perform works by Gwyneth Walker\, Fanny Mendelssohn-Hensel\, Barbara York\, and Florence Price. \nJoin us right after Labor Day for a matinee concert on Wednesday\, September 3\, at 10:30am\, at Trinity Lutheran Church\, 119 Texas St. in Bellingham. Free\, open to all\, and family friendly. This is BMC’s gift to the community! \nMore information about BMC’s season and endeavors on https://bellinghammusicclub.org/
URL:https://bellinghamalive.com/event2/bmc-matinee-program-with-bellissima-brass/
CATEGORIES:Concert
ATTACH;FMTTYPE=image/jpeg:https://bellinghamalive.com/wp-content/uploads/2025/08/Bellissima-Brass-Sept-2025-16x9-1-scaled.jpg
END:VEVENT
BEGIN:VEVENT
DTSTART;TZID=America/Denver:20250905T193000
DTEND;TZID=America/Denver:20250905T210000
DTSTAMP:20260421T023109
CREATED:20250825T195410Z
LAST-MODIFIED:20250825T195431Z
UID:46517-1757100600-1757106000@bellinghamalive.com
SUMMARY:BMC Night Beat presents Bellissima Brass
DESCRIPTION:Bellingham Music Club opens its 110th season with Bellissima Brass\, an all-women quintet that plays an all-women composers program for horn\, trumpet\, tuba and trombone. \nMichelle Rockwood\, Karolyn Labes\, Shelly Devlin\, Amy Kavanagh\, and Emma Eliason will perform works by Gwyneth Walker\, Fanny Mendelssohn-Hensel\, Barbara York\, and Florence Price. \nJoin us right after Labor Day\, for the full-length “Night Beat” concert on Friday\, September 5\, 7:30pm at First Congregational Church\, 2401 Cornwall Ave. in Bellingham. No ticket purchase required; we suggest a $20 donation. All are welcome and students are always free! \nFind out more about BMC’s season and endeavors on https://bellinghammusicclub.org/
URL:https://bellinghamalive.com/event2/bmc-night-beat-presents-bellissima-brass/
CATEGORIES:Concert
ATTACH;FMTTYPE=image/jpeg:https://bellinghamalive.com/wp-content/uploads/2025/08/Bellissima-Brass-Sept-2025-16x91-1-scaled.jpg
END:VEVENT
BEGIN:VEVENT
DTSTART;TZID=America/Denver:20250922T193000
DTEND;TZID=America/Denver:20250922T230000
DTSTAMP:20260421T023109
CREATED:20250909T155401Z
LAST-MODIFIED:20250909T155401Z
UID:46916-1758569400-1758582000@bellinghamalive.com
SUMMARY:Tim Kliphuis & Jimmy Grant\, Pace Trumpet
DESCRIPTION:Join us on Monday September 22nd for an acoustic affair to remember in the heart of downtown B’ham with award-winning violin legend Tim Kliphuis (Holland) and rising star on manouche jazz guitar Jimmy Grant (LA). \nThe duo celebrates the music of Stéphane Grappelli and Django Reinhardt. Re-creating the 1930s in Paris\, and drawing inspiration from current-day classical and folk music as well\, they alternate moments of dazzling interplay with melancholy and sheer exhilaration in an inspired conversational journey that is different every night. \nFeaturing an opening set by local purveyors of nostalgia Pace Trumpet\, a rotating regional collective offering songs and singalongs from early jazz and blues. With Christian Casolary on percussion\, Pace Rubadeau on muted trumpet\, Sarah Yates on the upright bass\, and Zach Zenovic on rhythm guitar. \nTickets available via shakedownbellingham.com\nDoors 7:30PM\nShow 8PM\n21+
URL:https://bellinghamalive.com/event2/tim-kliphuis-jimmy-grant-pace-trumpet/
CATEGORIES:Concert
ATTACH;FMTTYPE=image/jpeg:https://bellinghamalive.com/wp-content/uploads/2025/09/tim-and-jimmy-IG.jpg
END:VEVENT
END:VCALENDAR