BEGIN:VCALENDAR
VERSION:2.0
PRODID:-//Bellingham Alive - ECPv6.15.20//NONSGML v1.0//EN
CALSCALE:GREGORIAN
METHOD:PUBLISH
X-ORIGINAL-URL:https://bellinghamalive.com
X-WR-CALDESC:Events for Bellingham Alive
REFRESH-INTERVAL;VALUE=DURATION:PT1H
X-Robots-Tag:noindex
X-PUBLISHED-TTL:PT1H
BEGIN:VTIMEZONE
TZID:America/Denver
BEGIN:DAYLIGHT
TZOFFSETFROM:-0700
TZOFFSETTO:-0600
TZNAME:MDT
DTSTART:20240310T090000
END:DAYLIGHT
BEGIN:STANDARD
TZOFFSETFROM:-0600
TZOFFSETTO:-0700
TZNAME:MST
DTSTART:20241103T080000
END:STANDARD
BEGIN:DAYLIGHT
TZOFFSETFROM:-0700
TZOFFSETTO:-0600
TZNAME:MDT
DTSTART:20250309T090000
END:DAYLIGHT
BEGIN:STANDARD
TZOFFSETFROM:-0600
TZOFFSETTO:-0700
TZNAME:MST
DTSTART:20251102T080000
END:STANDARD
BEGIN:DAYLIGHT
TZOFFSETFROM:-0700
TZOFFSETTO:-0600
TZNAME:MDT
DTSTART:20260308T090000
END:DAYLIGHT
BEGIN:STANDARD
TZOFFSETFROM:-0600
TZOFFSETTO:-0700
TZNAME:MST
DTSTART:20261101T080000
END:STANDARD
END:VTIMEZONE
BEGIN:VEVENT
DTSTART;TZID=America/Denver:20250202T193000
DTEND;TZID=America/Denver:20250202T210000
DTSTAMP:20260421T152943
CREATED:20250227T170256Z
LAST-MODIFIED:20250227T170256Z
UID:44001-1738524600-1738530000@bellinghamalive.com
SUMMARY:Dirty Dozen Brass Band
DESCRIPTION:Official Website\nThe Lincoln Theatre is honored to host The Dirty Dozen Brass Band! Join us for a Mardi Gras celebration with this legendary New Orleans ensemble! \nCelebrating over 45 years since their founding in 1977\, the Grammy Award-winning New Orleans-based Dirty Dozen Brass Band has taken the traditional foundation of brass band music and incorporated it into a blend of genres\, including bebop jazz\, funk and R&B/soul. This unique sound\, described by the band as a “musical gumbo\,” has allowed the Dirty Dozen to tour across five continents and more than thirty countries\, record twelve studio albums\, and collaborate with a range of artists from Modest Mouse to Widespread Panic to Norah Jones. Forty-five plus years later\, the Dirty Dozen Brass Band is a world-famous music machine whose name is synonymous with genre-bending romps and high-octane performances. \nIn 1977\, the Dirty Dozen Social Aid and Pleasure Club in New Orleans began showcasing a traditional Crescent City brass band. It was a joining of two proud\, but antiquated\, traditions at the time: social aid and pleasure clubs dated back over a century to a time when black southerners could rarely afford life insurance\, and the clubs would provide proper funeral arrangements. Brass bands — early predecessors of jazz as we know it — would often follow the funeral procession playing somber dirges\, then once the family of the deceased was out of earshot\, burst into jubilant dance tunes as casual onlookers danced in the streets. By the late ’70s\, few of either existed. The Dirty Dozen Social Aid and Pleasure Club decided to assemble this group as a house band\, and over the course of these early gigs\, the seven-member ensemble adopted the venue’s name: The Dirty Dozen Brass Band.
URL:https://bellinghamalive.com/event2/dirty-dozen-brass-band/
CATEGORIES:Concert
ATTACH;FMTTYPE=image/png:https://bellinghamalive.com/wp-content/uploads/2025/02/dirty-dozen-300.png
END:VEVENT
BEGIN:VEVENT
DTSTART;TZID=America/Denver:20250205T103000
DTEND;TZID=America/Denver:20250205T113000
DTSTAMP:20260421T152943
CREATED:20250204T210318Z
LAST-MODIFIED:20250204T210318Z
UID:43334-1738751400-1738755000@bellinghamalive.com
SUMMARY:BMC matinee program features music from Scandinavia
DESCRIPTION:Violinist Grant Donnellan offers the fourth installment of his popular musical travelogue series. \nThis year\, he explores the rich musical heritage and his personal connection with Scandinavian culture. He and pianist Judith Widrig have curated a selection of works by well-known composers\, as well as “discoveries” by women composers. \nJoin us on Wednesday\, February 5\, at 10:30am\, at Trinity Lutheran Church\, 119 Texas St. in Bellingham. Free\, open to all\, and family friendly. This is BMC’s gift to the community! More information on https://bellinghammusicclub.org/
URL:https://bellinghamalive.com/event2/bmc-matinee-program-features-music-from-scandinavia/
CATEGORIES:Concert
ATTACH;FMTTYPE=image/jpeg:https://bellinghamalive.com/wp-content/uploads/2025/01/Grant-D-2023.jpg
END:VEVENT
BEGIN:VEVENT
DTSTART;TZID=America/Denver:20250207T193000
DTEND;TZID=America/Denver:20250207T210000
DTSTAMP:20260421T152943
CREATED:20250204T210450Z
LAST-MODIFIED:20250204T210450Z
UID:43337-1738956600-1738962000@bellinghamalive.com
SUMMARY:Music and stories from Scandinavia with violinist Grant Donnellan and pianist Judith Widrig
DESCRIPTION:Violinist Grant Donnellan offers the fourth installment of his popular musical travelogue series. This year\, he explores the rich musical heritage and his personal connection with Scandinavian culture. \nHe and pianist Judith Widrig have curated a selection of works by Edvard Grieg and Jean Sibelius\, as well as “discoveries” by romantic Swedish composer Amanda Maier\, and contemporary Finnish composer Kaija Saariaho. \nFull-length BMC Night Beat is on Friday\, February 7\, 7:30pm at First Congregational Church\, 2401 Cornwall Ave. in Bellingham. No ticket purchase required; we suggest a $20 donation. All are welcome and students are always free! \nFind out more about BMC’s season and endeavors on https://bellinghammusicclub.org/
URL:https://bellinghamalive.com/event2/music-and-stories-from-scandinavia-with-violinist-grant-donnellan-and-pianist-judith-widrig/
CATEGORIES:Concert
ATTACH;FMTTYPE=image/jpeg:https://bellinghamalive.com/wp-content/uploads/2025/01/Grant-D-20231.jpg
END:VEVENT
BEGIN:VEVENT
DTSTART;TZID=America/Denver:20250209T180000
DTEND;TZID=America/Denver:20250209T210000
DTSTAMP:20260421T152943
CREATED:20250204T211017Z
LAST-MODIFIED:20250204T211017Z
UID:43351-1739124000-1739134800@bellinghamalive.com
SUMMARY:Bad Posture Club: A Welcome Home Show
DESCRIPTION:Bad Posture Club: A Welcome Home Show \nSunday February 9th\n1309 Cornwall Ave \nPlease join us for an intimate and acoustic listening event featuring songs and stories collected in their seven years since leaving Bellingham. Held in the city’s newest gorgeous and transformative space: The Ballroom at Chuckanut Bay Distillery. \nDoors/Social Hour 6PM w/The Shadies\nBad Posture Club 7-8:30PM \nTickets available via: \nhttps://events.humanitix.com/bpcbham \nEarly Bird $15 (January 6th to January 20th)\nAdvance $20 (January 21st to February 8th)\nDay of Show $25 (cash/venmo @pacetrumpet) \n21+\nCash bar\nADA accessible \n* Bad Posture Club *\nBad Posture Club are a queer folk duo made up of Maren Day and Morgan Kavanagh. Originally from Northwestern Washington\, they’ve toured nationally and spent formative years in the Midwest music scene. Together they craft intricate and experimental harmonies with their two voices\, banjo\, guitar\, and a century-old pump organ. Bad Posture Club invites the listener in to offer warmth and reflection through their original therapeutic soundscape. \nbadpostureclub.net \n* The Shadies *\nBest be fashionably on time to meet and mingle before the main event as Bellingham’s own The Shadies help feed the community sentiment. Proud nerds of obscure fiddle tunes\, forgotten songs from the early twentieth century\, Hawaiian steel guitar melodies\, and classic country favorites. Their old-time sound is an extension of late-night kitchen jams\, impromptu square dances\, festival pilgrimages\, and compulsive woodshedding. Are they a band or just some pals that love to play tunes and sing songs? After almost 20 years\, it’s hard to tell.
URL:https://bellinghamalive.com/event2/bad-posture-club-a-welcome-home-show/
CATEGORIES:Concert
ATTACH;FMTTYPE=image/jpeg:https://bellinghamalive.com/wp-content/uploads/2025/01/Bad-Posture-Club.jpg
END:VEVENT
BEGIN:VEVENT
DTSTART;TZID=America/Denver:20250216T160000
DTEND;TZID=America/Denver:20250216T180000
DTSTAMP:20260421T152943
CREATED:20250213T155824Z
LAST-MODIFIED:20250213T155824Z
UID:43851-1739721600-1739728800@bellinghamalive.com
SUMMARY:The Jazz Project
DESCRIPTION:The 2025 Spring Art of Jazz Series continues with Danned If We Do\, with Jud Sherwood\, drums/vocals; Cheryl Hodge\, keyboard/vocals; Brian Cunningham\, guitar/vocals; Jon Meyer\, bass. Tickets and memberships are available in The Jazz Project store. Art of Jazz tickets are generic and admit to any concert in the series. The 2025 series is free to Jazz Project members. \nCost: Free for Members\, $20 at the door\nPurchase tickets in advance at https://jazzproject.org/product-category/tickets-art-of-jazz/ \nWebsite: jazzproject.org
URL:https://bellinghamalive.com/event2/the-jazz-project/
CATEGORIES:Concert
END:VEVENT
BEGIN:VEVENT
DTSTART;TZID=America/Denver:20250228T190000
DTEND;TZID=America/Denver:20250301T200000
DTSTAMP:20260421T152943
CREATED:20250217T163504Z
LAST-MODIFIED:20250217T163504Z
UID:43866-1740769200-1740859200@bellinghamalive.com
SUMMARY:Vox & Friends Uncorked!
DESCRIPTION:On Feb 38 7 pm\, March 1st 3 pm\, directed by Wendy Bloom\, Vox Pacifica women’s chorus presents an uplifting cabaret of Broadway tunes\, Sinatra\, ensemble and solos accompanied by professional pianist\, bass and percussionist. At New Prospect Theater 207 Prospect St. your ticket includes appetizer buffet and choice of wine\, beer or cider for an uplifting energetic musical experience!
URL:https://bellinghamalive.com/event2/vox-friends-uncorked/
CATEGORIES:Concert
ATTACH;FMTTYPE=image/png:https://bellinghamalive.com/wp-content/uploads/2025/02/2025-Feb-uncorked.png
END:VEVENT
END:VCALENDAR