BEGIN:VCALENDAR
VERSION:2.0
PRODID:-//Bellingham Alive - ECPv6.15.20//NONSGML v1.0//EN
CALSCALE:GREGORIAN
METHOD:PUBLISH
X-WR-CALNAME:Bellingham Alive
X-ORIGINAL-URL:https://bellinghamalive.com
X-WR-CALDESC:Events for Bellingham Alive
REFRESH-INTERVAL;VALUE=DURATION:PT1H
X-Robots-Tag:noindex
X-PUBLISHED-TTL:PT1H
BEGIN:VTIMEZONE
TZID:America/Denver
BEGIN:DAYLIGHT
TZOFFSETFROM:-0700
TZOFFSETTO:-0600
TZNAME:MDT
DTSTART:20230312T090000
END:DAYLIGHT
BEGIN:STANDARD
TZOFFSETFROM:-0600
TZOFFSETTO:-0700
TZNAME:MST
DTSTART:20231105T080000
END:STANDARD
BEGIN:DAYLIGHT
TZOFFSETFROM:-0700
TZOFFSETTO:-0600
TZNAME:MDT
DTSTART:20240310T090000
END:DAYLIGHT
BEGIN:STANDARD
TZOFFSETFROM:-0600
TZOFFSETTO:-0700
TZNAME:MST
DTSTART:20241103T080000
END:STANDARD
BEGIN:DAYLIGHT
TZOFFSETFROM:-0700
TZOFFSETTO:-0600
TZNAME:MDT
DTSTART:20250309T090000
END:DAYLIGHT
BEGIN:STANDARD
TZOFFSETFROM:-0600
TZOFFSETTO:-0700
TZNAME:MST
DTSTART:20251102T080000
END:STANDARD
END:VTIMEZONE
BEGIN:VEVENT
DTSTART;TZID=America/Denver:20241208T150000
DTEND;TZID=America/Denver:20241208T160000
DTSTAMP:20260421T194208
CREATED:20241120T161900Z
LAST-MODIFIED:20241120T161900Z
UID:42569-1733670000-1733673600@bellinghamalive.com
SUMMARY:Holiday Ukulele Concert
DESCRIPTION:Enjoy the splendor of Old City Hall\, festooned in its holiday finest\, while celebrating the songs of the season with the Community Ukulele Players (CUP). \nAdmission to Old City Hall is by donation through the month of December.
URL:https://bellinghamalive.com/event2/holiday-ukulele-concert-2/
CATEGORIES:Concert
ATTACH;FMTTYPE=image/png:https://bellinghamalive.com/wp-content/uploads/2024/11/DOCH_7.5-Ratio3.png
END:VEVENT
BEGIN:VEVENT
DTSTART;TZID=America/Denver:20241213T190000
DTEND;TZID=America/Denver:20241213T210000
DTSTAMP:20260421T194208
CREATED:20241112T162520Z
LAST-MODIFIED:20241112T162520Z
UID:42503-1734116400-1734123600@bellinghamalive.com
SUMMARY:Winter Wonder
DESCRIPTION:Bellingham Community Chorus presents seasonal music\, with some singalong selections\, in a family-friendly concert. Tickets online at www.bellinghamcommunitychorus.org or at the door. $20 per person; ages 12 and under are free
URL:https://bellinghamalive.com/event2/winter-wonder/
CATEGORIES:Concert
ATTACH;FMTTYPE=image/jpeg:https://bellinghamalive.com/wp-content/uploads/2024/11/IMG_6777.jpeg
END:VEVENT
BEGIN:VEVENT
DTSTART;TZID=America/Denver:20241213T190000
DTEND;TZID=America/Denver:20241213T210000
DTSTAMP:20260421T194208
CREATED:20241112T162540Z
LAST-MODIFIED:20241112T162540Z
UID:42509-1734116400-1734123600@bellinghamalive.com
SUMMARY:Winter Wonder
DESCRIPTION:Bellingham Community Chorus presents seasonal music\, with some singalong selections\, in a family-friendly concert. Tickets online at www.bellinghamcommunitychorus.org or at the door. $20 per person; ages 12 and under are free
URL:https://bellinghamalive.com/event2/winter-wonder-2/
CATEGORIES:Concert
ATTACH;FMTTYPE=image/jpeg:https://bellinghamalive.com/wp-content/uploads/2024/11/IMG_67771.jpeg
END:VEVENT
BEGIN:VEVENT
DTSTART;TZID=America/Denver:20241219T183000
DTEND;TZID=America/Denver:20241219T210000
DTSTAMP:20260421T194208
CREATED:20241209T172329Z
LAST-MODIFIED:20241209T172329Z
UID:42748-1734633000-1734642000@bellinghamalive.com
SUMMARY:Benefit Concert for the Children of Gaza
DESCRIPTION:Benefit Concert to help the Children of Gaza. Thursday December 19\, 6:30 pm at the Firehouse Arts and Events Center\, 1314 Harris Ave. Doors open at 5:30 pm. $10-whatever you can give\, All proceeds to Middle East Children’s Alliance. Featuring: House Kat\, Giants Causeway Due\, JT and the Blue Impressions. With Michale Jacobsen\, back from the West Bank A community gathering – listen\, dance\, give. Contact: jeanbham@gmail.com
URL:https://bellinghamalive.com/event2/benefit-concert-for-the-children-of-gaza/
CATEGORIES:Concert
ATTACH;FMTTYPE=image/png:https://bellinghamalive.com/wp-content/uploads/2024/12/IMG_3642.png
END:VEVENT
END:VCALENDAR