BEGIN:VCALENDAR
VERSION:2.0
PRODID:-//Bellingham Alive - ECPv6.15.20//NONSGML v1.0//EN
CALSCALE:GREGORIAN
METHOD:PUBLISH
X-ORIGINAL-URL:https://bellinghamalive.com
X-WR-CALDESC:Events for Bellingham Alive
REFRESH-INTERVAL;VALUE=DURATION:PT1H
X-Robots-Tag:noindex
X-PUBLISHED-TTL:PT1H
BEGIN:VTIMEZONE
TZID:America/Denver
BEGIN:DAYLIGHT
TZOFFSETFROM:-0700
TZOFFSETTO:-0600
TZNAME:MDT
DTSTART:20230312T090000
END:DAYLIGHT
BEGIN:STANDARD
TZOFFSETFROM:-0600
TZOFFSETTO:-0700
TZNAME:MST
DTSTART:20231105T080000
END:STANDARD
BEGIN:DAYLIGHT
TZOFFSETFROM:-0700
TZOFFSETTO:-0600
TZNAME:MDT
DTSTART:20240310T090000
END:DAYLIGHT
BEGIN:STANDARD
TZOFFSETFROM:-0600
TZOFFSETTO:-0700
TZNAME:MST
DTSTART:20241103T080000
END:STANDARD
BEGIN:DAYLIGHT
TZOFFSETFROM:-0700
TZOFFSETTO:-0600
TZNAME:MDT
DTSTART:20250309T090000
END:DAYLIGHT
BEGIN:STANDARD
TZOFFSETFROM:-0600
TZOFFSETTO:-0700
TZNAME:MST
DTSTART:20251102T080000
END:STANDARD
END:VTIMEZONE
BEGIN:VEVENT
DTSTART;TZID=America/Denver:20241117T150000
DTEND;TZID=America/Denver:20241117T170000
DTSTAMP:20260421T213712
CREATED:20240821T184028Z
LAST-MODIFIED:20240828T175556Z
UID:41647-1731855600-1731862800@bellinghamalive.com
SUMMARY:Bellingham Chamber M music Society: Electric -
DESCRIPTION:Jesse Montgomery’s exciting string quartet Voodoo Dolls will open the show and get your feet tapping. The excitement continues with Florence Price and Tchaikovsky’s first string quartets and Andre Jolivet’s gorgeous “Pastorales de Noel” for flute\, bassoon and harp.\nSunday November 17th at 3pm. Doors open at 2:30pm. Come early and enjoy a drink or our signature cocktail\, the Voodoo Punch\, from Amendment 21’s cash bar. \nBellingham Chamber Music Society \nHome \n\nmusicinbellingham@gmail.com\n360-592-3674
URL:https://bellinghamalive.com/event2/bellingham-chamber-m-music-society-electric/
CATEGORIES:Concert
ATTACH;FMTTYPE=image/jpeg:https://bellinghamalive.com/wp-content/uploads/2024/08/November-17th_16x9-scaled.jpg
END:VEVENT
END:VCALENDAR