BEGIN:VCALENDAR
VERSION:2.0
PRODID:-//Bellingham Alive - ECPv6.15.20//NONSGML v1.0//EN
CALSCALE:GREGORIAN
METHOD:PUBLISH
X-ORIGINAL-URL:https://bellinghamalive.com
X-WR-CALDESC:Events for Bellingham Alive
REFRESH-INTERVAL;VALUE=DURATION:PT1H
X-Robots-Tag:noindex
X-PUBLISHED-TTL:PT1H
BEGIN:VTIMEZONE
TZID:America/Denver
BEGIN:DAYLIGHT
TZOFFSETFROM:-0700
TZOFFSETTO:-0600
TZNAME:MDT
DTSTART:20230312T090000
END:DAYLIGHT
BEGIN:STANDARD
TZOFFSETFROM:-0600
TZOFFSETTO:-0700
TZNAME:MST
DTSTART:20231105T080000
END:STANDARD
BEGIN:DAYLIGHT
TZOFFSETFROM:-0700
TZOFFSETTO:-0600
TZNAME:MDT
DTSTART:20240310T090000
END:DAYLIGHT
BEGIN:STANDARD
TZOFFSETFROM:-0600
TZOFFSETTO:-0700
TZNAME:MST
DTSTART:20241103T080000
END:STANDARD
BEGIN:DAYLIGHT
TZOFFSETFROM:-0700
TZOFFSETTO:-0600
TZNAME:MDT
DTSTART:20250309T090000
END:DAYLIGHT
BEGIN:STANDARD
TZOFFSETFROM:-0600
TZOFFSETTO:-0700
TZNAME:MST
DTSTART:20251102T080000
END:STANDARD
END:VTIMEZONE
BEGIN:VEVENT
DTSTART;TZID=America/Denver:20240904T103000
DTEND;TZID=America/Denver:20240904T113000
DTSTAMP:20260422T020005
CREATED:20240821T183721Z
LAST-MODIFIED:20240821T183721Z
UID:41591-1725445800-1725449400@bellinghamalive.com
SUMMARY:BMC Matinee Program with organist Dongho Lee
DESCRIPTION:Under the theme “Music to Your Ears\,” the Bellingham Music Club opens its 109th season with a program at St. Paul’s Episcopal Church in Bellingham. \nRenowned organist Dongho Lee presents solo organ masterworks of Bach\, Mendelssohn\, and Buck\, alongside a world-premiere adaptation of Manuel Ponce’s Sonata for Guitar and Harpsichord with guitarist Eli Schille-Hudson. \nJoin us on Wednesday\, September 4 at 10:30am\, at St. Paul’s Episcopal Church\, 2117 Walnut St. in Bellingham (corner of Eldridge Ave.). Free and open to all. Family friendly. More about BMC on https://bellinghammusicclub.org/
URL:https://bellinghamalive.com/event2/bmc-matinee-program-with-organist-dongho-lee/
CATEGORIES:Concert
ATTACH;FMTTYPE=image/jpeg:https://bellinghamalive.com/wp-content/uploads/2024/08/202410-Dongho-Lee-headshot.jpg
END:VEVENT
BEGIN:VEVENT
DTSTART;TZID=America/Denver:20240904T103000
DTEND;TZID=America/Denver:20240904T113000
DTSTAMP:20260422T020005
CREATED:20240821T183745Z
LAST-MODIFIED:20240821T183745Z
UID:41594-1725445800-1725449400@bellinghamalive.com
SUMMARY:BMC Matinee Program with organist Dongho Lee
DESCRIPTION:Under the theme “Music to Your Ears\,” the Bellingham Music Club opens its 109th season with a program at St. Paul’s Episcopal Church in Bellingham. \nRenowned organist Dongho Lee presents solo organ masterworks of Bach\, Mendelssohn\, and Buck\, alongside a world-premiere adaptation of Manuel Ponce’s Sonata for Guitar and Harpsichord with guitarist Eli Schille-Hudson. \nJoin us on Wednesday\, September 4 at 10:30am\, at St. Paul’s Episcopal Church\, 2117 Walnut St. in Bellingham (corner of Eldridge Ave.). Free and open to all. Family friendly. More about BMC on https://bellinghammusicclub.org/
URL:https://bellinghamalive.com/event2/bmc-matinee-program-with-organist-dongho-lee-2/
CATEGORIES:Concert
ATTACH;FMTTYPE=image/jpeg:https://bellinghamalive.com/wp-content/uploads/2024/08/202410-Dongho-Lee-headshot1.jpg
END:VEVENT
BEGIN:VEVENT
DTSTART;TZID=America/Denver:20240906T193000
DTEND;TZID=America/Denver:20240906T210000
DTSTAMP:20260422T020005
CREATED:20240821T183804Z
LAST-MODIFIED:20240821T183804Z
UID:41597-1725651000-1725656400@bellinghamalive.com
SUMMARY:BMC Night Beat presents organist Dongho Lee
DESCRIPTION:Bellingham Music Club’s season-opening program features renowned organist Dongho Lee\, Director of Music at St. Paul’s Episcopal Church in Bellingham. \nDongho Lee presents solo organ masterworks of Bach\, Mozart\, Elgar\, Buck\, Mendelssohn\, and Bovet alongside a world-premiere adaptation of Manuel Ponce’s Sonata for Guitar and Harpsichord with guitarist Eli Schille-Hudson. \nFull-length BMC Night Beat is on Friday\, September 6\, 7:30pm at St. Paul’s Episcopal Church\, 2117 Walnut St. in Bellingham (corner of Eldridge Ave.). No ticket purchase is required for Night Beat (we suggest a $20 donation). All are welcome and students are always free! \nFind out more about about Dongho Lee on https://www.dongholee-organist.com/ and BMC’s 109th season “Music to Your Ears” on https://bellinghammusicclub.org/
URL:https://bellinghamalive.com/event2/bmc-night-beat-presents-organist-dongho-lee/
CATEGORIES:Concert
ATTACH;FMTTYPE=image/jpeg:https://bellinghamalive.com/wp-content/uploads/2024/08/202410-Dongho-Lee-headshot2.jpg
END:VEVENT
BEGIN:VEVENT
DTSTART;TZID=America/Denver:20240906T200000
DTEND;TZID=America/Denver:20240907T220000
DTSTAMP:20260422T020005
CREATED:20240821T184405Z
LAST-MODIFIED:20240821T184405Z
UID:41691-1725652800-1725746400@bellinghamalive.com
SUMMARY:Cash'd Out at Station 49 - The Premier Johnny Cash Show
DESCRIPTION:Who doesn’t love Johnny Cash?! The Premier Johnny Cash Show is back! They’re back in Birch Bay after and AMAZING performance last year! Get your tickets now!\nTickets: station49.yapsody.com\n“Some people are impressionists. These guys leave an impression”. Says Bill Miller\, owner of JohnnyCash.com about Cash’d Out\, a Las Vegas based band that channels Johnny Cash in about as close a manner to the real thing as it gets.\nAfter thirteen years\, traveling hundreds of thousands of miles on the road and winning over as many fans\, fans who still continually tell the group how grateful they are that Cash’d Out so righteously carries the torch of the Johnny Cash Show.\nThis event is for all ages!
URL:https://bellinghamalive.com/event2/cashd-out-at-station-49-the-premier-johnny-cash-show/
CATEGORIES:Concert
ATTACH;FMTTYPE=image/png:https://bellinghamalive.com/wp-content/uploads/2024/08/Cashd-Out-Cover.png
END:VEVENT
BEGIN:VEVENT
DTSTART;TZID=America/Denver:20240922T150000
DTEND;TZID=America/Denver:20240922T170000
DTSTAMP:20260422T020005
CREATED:20240821T184000Z
LAST-MODIFIED:20240821T184000Z
UID:41644-1727017200-1727024400@bellinghamalive.com
SUMMARY:Bellingham Chamber Music Society Opening Concert
DESCRIPTION:Join BCMS for our opening concert that will feature Ralph Vaughan William’s luscious “Six Studies in English Folk song for bassoon and strings”\, Ruth Gipps’ “Quintet for oboe\, clarinet and strings”\, and Beethoven’s inspirational “String Quartet No. 10 in Eb major\, The Harp”. We will also be displaying photography from the winners of our photo contest\, Portraits in Sound.\nConcert on Sunday September 22nd at 3pm. Doors open at 2:30pm. Come early and enjoy a drink or our signature cocktail\, Widdy’s Sunrise\, from Amendment 21’s cash bar.\nSeason and single tickets on sale today! \nBellingham Chamber Music Society \nHome \n\nmusicinbellingham@gmail.com\n360-592-3674
URL:https://bellinghamalive.com/event2/bellingham-chamber-music-society-opening-concert/
CATEGORIES:Concert
ATTACH;FMTTYPE=image/jpeg:https://bellinghamalive.com/wp-content/uploads/2024/08/September-22-smallcopy_16x9-scaled.jpg
END:VEVENT
END:VCALENDAR