BEGIN:VCALENDAR
VERSION:2.0
PRODID:-//Bellingham Alive - ECPv6.15.20//NONSGML v1.0//EN
CALSCALE:GREGORIAN
METHOD:PUBLISH
X-WR-CALNAME:Bellingham Alive
X-ORIGINAL-URL:https://bellinghamalive.com
X-WR-CALDESC:Events for Bellingham Alive
REFRESH-INTERVAL;VALUE=DURATION:PT1H
X-Robots-Tag:noindex
X-PUBLISHED-TTL:PT1H
BEGIN:VTIMEZONE
TZID:America/Denver
BEGIN:DAYLIGHT
TZOFFSETFROM:-0700
TZOFFSETTO:-0600
TZNAME:MDT
DTSTART:20230312T090000
END:DAYLIGHT
BEGIN:STANDARD
TZOFFSETFROM:-0600
TZOFFSETTO:-0700
TZNAME:MST
DTSTART:20231105T080000
END:STANDARD
BEGIN:DAYLIGHT
TZOFFSETFROM:-0700
TZOFFSETTO:-0600
TZNAME:MDT
DTSTART:20240310T090000
END:DAYLIGHT
BEGIN:STANDARD
TZOFFSETFROM:-0600
TZOFFSETTO:-0700
TZNAME:MST
DTSTART:20241103T080000
END:STANDARD
BEGIN:DAYLIGHT
TZOFFSETFROM:-0700
TZOFFSETTO:-0600
TZNAME:MDT
DTSTART:20250309T090000
END:DAYLIGHT
BEGIN:STANDARD
TZOFFSETFROM:-0600
TZOFFSETTO:-0700
TZNAME:MST
DTSTART:20251102T080000
END:STANDARD
END:VTIMEZONE
BEGIN:VEVENT
DTSTART;TZID=America/Denver:20240815T180000
DTEND;TZID=America/Denver:20240815T200000
DTSTAMP:20260422T035530
CREATED:20240821T183455Z
LAST-MODIFIED:20240821T183455Z
UID:41580-1723744800-1723752000@bellinghamalive.com
SUMMARY:The Unknowns
DESCRIPTION:The Unknowns are a five-piece band whose music combines the sound of vintage jazz\, blues and soul with a contemporary pop twist to create an upbeat and unforgettable sound. Featuring three-part vocal harmony backed by keyboard\, guitar\, ukulele\, acoustic bass and drums\, they approach original songs and timeless jazz standards with the same contemporary polish. Inspired by their love of R&B\, motown\, Broadway ballads and swing\, their live performances showcase the band’s exceptional musicianship and fun\, irreverent attitude that wins over audiences. \nThe Unknowns are Kim Bowman (vocals and piano)\, Caitie Bowell (vocals and guitars)\, Allison Bowman (vocals and ukulele)\, Sarah Yates (acoustic bass) and Melanie Sehman (drums).
URL:https://bellinghamalive.com/event2/the-unknowns-5/
CATEGORIES:Concert
ATTACH;FMTTYPE=image/jpeg:https://bellinghamalive.com/wp-content/uploads/2024/08/Tour-Norway.jpg
END:VEVENT
BEGIN:VEVENT
DTSTART;TZID=America/Denver:20240816T190000
DTEND;TZID=America/Denver:20240816T210000
DTSTAMP:20260422T035530
CREATED:20240821T183536Z
LAST-MODIFIED:20240821T183536Z
UID:41583-1723834800-1723842000@bellinghamalive.com
SUMMARY:The Unknowns
DESCRIPTION:The Unknowns are a five-piece band whose music combines the sound of vintage jazz\, blues and soul with a contemporary pop twist to create an upbeat and unforgettable sound. Featuring three-part vocal harmony backed by keyboard\, guitar\, ukulele\, acoustic bass and drums\, they approach original songs and timeless jazz standards with the same contemporary polish. Inspired by their love of R&B\, motown\, Broadway ballads and swing\, their live performances showcase the band’s exceptional musicianship and fun\, irreverent attitude that wins over audiences. \nThe Unknowns are Kim Bowman (vocals and piano)\, Caitie Bowell (vocals and guitars)\, Allison Bowman (vocals and ukulele)\, Sarah Yates (acoustic bass) and Melanie Sehman (drums).
URL:https://bellinghamalive.com/event2/the-unknowns-6/
CATEGORIES:Concert
ATTACH;FMTTYPE=image/jpeg:https://bellinghamalive.com/wp-content/uploads/2024/08/the-unknowns-at-the-vault_orig.jpg
END:VEVENT
BEGIN:VEVENT
DTSTART;TZID=America/Denver:20240823T190000
DTEND;TZID=America/Denver:20240824T220000
DTSTAMP:20260422T035530
CREATED:20240821T184301Z
LAST-MODIFIED:20240821T184301Z
UID:41688-1724439600-1724536800@bellinghamalive.com
SUMMARY:Lacey Rashae & The Young Guns at Station 49
DESCRIPTION:Who doesn’t love some Female Country Music?! You better be ready to dance at this high energy show! The drinks are cold\, the food is delicious\, the cornhole is out\, and the fires can be lit!\nTickets: station49.yapsody.com\nLacey’s influences span generations\, drawing inspiration from country legends like Johnny Cash\, Dolly Parton\, and Waylon Jennings to rock icons like Led Zeppelin and Joan Jett. But it’s the emotion and storytelling within a song that truly ignite her passion. She aspires to not only entertain but also touch lives with her music\, leaving a lasting impact.\nThis event is for all ages!
URL:https://bellinghamalive.com/event2/lacey-rashae-the-young-guns-at-station-49/
CATEGORIES:Concert
ATTACH;FMTTYPE=image/jpeg:https://bellinghamalive.com/wp-content/uploads/2024/08/lacey-cover.jpg
END:VEVENT
BEGIN:VEVENT
DTSTART;TZID=America/Denver:20240825T160000
DTEND;TZID=America/Denver:20240825T190000
DTSTAMP:20260422T035530
CREATED:20240821T184320Z
LAST-MODIFIED:20240821T184320Z
UID:41700-1724601600-1724612400@bellinghamalive.com
SUMMARY:Jim Buk Tu concert
DESCRIPTION:Saturday August 25th from 4 – 7 pm\nStraight out of Nooksack Valley! Amazing local band playing at Samson Estates Winery 1861 Van Dyk Rd Everson WA. That’s What I Like Island grill will have their Food Truck on site. $10 cover. Limited Seating in the pavilion\, bring your lawn chairs and blankets. Please\, no outside food or beverages.
URL:https://bellinghamalive.com/event2/jim-buk-tu-concert/
CATEGORIES:Concert
ATTACH;FMTTYPE=image/jpeg:https://bellinghamalive.com/wp-content/uploads/2024/08/Jim-Buk-Tu.jpg
END:VEVENT
BEGIN:VEVENT
DTSTART;TZID=America/Denver:20240830T180000
DTEND;TZID=America/Denver:20240830T190000
DTSTAMP:20260422T035530
CREATED:20240821T183605Z
LAST-MODIFIED:20240821T183605Z
UID:41586-1725040800-1725044400@bellinghamalive.com
SUMMARY:The Unknowns
DESCRIPTION:The Unknowns are a five-piece band whose music combines the sound of vintage jazz\, blues and soul with a contemporary pop twist to create an upbeat and unforgettable sound. Featuring three-part vocal harmony backed by keyboard\, guitar\, ukulele\, acoustic bass and drums\, they approach original songs and timeless jazz standards with the same contemporary polish. Inspired by their love of R&B\, motown\, Broadway ballads and swing\, their live performances showcase the band’s exceptional musicianship and fun\, irreverent attitude that wins over audiences. \nThe Unknowns are Kim Bowman (vocals and piano)\, Caitie Bowell (vocals and guitars)\, Allison Bowman (vocals and ukulele)\, Sarah Yates (acoustic bass) and Melanie Sehman (drums).
URL:https://bellinghamalive.com/event2/the-unknowns-7/
CATEGORIES:Concert
ATTACH;FMTTYPE=image/png:https://bellinghamalive.com/wp-content/uploads/2024/08/Oak-Harbor-Music-Festival.png
END:VEVENT
END:VCALENDAR