BEGIN:VCALENDAR
VERSION:2.0
PRODID:-//Bellingham Alive - ECPv6.15.20//NONSGML v1.0//EN
CALSCALE:GREGORIAN
METHOD:PUBLISH
X-ORIGINAL-URL:https://bellinghamalive.com
X-WR-CALDESC:Events for Bellingham Alive
REFRESH-INTERVAL;VALUE=DURATION:PT1H
X-Robots-Tag:noindex
X-PUBLISHED-TTL:PT1H
BEGIN:VTIMEZONE
TZID:America/Denver
BEGIN:DAYLIGHT
TZOFFSETFROM:-0700
TZOFFSETTO:-0600
TZNAME:MDT
DTSTART:20230312T090000
END:DAYLIGHT
BEGIN:STANDARD
TZOFFSETFROM:-0600
TZOFFSETTO:-0700
TZNAME:MST
DTSTART:20231105T080000
END:STANDARD
BEGIN:DAYLIGHT
TZOFFSETFROM:-0700
TZOFFSETTO:-0600
TZNAME:MDT
DTSTART:20240310T090000
END:DAYLIGHT
BEGIN:STANDARD
TZOFFSETFROM:-0600
TZOFFSETTO:-0700
TZNAME:MST
DTSTART:20241103T080000
END:STANDARD
BEGIN:DAYLIGHT
TZOFFSETFROM:-0700
TZOFFSETTO:-0600
TZNAME:MDT
DTSTART:20250309T090000
END:DAYLIGHT
BEGIN:STANDARD
TZOFFSETFROM:-0600
TZOFFSETTO:-0700
TZNAME:MST
DTSTART:20251102T080000
END:STANDARD
END:VTIMEZONE
BEGIN:VEVENT
DTSTART;TZID=America/Denver:20240505T140000
DTEND;TZID=America/Denver:20240505T170000
DTSTAMP:20260422T092925
CREATED:20240123T190044Z
LAST-MODIFIED:20240123T190044Z
UID:39159-1714917600-1714928400@bellinghamalive.com
SUMMARY:Folk Club at The Blue Room featuring | Serafima & the Shakedowns with Mae Powell\, The House Wrens
DESCRIPTION:Serafima & the Shakedowns with Mae Powell \nWith a keen eye for life and love\, Serafima sings about the experience of a modern day woman in all its sparkle and grit. Through reflective hyperbole and honest observation her lyrics dance their way to the front of your heart\, and live in the back of your head. But every pot needs a holder and The Shakedowns know how to distribute the heat. The band brings a unique “un-americana” sound\, electrifying classic elements of The Golden Age of Radio\, honky tonk\, and Russian folk. With an unbridled love for artists like the Grateful Dead and Loretta Lynn\, Serafima & the Shakedowns bring a little sass to the country western world. \nMae Powell is a Bay-area based singer\, songwriter and rainbow entity on a mission to spread love and magic across all dimensions! \nThe House Wrens are fiddler extraordinaire Kera-Lynne Newman with multi instrumentalist Jan Peters\, performing duets of mostly Irish tunes with Fiddle/Guitar\, & Fiddle/Harmonica
URL:https://bellinghamalive.com/event2/folk-club-at-the-blue-room-featuring-serafima-the-shakedowns-with-mae-powell-the-house-wrens/
CATEGORIES:Concert
ATTACH;FMTTYPE=image/jpeg:https://bellinghamalive.com/wp-content/uploads/2024/01/Serafima-and-The-Shakedowns-Press-Photo-scaled.jpg
END:VEVENT
BEGIN:VEVENT
DTSTART;TZID=America/Denver:20240518T193000
DTEND;TZID=America/Denver:20240518T203000
DTSTAMP:20260422T092925
CREATED:20240206T185042Z
LAST-MODIFIED:20240206T185042Z
UID:39399-1716060600-1716064200@bellinghamalive.com
SUMMARY:Skagit Symphony: Obsessions
DESCRIPTION:Settle in to be embraced by Vaughan Williams’ rapturously beautiful The Wasps\, the enthralled by the phenomenal Kinga Augustyn performing Prokofiev’s bracing second violin concerto. And finally\, you’ll relive an adventure through the heart of Berlioz with his epic Symphony Fantastique – a tone poem in five parts inspired by his real-life love story.\nFor more information\, visit www.skagitsymphony.com or call 360-848-9336\nFor tickets\, visit www.mcintyrehall.org or call 360-416-7727 Tuesday thru Thursday 10:00am-2:00pm \nSaturday\, May 18th\, 2024 @ 7:30pm
URL:https://bellinghamalive.com/event2/skagit-symphony-obsessions/
CATEGORIES:Concert
END:VEVENT
END:VCALENDAR