BEGIN:VCALENDAR
VERSION:2.0
PRODID:-//Bellingham Alive - ECPv6.15.20//NONSGML v1.0//EN
CALSCALE:GREGORIAN
METHOD:PUBLISH
X-WR-CALNAME:Bellingham Alive
X-ORIGINAL-URL:https://bellinghamalive.com
X-WR-CALDESC:Events for Bellingham Alive
REFRESH-INTERVAL;VALUE=DURATION:PT1H
X-Robots-Tag:noindex
X-PUBLISHED-TTL:PT1H
BEGIN:VTIMEZONE
TZID:America/Denver
BEGIN:DAYLIGHT
TZOFFSETFROM:-0700
TZOFFSETTO:-0600
TZNAME:MDT
DTSTART:20230312T090000
END:DAYLIGHT
BEGIN:STANDARD
TZOFFSETFROM:-0600
TZOFFSETTO:-0700
TZNAME:MST
DTSTART:20231105T080000
END:STANDARD
BEGIN:DAYLIGHT
TZOFFSETFROM:-0700
TZOFFSETTO:-0600
TZNAME:MDT
DTSTART:20240310T090000
END:DAYLIGHT
BEGIN:STANDARD
TZOFFSETFROM:-0600
TZOFFSETTO:-0700
TZNAME:MST
DTSTART:20241103T080000
END:STANDARD
BEGIN:DAYLIGHT
TZOFFSETFROM:-0700
TZOFFSETTO:-0600
TZNAME:MDT
DTSTART:20250309T090000
END:DAYLIGHT
BEGIN:STANDARD
TZOFFSETFROM:-0600
TZOFFSETTO:-0700
TZNAME:MST
DTSTART:20251102T080000
END:STANDARD
END:VTIMEZONE
BEGIN:VEVENT
DTSTART;TZID=America/Denver:20240407T140000
DTEND;TZID=America/Denver:20240407T170000
DTSTAMP:20260422T112712
CREATED:20240123T190323Z
LAST-MODIFIED:20240123T190323Z
UID:39153-1712498400-1712509200@bellinghamalive.com
SUMMARY:Folk Club at The Blue Room featuring | Cape Flattery\, Morgan Mchugh
DESCRIPTION:Cape Flattery is: \nPete Goodall – Bass\, Mandolin \nTed O’Connell – Guitar\, Mandolin\, Harmonica\, Piano \nLindsay Poynter – Guitar \nPlus guests! \nFolk Club shows happen on the first and third Sundays of every month and are all ages! Suggested donation $10-$20 – NOTAFLOF \nDoors 2pm | Music 3pm \nFolk Club Happy Hour 2-3pm!
URL:https://bellinghamalive.com/event2/folk-club-at-the-blue-room-featuring-cape-flattery-morgan-mchugh/
CATEGORIES:Concert
ATTACH;FMTTYPE=image/jpeg:https://bellinghamalive.com/wp-content/uploads/2024/01/Cape-Flattery.jpeg
END:VEVENT
BEGIN:VEVENT
DTSTART;TZID=America/Denver:20240421T140000
DTEND;TZID=America/Denver:20240421T170000
DTSTAMP:20260422T112712
CREATED:20240123T190343Z
LAST-MODIFIED:20240123T190343Z
UID:39156-1713708000-1713718800@bellinghamalive.com
SUMMARY:Folk Club at The Blue Room featuring | Sweater Weather String Band\, Andy Bunn
DESCRIPTION:Sweater Weather String Band \nWith members drawn together from all across the Salish Sea by a mutual love of traditional music and knitwear\, Sweater Weather String Band blends old-time\, honky-tonk\, Celtic\, and indie rock influences into a style that has been likened to “the frolicking of sheep before a thunderstorm.” Formed from a series of jams and impromptu gigs\, the band quickly developed a wildly danceable sound that’s been heard at festivals\, folk dances\, and bars throughout the Pacific Northwest. \nAndy Bunn \nAndy Bunn is a songwriter living in Bellingham WA who writes character-focused songs. Some of the stories in the songs stick mostly to the facts and some are tall tales. The characters in the stories feel real to him and that’s enough. \nFolk Club shows happen on the first and third Sundays of every month and are all ages! Suggested donation $10-$20 – NOTAFLOF \nDoors 2pm | Music 3pm \nFolk Club Happy Hour 2-3pm!
URL:https://bellinghamalive.com/event2/folk-club-at-the-blue-room-featuring-sweater-weather-string-band-andy-bunn/
CATEGORIES:Concert
ATTACH;FMTTYPE=image/jpeg:https://bellinghamalive.com/wp-content/uploads/2024/01/Sweater-BEtter.jpg
END:VEVENT
END:VCALENDAR