BEGIN:VCALENDAR
VERSION:2.0
PRODID:-//Bellingham Alive - ECPv6.15.20//NONSGML v1.0//EN
CALSCALE:GREGORIAN
METHOD:PUBLISH
X-WR-CALNAME:Bellingham Alive
X-ORIGINAL-URL:https://bellinghamalive.com
X-WR-CALDESC:Events for Bellingham Alive
REFRESH-INTERVAL;VALUE=DURATION:PT1H
X-Robots-Tag:noindex
X-PUBLISHED-TTL:PT1H
BEGIN:VTIMEZONE
TZID:America/Denver
BEGIN:DAYLIGHT
TZOFFSETFROM:-0700
TZOFFSETTO:-0600
TZNAME:MDT
DTSTART:20230312T090000
END:DAYLIGHT
BEGIN:STANDARD
TZOFFSETFROM:-0600
TZOFFSETTO:-0700
TZNAME:MST
DTSTART:20231105T080000
END:STANDARD
BEGIN:DAYLIGHT
TZOFFSETFROM:-0700
TZOFFSETTO:-0600
TZNAME:MDT
DTSTART:20240310T090000
END:DAYLIGHT
BEGIN:STANDARD
TZOFFSETFROM:-0600
TZOFFSETTO:-0700
TZNAME:MST
DTSTART:20241103T080000
END:STANDARD
BEGIN:DAYLIGHT
TZOFFSETFROM:-0700
TZOFFSETTO:-0600
TZNAME:MDT
DTSTART:20250309T090000
END:DAYLIGHT
BEGIN:STANDARD
TZOFFSETFROM:-0600
TZOFFSETTO:-0700
TZNAME:MST
DTSTART:20251102T080000
END:STANDARD
END:VTIMEZONE
BEGIN:VEVENT
DTSTART;TZID=America/Denver:20240301T193000
DTEND;TZID=America/Denver:20240301T193000
DTSTAMP:20260422T134253
CREATED:20240205T194106Z
LAST-MODIFIED:20240205T194106Z
UID:39322-1709321400-1709321400@bellinghamalive.com
SUMMARY:Coool Babies: A Talking Heads Tribute
DESCRIPTION:LD Epic Productions presents Coool Babies – a tribute to the Talking Heads’ Stop Making Sense. \nSeattle’s own Coool Babies are bringing their incredible recreation of the famous Talking Heads concert movie Stop Making Sense to the Lincoln Theatre stage! \nIf you’re a Talking Heads fan\, you’ll be amazed at the level of detail put into this show. With 9 members in the band\, every possible sound is perfectly reproduced\, from the vintage synth keyboards\, hand percussion\, back up singers\, guitars\, and even the opening drum machine! With an amazing band\, a singer with an uncanny resemblance to David Byrne’s voice\, and a full set of stage antics\, Coool Babies brings the new wave spirit of the mid-’80s in full force.
URL:https://bellinghamalive.com/event2/coool-babies-a-talking-heads-tribute/
CATEGORIES:Concert
ATTACH;FMTTYPE=image/png:https://bellinghamalive.com/wp-content/uploads/2024/02/coool-babies-27x40-1.png
END:VEVENT
BEGIN:VEVENT
DTSTART;TZID=America/Denver:20240302T190000
DTEND;TZID=America/Denver:20240302T220000
DTSTAMP:20260422T134253
CREATED:20240205T194152Z
LAST-MODIFIED:20240205T194152Z
UID:39328-1709406000-1709416800@bellinghamalive.com
SUMMARY:JASMINE GREENE AT THE LEO
DESCRIPTION:Join us for an extraordinary evening of music on Saturday\, March 2nd\, at the Hotel Leo Ballroom. The show kicks off at 7pm\, and it’s exclusively for those aged 21 and above. \nImmerse yourself in an unforgettable musical journey with the sensational Jasmine Greene! Secure your spot with general admission tickets starting at just $36. For an elevated concert experience\, explore our VIP options: \nIndividual VIP tickets begin at $85 \nReserve a VIP table for 8 seats at $600 \nVIP Seating includes: \nPersonalized table service \nIndulge in premium food and beverages \nEnjoy exclusive seating \nArrive early and treat yourself to drinks and fare from Amendment 21 before the show begins! Don’t miss out on this incredible night of entertainment.
URL:https://bellinghamalive.com/event2/jasmine-greene-at-the-leo/
CATEGORIES:Concert
ATTACH;FMTTYPE=image/png:https://bellinghamalive.com/wp-content/uploads/2024/02/A21-Website-Banners-1280-x-720-px.png
END:VEVENT
BEGIN:VEVENT
DTSTART;TZID=America/Denver:20240302T193000
DTEND;TZID=America/Denver:20240302T193000
DTSTAMP:20260422T134253
CREATED:20240205T194212Z
LAST-MODIFIED:20240205T194212Z
UID:39340-1709407800-1709407800@bellinghamalive.com
SUMMARY:Timothy Eagan
DESCRIPTION:Timothy Eagan presents a talk regarding his published works\, as well as the importance of public libraries. The proceeds from this event will benefit the Mount Vernon Public Library’s new location’s furnishings.
URL:https://bellinghamalive.com/event2/timothy-eagan/
CATEGORIES:Concert
ATTACH;FMTTYPE=image/png:https://bellinghamalive.com/wp-content/uploads/2024/02/timothy-egan-caro3.png
END:VEVENT
BEGIN:VEVENT
DTSTART;TZID=America/Denver:20240303T140000
DTEND;TZID=America/Denver:20240303T170000
DTSTAMP:20260422T134253
CREATED:20240123T190217Z
LAST-MODIFIED:20240123T190217Z
UID:39147-1709474400-1709485200@bellinghamalive.com
SUMMARY:Folk Club at The Blue Room featuring | Free Harmony\, Havliah Rand
DESCRIPTION:Free Harmony is Chuck Dingée and Sharon Mayson! Their beautiful vocals are what make Free Harmony unique and a treat to listen to. They started singing together in 2017 and have been busy entertaining people in the Northwest ever since. \nA founding member of Bellingham’s popular classic rock band The Walrus\, Chuck has been singing and playing in the area for over 40 years.  He has an eclectic repertoire of hundreds of songs from Gershwin to Beatles to Pink Floyd. \nHaving sung all her life\, Sharon has an incredibly smooth voice and performs in local Northwest bands including Pacific Twang. \nTogether they play an entertaining mix of originals and songs ranging from the 60s to present\, by artists like Simon & Garfunkel\, The Beatles\, Emmylou Harris\, John Denver\, Indigo Girls\, The Police\, Pink Floyd\, Eagles\, Bonnie Raitt\, and many others. In March 2019\, Free Harmony was opening act for the band America at the Tulalip and Legends Casinos in Washington state. \nFolk Club shows happen on the first and third Sundays of every month and are all ages! Suggested donation $10-$20 – NOTAFLOF \nDoors 2pm | Music 3pm \nFolk Club Happy Hour 2-3pm!
URL:https://bellinghamalive.com/event2/folk-club-at-the-blue-room-featuring-free-harmony-havliah-rand/
CATEGORIES:Concert
ATTACH;FMTTYPE=image/jpeg:https://bellinghamalive.com/wp-content/uploads/2024/01/Free-Harmony-Tulalip2054-scaled.jpg
END:VEVENT
BEGIN:VEVENT
DTSTART;TZID=America/Denver:20240308T200000
DTEND;TZID=America/Denver:20240308T200000
DTSTAMP:20260422T134253
CREATED:20240119T171759Z
LAST-MODIFIED:20240119T171759Z
UID:39098-1709928000-1709928000@bellinghamalive.com
SUMMARY:Billboard-Topping Rockers The Record Company To Headline Wild Buffalo
DESCRIPTION:GRAMMY® Award-nominated\, Billboard-topping\, rockers The Record Company will headline Wild Buffalo on March 8 as part of their “Roll With It” tour. During the show\, the trio will perform tracks from their new record like lead single\, “Talk to Me\,” which reached #4 at AAA radio\, and fan favorites “Dance On Mondays” and “Highway Lady\,” as well as hits from their catalog including “Off the Ground” (#1 on the U.S. Billboard Alternative Songs Chart)\, “Rita Mae Young” (#12 on the Adult Alternative Songs chart)\, and “Baby\, I’m Broken” (#6 on the Adult Alternative Songs chart). \nWild Buffalo\nMarch 8\n8 PM\n208 W Holly St\, Bellingham\, WA 98225\n(360) 746-8733 \nCalendar
URL:https://bellinghamalive.com/event2/billboard-topping-rockers-the-record-company-to-headline-wild-buffalo/
CATEGORIES:Concert
ATTACH;FMTTYPE=image/png:https://bellinghamalive.com/wp-content/uploads/2024/01/TheRecordCompany_960x540_WP.png
END:VEVENT
BEGIN:VEVENT
DTSTART;TZID=America/Denver:20240317T140000
DTEND;TZID=America/Denver:20240317T170000
DTSTAMP:20260422T134253
CREATED:20240123T190303Z
LAST-MODIFIED:20240123T190303Z
UID:39150-1710684000-1710694800@bellinghamalive.com
SUMMARY:Folk Club at The Blue Room featuring | The Devillies St. Patricks Day Special!
DESCRIPTION:Enjoy St. Patricks Day themed drink specials to the toe-tapping music of The Devillies\, Bellingham’s favorite Irish-American folk group\, as a part of the fifth edition of Folk Club at The Blue Room! The Devillies play an eclectic mix of originals and traditional tunes and songs made for dancing\, crying\, and laughing. \nFolk Club shows happen on the first and third Sundays of every month and are all ages! Suggested donation $10-$20 – NOTAFLOF \nDoors 2pm | Music 3pm \nFolk Club Happy Hour 2-3pm!
URL:https://bellinghamalive.com/event2/folk-club-at-the-blue-room-featuring-the-devillies-st-patricks-day-special/
CATEGORIES:Concert
ATTACH;FMTTYPE=image/jpeg:https://bellinghamalive.com/wp-content/uploads/2024/01/The-Devillies.jpeg
END:VEVENT
END:VCALENDAR