BEGIN:VCALENDAR
VERSION:2.0
PRODID:-//Bellingham Alive - ECPv6.15.20//NONSGML v1.0//EN
CALSCALE:GREGORIAN
METHOD:PUBLISH
X-WR-CALNAME:Bellingham Alive
X-ORIGINAL-URL:https://bellinghamalive.com
X-WR-CALDESC:Events for Bellingham Alive
REFRESH-INTERVAL;VALUE=DURATION:PT1H
X-Robots-Tag:noindex
X-PUBLISHED-TTL:PT1H
BEGIN:VTIMEZONE
TZID:America/Denver
BEGIN:DAYLIGHT
TZOFFSETFROM:-0700
TZOFFSETTO:-0600
TZNAME:MDT
DTSTART:20230312T090000
END:DAYLIGHT
BEGIN:STANDARD
TZOFFSETFROM:-0600
TZOFFSETTO:-0700
TZNAME:MST
DTSTART:20231105T080000
END:STANDARD
BEGIN:DAYLIGHT
TZOFFSETFROM:-0700
TZOFFSETTO:-0600
TZNAME:MDT
DTSTART:20240310T090000
END:DAYLIGHT
BEGIN:STANDARD
TZOFFSETFROM:-0600
TZOFFSETTO:-0700
TZNAME:MST
DTSTART:20241103T080000
END:STANDARD
BEGIN:DAYLIGHT
TZOFFSETFROM:-0700
TZOFFSETTO:-0600
TZNAME:MDT
DTSTART:20250309T090000
END:DAYLIGHT
BEGIN:STANDARD
TZOFFSETFROM:-0600
TZOFFSETTO:-0700
TZNAME:MST
DTSTART:20251102T080000
END:STANDARD
END:VTIMEZONE
BEGIN:VEVENT
DTSTART;TZID=America/Denver:20240106T190000
DTEND;TZID=America/Denver:20240106T190000
DTSTAMP:20260422T175049
CREATED:20231122T234245Z
LAST-MODIFIED:20231122T234245Z
UID:38680-1704567600-1704567600@bellinghamalive.com
SUMMARY:Oleaje Flamenco & The Blue Room Present | Flamenco Feroz ft. singer\, dancer and percussionist Jose Moreno of NYC
DESCRIPTION:Oleaje Flamenco creates electrifying\, passionate and uplifting Flamenco productions that transmit the authentic heart of Flamenco. Oleaje Flamenco’s Amelia Moore (dance)\, Daniel Azcarate (vocals) and Jed Miley (guitar) are joined by powerhouse Jose Moreno of NYC. Jose is a singer\, dancer\, percussionist and guitarist who was born into a family of Flamenco artists and whose illustrious career includes working with the legendary Flamenco singer Carmen Linares\, latin jazz pianist Chano Dominguez\, and with the Metropolitan Opera’s 2014-2019 ‘Carmen’ in NYC among many more. Today\, Jose is in high demand for his creativity\, musicality\, power and mastery of the moods and rhythms of Flamenco. \nDoors open 7 PM\, show starts at 8 PM. \nTickets are $25. \nhttps://blueroombham.com/tickets-events/#/events?event_id=87604
URL:https://bellinghamalive.com/event2/oleaje-flamenco-the-blue-room-present-flamenco-feroz-ft-singer-dancer-and-percussionist-jose-moreno-of-nyc/
CATEGORIES:Concert
ATTACH;FMTTYPE=image/png:https://bellinghamalive.com/wp-content/uploads/2023/11/JANUARY-JOSE-MORENO-BELLINGHAM-1.png
END:VEVENT
BEGIN:VEVENT
DTSTART;TZID=America/Denver:20240106T190000
DTEND;TZID=America/Denver:20240106T220000
DTSTAMP:20260422T175049
CREATED:20231207T174007Z
LAST-MODIFIED:20231207T174007Z
UID:38729-1704567600-1704578400@bellinghamalive.com
SUMMARY:Oleaje Flamenco Presents | Flamenco Feroz ft. Jose Moreno of NYC
DESCRIPTION:Oleaje Flamenco creates electrifying\, passionate and uplifting Flamenco productions that transmit the authentic heart of Flamenco. Oleaje Flamenco’s Amelia Moore (dance)\, Daniel Azcarate (vocals) and Jed Miley (guitar) are joined by powerhouse Jose Moreno of NYC. Jose is a singer\, dancer\, percussionist and guitarist who was born into a family of Flamenco artists and whose illustrious career includes working with the legendary Flamenco singer Carmen Linares\, latin jazz pianist Chano Dominguez\, and with the Metropolitan Opera’s 2014-2019 ‘Carmen’ in NYC among many more. Today\, Jose is in high demand for his creativity\, musicality\, power and mastery of the moods and rhythms of Flamenco. \nSaturday January 6th\nDoors: 7pm | Show: 8pm\n202 E Holly St. #301 Bellingham\, WA 98225\nwww.blueroombham.com\ninfo@blueroombham.com
URL:https://bellinghamalive.com/event2/oleaje-flamenco-presents-flamenco-feroz-ft-jose-moreno-of-nyc/
CATEGORIES:Concert
ATTACH;FMTTYPE=image/png:https://bellinghamalive.com/wp-content/uploads/2023/12/JANUARY-JOSE-MORENO-BELLINGHAM-1-min.png
END:VEVENT
BEGIN:VEVENT
DTSTART;TZID=America/Denver:20240127T190000
DTEND;TZID=America/Denver:20240127T235900
DTSTAMP:20260422T175049
CREATED:20240104T181444Z
LAST-MODIFIED:20240104T181455Z
UID:39052-1706382000-1706399940@bellinghamalive.com
SUMMARY:The Blue Room Presents | No Mars\, Alessandra Rose\, Whiskey Class
DESCRIPTION:Location: The Blue Room \nDate: Saturday January 27th \nStart time: 7pm \nEnd time: 11:59pm \nEvent website: www.blueroombham.com \nDescription:\nNo Mars: https://open.spotify.com/artist/54D7dtmHJI35DLdKHsO5vg?si=VOnlJRf_T1aTY-E5Naz90g\nAlessandra Rose: https://alessandrarose.com\nWhiskey Class: https://open.spotify.com/artist/1Ttd6h1QmooJrgERWUTDeZ?si=KtV3KbeVQ4yA3KQZr92vUQ
URL:https://bellinghamalive.com/event2/the-blue-room-presents-no-mars-alessandra-rose-whiskey-class/
CATEGORIES:Concert
ATTACH;FMTTYPE=image/jpeg:https://bellinghamalive.com/wp-content/uploads/2024/01/image0-9.jpeg
END:VEVENT
BEGIN:VEVENT
DTSTART;TZID=America/Denver:20240128T130000
DTEND;TZID=America/Denver:20240128T150000
DTSTAMP:20260422T175049
CREATED:20240111T171535Z
LAST-MODIFIED:20240111T171535Z
UID:39091-1706446800-1706454000@bellinghamalive.com
SUMMARY:Skagit Symphony presents: Peter and the Wolf; A Family Concert & Children’s Music Fair
DESCRIPTION:1/28/2024\, Children’s Fair @ 1:00pm\, Concert @ 2:00pm \nIt’s story time for the whole family! Our Assistant Conductor Sebastian Serrano-Ayala will once again lead you on a tour through the instruments of the orchestra\, followed by a performance of Prokofiev’s most beloved of all concert works for children\, Peter and the Wolf.\nFor more information\, visit www.skagitsymphony.com or call 360-848-9336\nFor tickets\, visit www.mcintyrehall.org or call 360-416-7727 Tuesday thru Thursday 10:00am-2:00pm
URL:https://bellinghamalive.com/event2/skagit-symphony-presents-peter-and-the-wolf-a-family-concert-childrens-music-fair/
CATEGORIES:Concert
END:VEVENT
BEGIN:VEVENT
DTSTART;TZID=America/Denver:20240128T163000
DTEND;TZID=America/Denver:20240128T173000
DTSTAMP:20260422T175049
CREATED:20240119T172037Z
LAST-MODIFIED:20240119T172037Z
UID:39119-1706459400-1706463000@bellinghamalive.com
SUMMARY:Peter and the Wolf: A Family Concert & Children’s Music Fair
DESCRIPTION:Announcing NEW 2md performance! \nIt’s story time for the whole family! Our Assistant Conductor Sebastian Serrano-Ayala will once again lead you on a tour through the instruments of the orchestra\, followed by a performance of Prokofiev’s most beloved of all concert works for children\, Peter and the Wolf.\nFor more information\, visit www.skagitsymphony.com or call 360-848-9336\nFor tickets\, visit www.mcintyrehall.org or call 360-416-7727 Tuesday thru Thursday 10:00am-2:00pm \nChildren’s Music Fair @ 1:00pm\, 2nd performance @ 2:00pm
URL:https://bellinghamalive.com/event2/peter-and-the-wolf-a-family-concert-childrens-music-fair/
CATEGORIES:Concert
END:VEVENT
END:VCALENDAR