BEGIN:VCALENDAR
VERSION:2.0
PRODID:-//Bellingham Alive - ECPv6.15.20//NONSGML v1.0//EN
CALSCALE:GREGORIAN
METHOD:PUBLISH
X-WR-CALNAME:Bellingham Alive
X-ORIGINAL-URL:https://bellinghamalive.com
X-WR-CALDESC:Events for Bellingham Alive
REFRESH-INTERVAL;VALUE=DURATION:PT1H
X-Robots-Tag:noindex
X-PUBLISHED-TTL:PT1H
BEGIN:VTIMEZONE
TZID:America/Denver
BEGIN:DAYLIGHT
TZOFFSETFROM:-0700
TZOFFSETTO:-0600
TZNAME:MDT
DTSTART:20220313T090000
END:DAYLIGHT
BEGIN:STANDARD
TZOFFSETFROM:-0600
TZOFFSETTO:-0700
TZNAME:MST
DTSTART:20221106T080000
END:STANDARD
BEGIN:DAYLIGHT
TZOFFSETFROM:-0700
TZOFFSETTO:-0600
TZNAME:MDT
DTSTART:20230312T090000
END:DAYLIGHT
BEGIN:STANDARD
TZOFFSETFROM:-0600
TZOFFSETTO:-0700
TZNAME:MST
DTSTART:20231105T080000
END:STANDARD
BEGIN:DAYLIGHT
TZOFFSETFROM:-0700
TZOFFSETTO:-0600
TZNAME:MDT
DTSTART:20240310T090000
END:DAYLIGHT
BEGIN:STANDARD
TZOFFSETFROM:-0600
TZOFFSETTO:-0700
TZNAME:MST
DTSTART:20241103T080000
END:STANDARD
END:VTIMEZONE
BEGIN:VEVENT
DTSTART;TZID=America/Denver:20230604T150000
DTEND;TZID=America/Denver:20230604T150000
DTSTAMP:20260423T183408
CREATED:20230516T193940Z
LAST-MODIFIED:20230516T193940Z
UID:37120-1685890800-1685890800@bellinghamalive.com
SUMMARY:Bellingham Symphony Orchestra: Transported
DESCRIPTION:June 4th\, 2023\n3:00PM \n‍Wolfgang Amadeus Mozart | Sinfonia Concertante for Violin\, Viola\, and Orchestra\nGrażyna Bacewicz | Overture for Orchestra\n‍Ottorino Respighi | Pines of Rome \nJoin the Bellingham Symphony Orchestra as we close our 47th Season with Transported at the Mount Baker Theatre on Sunday\, June 4th.\nThe concert will feature guest artists Dawn Posey (violin) and Amber Archibald-Sešek (viola) for a program that will transport audiences across the globe. Plus\, audiences will get to hear MBT’s 1927 Wurlitzer 215 pipe organ!
URL:https://bellinghamalive.com/event2/bellingham-symphony-orchestra-transported/
LOCATION:Mount Baker Theatre\, 104 N Commercial St\, Bellingham
CATEGORIES:Concert
ATTACH;FMTTYPE=image/png:https://bellinghamalive.com/wp-content/uploads/2023/05/Concert_Cards_v2_ConcertVII_1080x1080_Amber.png
END:VEVENT
BEGIN:VEVENT
DTSTART;TZID=America/Denver:20230617T170000
DTEND;TZID=America/Denver:20230617T203000
DTSTAMP:20260423T183408
CREATED:20230616T233429Z
LAST-MODIFIED:20230616T233429Z
UID:37367-1687021200-1687033800@bellinghamalive.com
SUMMARY:JB Quartet at Milano's Italian Restaurant
DESCRIPTION:Join JB Quartet (Tony Foster on piano\, Jacob Zimmerman on the saxophone\, Renee Worst on bass\, and Jeff Bush on drums) at 5PM – 8:30PM at Milano’s Italian Restaurant in historic Fairhaven. \nMilano’s Italian Restaurant\n1210 11th Street\nBellingham\, WA 98225 \n360-599-2863 \nwww.milanosrestaurantbar.com
URL:https://bellinghamalive.com/event2/jb-quartet-at-milanos-italian-restaurant/
LOCATION:Milano’s Italian Restaurant
CATEGORIES:Concert
END:VEVENT
BEGIN:VEVENT
DTSTART;TZID=America/Denver:20230617T193000
DTEND;TZID=America/Denver:20230617T213000
DTSTAMP:20260423T183408
CREATED:20230608T163803Z
LAST-MODIFIED:20230608T163803Z
UID:37265-1687030200-1687037400@bellinghamalive.com
SUMMARY:The Problem - Jazz Sextet
DESCRIPTION:The Problem is Bellingham’s latest addition to its flourishing jazz and live music scene. Composed of some of Bellingham’s youngest professional jazz musicians ranging from 19-25 years of age\, The Problem has no issue playing their own take on hundreds of jazz tunes and originals! Additionally\, The Problem features the refreshing twist of 70s soul and 80s-90s pop hits!
URL:https://bellinghamalive.com/event2/the-problem-jazz-sextet/
LOCATION:Jansen Art Center\, 321 Front Street\, Lynden\, WA\, 98264
CATEGORIES:Concert
ATTACH;FMTTYPE=image/jpeg:https://bellinghamalive.com/wp-content/uploads/2023/06/EVN2911-1-copy.jpg
END:VEVENT
BEGIN:VEVENT
DTSTART;TZID=America/Denver:20230618T150000
DTEND;TZID=America/Denver:20230618T170000
DTSTAMP:20260423T183408
CREATED:20230525T170704Z
LAST-MODIFIED:20230525T170704Z
UID:37156-1687100400-1687107600@bellinghamalive.com
SUMMARY:Skagit Pops! Cloak & Dagger
DESCRIPTION:Skagit Symphony has a license to thrill on Father’s Day for our second annual Pops! Concert. You’ll be shaken and stirred by music from Mission Impossible\, The Pink Panther\, Sherlock Holmes\, Pixar’s The Incredibles\, and of course\, fifty years of 007 – “Bond…James Bond.” \nFor ticket information\, visit www.mcintyrehall.org or call the box office Tuesday-Thursday 10:00am-2:00pm (360)416-7727 \nFor concert information\, visit www.skagitsymphony.com or call (360)848-9336
URL:https://bellinghamalive.com/event2/skagit-pops-cloak-dagger/
CATEGORIES:Concert
ATTACH;FMTTYPE=image/jpeg:https://bellinghamalive.com/wp-content/uploads/2023/05/Skagit-Pops-6.25hx3.85w-ad.jpg
END:VEVENT
END:VCALENDAR