BEGIN:VCALENDAR
VERSION:2.0
PRODID:-//Bellingham Alive - ECPv6.15.20//NONSGML v1.0//EN
CALSCALE:GREGORIAN
METHOD:PUBLISH
X-ORIGINAL-URL:https://bellinghamalive.com
X-WR-CALDESC:Events for Bellingham Alive
REFRESH-INTERVAL;VALUE=DURATION:PT1H
X-Robots-Tag:noindex
X-PUBLISHED-TTL:PT1H
BEGIN:VTIMEZONE
TZID:America/Denver
BEGIN:DAYLIGHT
TZOFFSETFROM:-0700
TZOFFSETTO:-0600
TZNAME:MDT
DTSTART:20220313T090000
END:DAYLIGHT
BEGIN:STANDARD
TZOFFSETFROM:-0600
TZOFFSETTO:-0700
TZNAME:MST
DTSTART:20221106T080000
END:STANDARD
BEGIN:DAYLIGHT
TZOFFSETFROM:-0700
TZOFFSETTO:-0600
TZNAME:MDT
DTSTART:20230312T090000
END:DAYLIGHT
BEGIN:STANDARD
TZOFFSETFROM:-0600
TZOFFSETTO:-0700
TZNAME:MST
DTSTART:20231105T080000
END:STANDARD
BEGIN:DAYLIGHT
TZOFFSETFROM:-0700
TZOFFSETTO:-0600
TZNAME:MDT
DTSTART:20240310T090000
END:DAYLIGHT
BEGIN:STANDARD
TZOFFSETFROM:-0600
TZOFFSETTO:-0700
TZNAME:MST
DTSTART:20241103T080000
END:STANDARD
END:VTIMEZONE
BEGIN:VEVENT
DTSTART;TZID=America/Denver:20230203T193000
DTEND;TZID=America/Denver:20230203T213000
DTSTAMP:20260420T162949
CREATED:20230106T223342Z
LAST-MODIFIED:20230106T223342Z
UID:35578-1675452600-1675459800@bellinghamalive.com
SUMMARY:Tony Furtado Trio
DESCRIPTION:Tony Furtado Trio \nMcIntyre Hall Presents \nFriday\, February 3 at 7:30pm \nVery few musicians of any stripe so personify a musical genre as completely as Tony Furtado embodies Americana roots music. Tony is an evocative and soulful singer\, a wide-ranging songwriter and a virtuoso multi-instrumentalist adept on banjo\, cello-banjo\, slide guitar and baritone ukulele who mixes and matches sounds and styles with the flair of a master chef (he’s also an accomplished sculptor\, but that’s another story). Concert will be in trio format. \n“Tony Furtado\, banjo player\, is back…in a big way! He’s planted his flag in the midst of the fertile ground that is modern banjo. Texturally fresh\, confidently audacious\, rich and giving\, … a masterpiece. ” ~ Tony Trischka \n“The devil will eventually want a guitar lesson from Tony Furtado\, but he’ll have to wait in line like the rest of us.” ~ Willy Porter \nhttps://mcintyrehall.org/event/tony-furtado-trio/ \nMcIntyre Hall Box Office\nTuesday-Thursday 10am-2pm\n360-416-7727
URL:https://bellinghamalive.com/event2/tony-furtado-trio/
LOCATION:McIntyre Hall\, 2501 East College Way\, Mount Vernon\, WA\, 98273\, United States
CATEGORIES:Concert
END:VEVENT
BEGIN:VEVENT
DTSTART;TZID=America/Denver:20230204T190000
DTEND;TZID=America/Denver:20230204T210000
DTSTAMP:20260420T162949
CREATED:20230117T180219Z
LAST-MODIFIED:20230117T180219Z
UID:35645-1675537200-1675544400@bellinghamalive.com
SUMMARY:Candlelit Dinner and Music
DESCRIPTION:Join us for a beautiful evening of music featuring Raquel Norland\, Michael Dayvid\, and PS Webster\, paired with catering from local restaurant Cosmos Bistro. Learn more about the artists below: \n// Raquel Norland \\nBandcamp: https://raquelnorland.bandcamp.com\nSpotify: https://open.spotify.com/artist/5P2B9mOV9U5WAHXTlQCRLX?si=ONC_8f6yTjOU4X55WUA60w \n// Michael Dayvid \\nWebsite: https://www.michaeldayvid.com\nSpotify: https://open.spotify.com/artist/4Vzo5mIHkmyVeRVVph9qpO?si=GH-RXV6eSUe2MlbTex8Y7w \n// PS Webster \\nBandcamp: https://bruiser.bandcamp.com
URL:https://bellinghamalive.com/event2/candlelit-dinner-and-music/
LOCATION:The Blue Room\, 202 E. Holly St.\, Ste. 301 & 401\, Bellingham\, WA\, 98225\, United States
CATEGORIES:Concert,Food & Drink
ORGANIZER;CN="The Blue Room":MAILTO:hodwallproductions@gmail.com
END:VEVENT
BEGIN:VEVENT
DTSTART;TZID=America/Denver:20230217T190000
DTEND;TZID=America/Denver:20230217T230000
DTSTAMP:20260420T162949
CREATED:20230213T170656Z
LAST-MODIFIED:20230213T170656Z
UID:36006-1676660400-1676674800@bellinghamalive.com
SUMMARY:Suuns\, Lorelle Meets The Obsolete
DESCRIPTION:Head to the Shakedown this February for a night of not one\, but two experimental groups known for both their creativity and “restrained noise.” The night kicks off with post-punk tunes from the Montreal-based Suuns and closes with sounds from the album “De Facto” by Lorelle Meets The Obsolete\, a Mexico based acid rock/electronica group.
URL:https://bellinghamalive.com/event2/suuns-lorelle-meets-the-obsolete/
LOCATION:The Shakedown\, 1212 N State St\, Bellingham
CATEGORIES:Concert
END:VEVENT
BEGIN:VEVENT
DTSTART;TZID=America/Denver:20230224T000000
DTEND;TZID=America/Denver:20230225T000000
DTSTAMP:20260420T162949
CREATED:20230203T185425Z
LAST-MODIFIED:20230203T185425Z
UID:35818-1677196800-1677283200@bellinghamalive.com
SUMMARY:Vox & Friends: Uncorked!A Musical Cabaret
DESCRIPTION:Vox Pacifica’s women’s choral ensemble\, under the artistic director of Wendy Bloom\, has produced three shows: \n\nFeb. 24\, 7 pm\nFeb. 25\, 3 pm\nFeb. 25\,  7 pm\n\nFeaturing songs by Sondheim\, Loesser\, Lehrer\, Mozart\, Porter\, Rodgers & Hart\, among others. Admission of $35 includes a beverage of your choice at the cozy Firehouse Arts & Events center. Tickets online via our website https://voxpacifica.org/event
URL:https://bellinghamalive.com/event2/vox-friends-uncorkeda-musical-cabaret/
LOCATION:The FireHouse Arts & Events Center\, 1314 Harris Ave\, Bellingham\, WA 98225\, Bellingham
CATEGORIES:Concert
ORGANIZER;CN="Vox Pacifica":MAILTO:info@voxpacifica.org
END:VEVENT
BEGIN:VEVENT
DTSTART;TZID=America/Denver:20230224T193000
DTEND;TZID=America/Denver:20230224T213000
DTSTAMP:20260420T162949
CREATED:20230106T223222Z
LAST-MODIFIED:20230106T223222Z
UID:35581-1677267000-1677274200@bellinghamalive.com
SUMMARY:Lunasa
DESCRIPTION:Lunasa \nMcIntyre Hall Presents \nFriday\, February 24 at 7:30pm \nNamed for an ancient Celtic harvest festival in honor of the Irish god Lugh\, patron of the arts\, Lúnasa is indeed a gathering of some of the top musical talents in Ireland. Its members have helped form the backbone of some of the greatest Irish groups of the decade. Bassist Trevor Hutchinson was a key member of The Waterboys and The Sharon Shannon Band; Guitarist Ed Boyd (Flook\, Michael McGoldrick Band); Fiddler Sean Smyth is an All-Ireland champion who has played with Donal Lunny’s Coolfin; Kevin Crawford\, considered to be among the finest flutists in Ireland played with the acclaimed traditional group Moving Cloud; and\, piper Cillian Vallely of the famous Vallely artistic clan has performed with Riverdance and recently recorded with Bruce Springsteen. \n”The Hottest Irish Acoustic band on the Planet” ~ The Irish Voice
URL:https://bellinghamalive.com/event2/lunasa/
LOCATION:McIntyre Hall\, 2501 East College Way\, Mount Vernon\, WA\, 98273\, United States
CATEGORIES:Concert
END:VEVENT
BEGIN:VEVENT
DTSTART;TZID=America/Denver:20230224T203000
DTEND;TZID=America/Denver:20230224T220000
DTSTAMP:20260420T162949
CREATED:20230224T174533Z
LAST-MODIFIED:20230224T174533Z
UID:36185-1677270600-1677276000@bellinghamalive.com
SUMMARY:Michael Dayvid at Thirsty Badger
DESCRIPTION:The Thirsty Badger\n1501 E. Badger Road\nLynden\, WA 98264 \nMicahel Dayvid is getting loopy at the Thirsty Badger! \nCome hear Whatcom’s own acoustic loopmaster lay down live layers of acoustic + vocal + percussion + synth for cover songs in any genre you like (he’ll even let you pick!). \nOUTDOOR AGES 21+ FREE ADMISSION\nwww.michaeldayvid.com
URL:https://bellinghamalive.com/event2/michael-dayvid-at-thirsty-badger/
LOCATION:The Thirsty Badger\, 1501 E. Badger Rd.\, Lynden\, WA\, 98264\, United States
CATEGORIES:Concert
ORGANIZER;CN="Michael Dayvid":MAILTO:michaeldayvidsings@gmail.com
END:VEVENT
BEGIN:VEVENT
DTSTART;TZID=America/Denver:20230226T140000
DTEND;TZID=America/Denver:20230226T160000
DTSTAMP:20260420T162949
CREATED:20230106T223123Z
LAST-MODIFIED:20230106T223123Z
UID:35584-1677420000-1677427200@bellinghamalive.com
SUMMARY:Starry Night Chamber Players
DESCRIPTION:Starry Night Chamber Players \nMcIntyre Hall Presents \nSunday\, February 26 at 2:00pm \nComprised of musicians from Skagit\, Whatcom\, and Island Counties the Starry Night Chamber Players is the third concert of the four concert Chamber Music Series. The program will feature “Letters of Love” from the great composers. \nThe intimate Chamber Music concert takes place in the Studio Space at McIntyre Hall. Patrons are encouraged to enjoy their refreshments during the concert. Patrons will have the opportunity to learn more about the music in an informal conversation with Sharyn Peterson\, Music Director of the Peterson Conservatory of Music and Art\, and Nida Tautvydas\, Executive Director of McIntyre Hall.
URL:https://bellinghamalive.com/event2/starry-night-chamber-players/
LOCATION:McIntyre Hall\, 2501 East College Way\, Mount Vernon\, WA\, 98273\, United States
CATEGORIES:Concert
END:VEVENT
BEGIN:VEVENT
DTSTART;TZID=America/Denver:20230226T170000
DTEND;TZID=America/Denver:20230226T190000
DTSTAMP:20260420T162949
CREATED:20230224T171431Z
LAST-MODIFIED:20230224T171431Z
UID:36106-1677430800-1677438000@bellinghamalive.com
SUMMARY:Live Music with Simon Evens
DESCRIPTION:Join us for a lovely afternoon of live music with Australian singer-songwriter\, Simon Llewelyn Evans! Called “a special phenomenon” by Rootstime magazine in Belgium\, Simon is known to enchant his audience time and time again with his folk music and passion for song. This event isn’t ticketed and all ages are welcome to come and enjoy! \nBlack Fern Coffee\n1211 Granary Ave.\nBellingham\, WA\n360.306.8470\nwww.blackferncoffee.com
URL:https://bellinghamalive.com/event2/live-music-with-simon-evens/
LOCATION:Black Fern Coffee\, 1211 Granary Ave.\, Bellingham\, WA\, 98225\, United States
CATEGORIES:Concert
END:VEVENT
BEGIN:VEVENT
DTSTART;TZID=America/Denver:20230228T210000
DTEND;TZID=America/Denver:20230228T230000
DTSTAMP:20260420T162949
CREATED:20230224T174752Z
LAST-MODIFIED:20230224T174752Z
UID:36187-1677618000-1677625200@bellinghamalive.com
SUMMARY:Michael Dayvid at the Ranch Room
DESCRIPTION:Horseshoe Cafe\n113 E Holly Street\nBellingham\, WA 98225\n360-933-4301\nwww.michaeldayvid.com\nLive music at Horseshoe Cafe’s Ranch Room! Every other Tuesday \nJoin the Ranch Hands as we welcome local acoustic loopmaster Michael Dayvid for a night of live music. Michael’s signature style wrangles live loops of guitar + vocals + percussion for cover songs in any genre\, as well as original folk rock. He may even make up a song from scratch before your very ears!\nThis will be a humdinger of a show! Don’t miss out! \nINDOOR AGES 21+ NO COVER
URL:https://bellinghamalive.com/event2/michael-dayvid-at-the-ranch-room/
LOCATION:Horshoe Cafe\, 113 E. Holly St.\, Bellingham\, WA\, 98225\, United States
CATEGORIES:Concert
ORGANIZER;CN="Michael Dayvid":MAILTO:michaeldayvidsings@gmail.com
END:VEVENT
END:VCALENDAR