BEGIN:VCALENDAR
VERSION:2.0
PRODID:-//Bellingham Alive - ECPv6.15.20//NONSGML v1.0//EN
CALSCALE:GREGORIAN
METHOD:PUBLISH
X-ORIGINAL-URL:https://bellinghamalive.com
X-WR-CALDESC:Events for Bellingham Alive
REFRESH-INTERVAL;VALUE=DURATION:PT1H
X-Robots-Tag:noindex
X-PUBLISHED-TTL:PT1H
BEGIN:VTIMEZONE
TZID:America/Denver
BEGIN:DAYLIGHT
TZOFFSETFROM:-0700
TZOFFSETTO:-0600
TZNAME:MDT
DTSTART:20220313T090000
END:DAYLIGHT
BEGIN:STANDARD
TZOFFSETFROM:-0600
TZOFFSETTO:-0700
TZNAME:MST
DTSTART:20221106T080000
END:STANDARD
BEGIN:DAYLIGHT
TZOFFSETFROM:-0700
TZOFFSETTO:-0600
TZNAME:MDT
DTSTART:20230312T090000
END:DAYLIGHT
BEGIN:STANDARD
TZOFFSETFROM:-0600
TZOFFSETTO:-0700
TZNAME:MST
DTSTART:20231105T080000
END:STANDARD
BEGIN:DAYLIGHT
TZOFFSETFROM:-0700
TZOFFSETTO:-0600
TZNAME:MDT
DTSTART:20240310T090000
END:DAYLIGHT
BEGIN:STANDARD
TZOFFSETFROM:-0600
TZOFFSETTO:-0700
TZNAME:MST
DTSTART:20241103T080000
END:STANDARD
END:VTIMEZONE
BEGIN:VEVENT
DTSTART;TZID=America/Denver:20230129T130000
DTEND;TZID=America/Denver:20230129T150000
DTSTAMP:20260420T142801
CREATED:20230117T164742Z
LAST-MODIFIED:20230117T164742Z
UID:35639-1674997200-1675004400@bellinghamalive.com
SUMMARY:Skagit Symphony presents: Shake it! A Family Concert and Children’s Music Fair
DESCRIPTION:MOVE IT! SHAKE IT! PLAY IT! Join Skagit Symphony for our toe-tapping\, hip shaking\, and always fun Family Concert. Learn about the instruments of the orchestra and what makes music so much fun. This year’s Family theme of music that moves us will feature pieces from across the Americas. Just try to stay in your seat – we dare you!
URL:https://bellinghamalive.com/event2/skagit-symphony-presents-shake-it-a-family-concert-and-childrens-music-fair/
LOCATION:McIntyre Hall\, 2501 East College Way\, Mount Vernon\, WA\, 98273\, United States
CATEGORIES:Concert
END:VEVENT
END:VCALENDAR