BEGIN:VCALENDAR
VERSION:2.0
PRODID:-//Bellingham Alive - ECPv6.15.20//NONSGML v1.0//EN
CALSCALE:GREGORIAN
METHOD:PUBLISH
X-ORIGINAL-URL:https://bellinghamalive.com
X-WR-CALDESC:Events for Bellingham Alive
REFRESH-INTERVAL;VALUE=DURATION:PT1H
X-Robots-Tag:noindex
X-PUBLISHED-TTL:PT1H
BEGIN:VTIMEZONE
TZID:America/Denver
BEGIN:DAYLIGHT
TZOFFSETFROM:-0700
TZOFFSETTO:-0600
TZNAME:MDT
DTSTART:20210314T090000
END:DAYLIGHT
BEGIN:STANDARD
TZOFFSETFROM:-0600
TZOFFSETTO:-0700
TZNAME:MST
DTSTART:20211107T080000
END:STANDARD
BEGIN:DAYLIGHT
TZOFFSETFROM:-0700
TZOFFSETTO:-0600
TZNAME:MDT
DTSTART:20220313T090000
END:DAYLIGHT
BEGIN:STANDARD
TZOFFSETFROM:-0600
TZOFFSETTO:-0700
TZNAME:MST
DTSTART:20221106T080000
END:STANDARD
BEGIN:DAYLIGHT
TZOFFSETFROM:-0700
TZOFFSETTO:-0600
TZNAME:MDT
DTSTART:20230312T090000
END:DAYLIGHT
BEGIN:STANDARD
TZOFFSETFROM:-0600
TZOFFSETTO:-0700
TZNAME:MST
DTSTART:20231105T080000
END:STANDARD
END:VTIMEZONE
BEGIN:VEVENT
DTSTART;TZID=America/Denver:20221217T193000
DTEND;TZID=America/Denver:20221217T210000
DTSTAMP:20260420T161100
CREATED:20221208T191257Z
LAST-MODIFIED:20221208T191257Z
UID:35004-1671305400-1671310800@bellinghamalive.com
SUMMARY:Skagit Valley Chorale\, Heralding Christmas 2022
DESCRIPTION:After our joyful return to McIntyre Hall for our 2022 spring concert\, we are excited to have our first Christmas concert there with a live audience since 2019. We will visit some of our Christmas favorites and yours\, too\, and bring back the audience sing-alongs\, including our long tradition of singing “Peace\, Peace” to close our concert. \nSATURDAY\, DEC. 17 – 7:30 PM\, SUNDAY\, DEC. 18 – 2:00 PM\nTickets: $20-$30\, McIntyre box office: (360) 416-7727\, or\nmcintyrehall@skagit.edu \nContact: Jill Hatcher\, pjhatcher@comcast.net
URL:https://bellinghamalive.com/event2/skagit-valley-chorale-heralding-christmas-2022/
CATEGORIES:Concert
END:VEVENT
END:VCALENDAR