BEGIN:VCALENDAR
VERSION:2.0
PRODID:-//Bellingham Alive - ECPv6.15.20//NONSGML v1.0//EN
CALSCALE:GREGORIAN
METHOD:PUBLISH
X-WR-CALNAME:Bellingham Alive
X-ORIGINAL-URL:https://bellinghamalive.com
X-WR-CALDESC:Events for Bellingham Alive
REFRESH-INTERVAL;VALUE=DURATION:PT1H
X-Robots-Tag:noindex
X-PUBLISHED-TTL:PT1H
BEGIN:VTIMEZONE
TZID:America/Denver
BEGIN:DAYLIGHT
TZOFFSETFROM:-0700
TZOFFSETTO:-0600
TZNAME:MDT
DTSTART:20240310T090000
END:DAYLIGHT
BEGIN:STANDARD
TZOFFSETFROM:-0600
TZOFFSETTO:-0700
TZNAME:MST
DTSTART:20241103T080000
END:STANDARD
BEGIN:DAYLIGHT
TZOFFSETFROM:-0700
TZOFFSETTO:-0600
TZNAME:MDT
DTSTART:20250309T090000
END:DAYLIGHT
BEGIN:STANDARD
TZOFFSETFROM:-0600
TZOFFSETTO:-0700
TZNAME:MST
DTSTART:20251102T080000
END:STANDARD
BEGIN:DAYLIGHT
TZOFFSETFROM:-0700
TZOFFSETTO:-0600
TZNAME:MDT
DTSTART:20260308T090000
END:DAYLIGHT
BEGIN:STANDARD
TZOFFSETFROM:-0600
TZOFFSETTO:-0700
TZNAME:MST
DTSTART:20261101T080000
END:STANDARD
END:VTIMEZONE
BEGIN:VEVENT
DTSTART;TZID=America/Denver:20250406T133000
DTEND;TZID=America/Denver:20250406T193000
DTSTAMP:20260423T060607
CREATED:20250217T163519Z
LAST-MODIFIED:20250217T163519Z
UID:43881-1743946200-1743967800@bellinghamalive.com
SUMMARY:Pacific Northwest Opera Presents Dvořák's "Rusalka"
DESCRIPTION:“Rusalka” is based on Hans Christian Andersen’s “The Little Mermaid”. Disney adapted and changed the original story to have a happy ending unlike the original. Although mostly known by American audiences as the composer of the stirring “New World Symphony”\, Antonin Dvořák was a prolific composer of opera and “Rusalka” is among the most frequently performed operas around the world. \nSung in Czech with English Subtitles. Pre-concert lecture in the hall 45 minutes prior to performance. \nhttps://purchase.mcintyrehall.org/EventAvailability?EventId=5001 \n28 March 7:30 PM\n30 March 1:30 PM\n4 April 7:30 PM\n6 April 1:30 PM
URL:https://bellinghamalive.com/event2/pacific-northwest-opera-presents-dvoraks-rusalka-2/
CATEGORIES:Classical
END:VEVENT
END:VCALENDAR