BEGIN:VCALENDAR
VERSION:2.0
PRODID:-//Bellingham Alive - ECPv6.15.20//NONSGML v1.0//EN
CALSCALE:GREGORIAN
METHOD:PUBLISH
X-WR-CALNAME:Bellingham Alive
X-ORIGINAL-URL:https://bellinghamalive.com
X-WR-CALDESC:Events for Bellingham Alive
REFRESH-INTERVAL;VALUE=DURATION:PT1H
X-Robots-Tag:noindex
X-PUBLISHED-TTL:PT1H
BEGIN:VTIMEZONE
TZID:America/Denver
BEGIN:DAYLIGHT
TZOFFSETFROM:-0700
TZOFFSETTO:-0600
TZNAME:MDT
DTSTART:20240310T090000
END:DAYLIGHT
BEGIN:STANDARD
TZOFFSETFROM:-0600
TZOFFSETTO:-0700
TZNAME:MST
DTSTART:20241103T080000
END:STANDARD
BEGIN:DAYLIGHT
TZOFFSETFROM:-0700
TZOFFSETTO:-0600
TZNAME:MDT
DTSTART:20250309T090000
END:DAYLIGHT
BEGIN:STANDARD
TZOFFSETFROM:-0600
TZOFFSETTO:-0700
TZNAME:MST
DTSTART:20251102T080000
END:STANDARD
BEGIN:DAYLIGHT
TZOFFSETFROM:-0700
TZOFFSETTO:-0600
TZNAME:MDT
DTSTART:20260308T090000
END:DAYLIGHT
BEGIN:STANDARD
TZOFFSETFROM:-0600
TZOFFSETTO:-0700
TZNAME:MST
DTSTART:20261101T080000
END:STANDARD
END:VTIMEZONE
BEGIN:VEVENT
DTSTART;TZID=America/Denver:20250305T103000
DTEND;TZID=America/Denver:20250305T113000
DTSTAMP:20260423T074927
CREATED:20250219T161028Z
LAST-MODIFIED:20250219T161028Z
UID:43893-1741170600-1741174200@bellinghamalive.com
SUMMARY:BMC Award Winners in Concert: Showcase #1
DESCRIPTION:The Bellingham Music Club brings you the first of three showcases celebrating the next generation of musicians! \nFirst\, we will hear the winners of the 2025 H.S. String Awards in honor of Ethel Crook\, and the 2025 H.S. Winds and Percussion Awards in honor of Nicholas Bussard. \nJoin us for an hour-long program for violin\, viola\, cello\, flute\, alto saxophone\, trumpet\, and marimba performed by exceptionally gifted music students of Whatcom County! \nWednesday\, March 5\, 10:30am at Trinity Lutheran Church\, 119 Texas St. in Bellingham. All are welcome to this free program! It is BMC’s gift to the community! More information on https://bellinghammusicclub.org/
URL:https://bellinghamalive.com/event2/bmc-award-winners-in-concert-showcase-1/
CATEGORIES:Classical
ATTACH;FMTTYPE=image/jpeg:https://bellinghamalive.com/wp-content/uploads/2025/02/March-2025-showcase-1-image-scaled.jpg
END:VEVENT
BEGIN:VEVENT
DTSTART;TZID=America/Denver:20250322T170000
DTEND;TZID=America/Denver:20250322T180000
DTSTAMP:20260423T074927
CREATED:20250217T163510Z
LAST-MODIFIED:20250217T163510Z
UID:43869-1742662800-1742666400@bellinghamalive.com
SUMMARY:SONGS FOR THE SOUL; Benefit recital for St. Paul’s music program
DESCRIPTION:Saturday\, March 22\, 5:00pm. St. Paul’s Episcopal Church\, 2117 Walnut St\, Bellingham\, WA 98225. Acclaimed soprano\, Sherrie Kahn\, presents a solo recital in support of Music-St. Paul’s. She will be joined by pianist and vocal coach\, Jay Rozendaal\, of Seattle Opera\, WWU and St. Paul’s. The program will include works of Barber\, Brahms\, Mozart and a special world premiere by Scott Henderson\, “We Sing.” This concert is a benefit for the St. Paul’s Episcopal Church music program. Tickets: $25\, available at https://music-stpauls.org/. For more information: (360) 733 2890 or music@stpaulsbellingham.org.
URL:https://bellinghamalive.com/event2/songs-for-the-soul-benefit-recital-for-st-pauls-music-program/
CATEGORIES:Classical
ATTACH;FMTTYPE=image/jpeg:https://bellinghamalive.com/wp-content/uploads/2025/02/Sherrie-Kahn-HD-2025-scaled.jpeg
END:VEVENT
BEGIN:VEVENT
DTSTART;TZID=America/Denver:20250328T193000
DTEND;TZID=America/Denver:20250328T223000
DTSTAMP:20260423T074927
CREATED:20250217T163514Z
LAST-MODIFIED:20250217T163514Z
UID:43872-1743190200-1743201000@bellinghamalive.com
SUMMARY:Pacific Northwest Opera Presents Dvořák's "Rusalka"
DESCRIPTION:“Rusalka” is based on Hans Christian Andersen’s “The Little Mermaid”. Disney adapted and changed the original story to have a happy ending unlike the original. Although mostly known by American audiences as the composer of the stirring “New World Symphony”\, Antonin Dvořák was a prolific composer of opera and “Rusalka” is among the most frequently performed operas around the world. \nSung in Czech with English Subtitles. Pre-concert lecture in the hall 45 minutes prior to performance. \n28 March 7:30 PM\n30 March 1:30 PM\n4 April 7:30 PM\n6 April 1:30 PM\nhttps://purchase.mcintyrehall.org/EventAvailability?EventId=5001
URL:https://bellinghamalive.com/event2/pacific-northwest-opera-presents-dvoraks-rusalka/
CATEGORIES:Classical
ATTACH;FMTTYPE=image/jpeg:https://bellinghamalive.com/wp-content/uploads/2025/02/PNO_Rusalka.jpg
END:VEVENT
BEGIN:VEVENT
DTSTART;TZID=America/Denver:20250330T133000
DTEND;TZID=America/Denver:20250330T163000
DTSTAMP:20260423T074927
CREATED:20250217T163527Z
LAST-MODIFIED:20250217T163527Z
UID:43875-1743341400-1743352200@bellinghamalive.com
SUMMARY:Pacific Northwest Opera Presents Dvořák's "Rusalka"
DESCRIPTION:“Rusalka” is based on Hans Christian Andersen’s “The Little Mermaid”. Disney adapted and changed the original story to have a happy ending unlike the original. Although mostly known by American audiences as the composer of the stirring “New World Symphony”\, Antonin Dvořák was a prolific composer of opera and “Rusalka” is among the most frequently performed operas around the world. \nSung in Czech with English Subtitles. Pre-concert lecture in the hall 45 minutes prior to performance. \n28 March 7:30 PM\n30 March 1:30 PM\n4 April 7:30 PM\n6 April 1:30 PM \nhttps://purchase.mcintyrehall.org/EventAvailability?EventId=5001
URL:https://bellinghamalive.com/event2/pacific-northwest-opera-presents-dvoraks-rusalka-4/
CATEGORIES:Classical
ATTACH;FMTTYPE=image/jpeg:https://bellinghamalive.com/wp-content/uploads/2025/02/PNO_Rusalka1.jpg
END:VEVENT
END:VCALENDAR