BEGIN:VCALENDAR
VERSION:2.0
PRODID:-//Bellingham Alive - ECPv6.15.20//NONSGML v1.0//EN
CALSCALE:GREGORIAN
METHOD:PUBLISH
X-ORIGINAL-URL:https://bellinghamalive.com
X-WR-CALDESC:Events for Bellingham Alive
REFRESH-INTERVAL;VALUE=DURATION:PT1H
X-Robots-Tag:noindex
X-PUBLISHED-TTL:PT1H
BEGIN:VTIMEZONE
TZID:UTC
BEGIN:STANDARD
TZOFFSETFROM:+0000
TZOFFSETTO:+0000
TZNAME:UTC
DTSTART:20180101T000000
END:STANDARD
END:VTIMEZONE
BEGIN:VEVENT
DTSTART;TZID=UTC:20200222T100000
DTEND;TZID=UTC:20200223T170000
DTSTAMP:20260419T214131
CREATED:20200130T004753Z
LAST-MODIFIED:20200130T004753Z
UID:27884-1582365600-1582477200@bellinghamalive.com
SUMMARY:Fast Track* - Beginning Jewelry Metalsmithing 2
DESCRIPTION:Explore additional jewelry tools and fabrication techniques including: Sawing\, piercing\, filing\, forming\, forging\, texturing\, soldering\, fusing\, assembling links\, sanding and finishing using non-ferrous metals. You will use BMAG’s jewelry tools and equipment\, in a safe\, supportive\, creative environment. Each step will be well demonstrated with personal attention. You will leave the class with a finished piece including class samples of the techniques you have learned. Instructor: Marie-Claire Dole. Prerequisites: Beginning class open to adults\, 18 +\, wanting to learn new skills. February 22 & 23\, 2020\, 10am-5pm. *** NOTE *** Register before February 16th to allow the instructor time to purchase materials. *** Free parking & handicapped accessible. Bellingham Metal Arts Guild is a 501(c)(3) Non-Profit Organization promoting the Metal Arts in our community through educational classes\, workshop\, lectures & more at our educational studio/facility. For full details and to Register\, go to: Current.BMAG-WA.org
URL:https://bellinghamalive.com/event2/fast-track-beginning-jewelry-metalsmithing-2/
LOCATION:Bellingham Metal Arts Guild\, 2620 North Harbor Loop Dr. Suite 6\, Bellingham\, WA 98225
CATEGORIES:Classes
END:VEVENT
BEGIN:VEVENT
DTSTART;TZID=UTC:20200217T000000
DTEND;TZID=UTC:20200323T000000
DTSTAMP:20260419T214131
CREATED:20200130T030340Z
LAST-MODIFIED:20200130T030340Z
UID:27998-1581897600-1584921600@bellinghamalive.com
SUMMARY:YOUR PROJECT - FROM START TO FINISH:
DESCRIPTION:A six week class one evening a week designed for intermediate and advanced students. This course will walk you through the whole design process – from start to finish\, strengthen your skills and help you problem solve in the studio. Enrolled students will bring three design ideas for their project to the first class. Students should have a basic understanding of forging metals using hammers and stakes\, piercing and use of the jeweler’s saw\, sanding\, polishing\, filing and finishing techniques. February 17\, 24\, March 2\, 9 16 & 23 from 6:00pm to 9:00pm. Prerequisites: 18 years or older with Basic Jewelry Metalsmithing skiIls. Instructor: Sacha Bliese.  Class Fee: $265.00 plus materials fee determined by you in the first class. Bellingham Metal Arts Guild (BMAG) is a 501(c)(3) Non-Profit Organization promoting the Metal Arts through classes\, workshops\, lectures & more at our studio/education facility in the Squalicum Harbor Mall at. Full details and to Register go to: Current.BMAG-WA.org Email: Info@BMAG-WA.org
URL:https://bellinghamalive.com/event2/your-project-from-start-to-finish-3/
LOCATION:Bellingham Metal Arts Guild\, 2620 North Harbor Loop Dr. Suite 6\, Bellingham\, WA 98225
CATEGORIES:Classes
END:VEVENT
BEGIN:VEVENT
DTSTART;TZID=UTC:20200202T100000
DTEND;TZID=UTC:20200202T160000
DTSTAMP:20260419T214131
CREATED:20200130T030510Z
LAST-MODIFIED:20200130T030510Z
UID:27999-1580637600-1580659200@bellinghamalive.com
SUMMARY:VALENTINE'S EARRINGS:
DESCRIPTION:In this hands-on\, one-day workshop students will learn basic metal fabrication techniques to create a pair of earrings. Techniques include: design\, sawing\, piercing\, filing\, texturing\, soldering\, and stamping. Everyone will leave with at least one set of earrings. A great gift idea! Workshop Facilitator: Lisa Dailey. Prerequisites: Open to adults\, 18 years or older\, wanting to learn new skills. February 2\, 10:00am – 4:00pm. Price: $60.00 plus $15 materials fee. Bellingham Metal Arts Guild is a 501(c)(3) Non-Profit Organization promoting the Metal Arts in our community through educational classes\, workshop\, lectures & more at our educational studio/facility. For full details and to Register\, go to: Current.BMAG-WA.org\nEvent Email: Info@BMAG-WA.org
URL:https://bellinghamalive.com/event2/valentines-earrings/
CATEGORIES:Classes
END:VEVENT
BEGIN:VEVENT
DTSTART;TZID=UTC:20200130T180000
DTEND;TZID=UTC:20200130T210000
DTSTAMP:20260419T214131
CREATED:20200130T004530Z
LAST-MODIFIED:20200130T004530Z
UID:27882-1580407200-1580418000@bellinghamalive.com
SUMMARY:BEGINNING JEWELRY METALSMITHING 1:
DESCRIPTION:In this 5-week evening class you will learn basic jewelry fabrication techniques including: annealing\, sawing\, piercing\, filing\, texturing\, soldering\, forming\, and polishing using non-ferrous metals. You will use BMAG’s jewelry tools and equipment\, in a safe\, supportive\, creative environment and you can expect to finish one to two interesting pieces using these basic skills. No experience necessary! Prerequisites: Open to adults\, 18 years or older\, wanting to learn new skills. Instructor: Sacha Bliese. Course fee: $215.00 plus $20 materials fee.\nDates & Times: Thursdays\, Jan 2\, 9\, 16\, 23\, 30\, 2020\, 6pm to 9pm. \nBellingham Metal Arts Guild is a 501(c)(3) Non-Profit Organization promoting the Metal Arts through\nclasses\, workshops\, lectures & more at our studio/education facility in the Squalicum Harbor Mall.\nFull details and to Register go to: Current.BMAG-WA.org\nSubscribe to our Newsletter at: News.BMAG-WA.org\neMail: Info@BMAG-WA.org
URL:https://bellinghamalive.com/event2/beginning-jewelry-metalsmithing-1-4/
LOCATION:Bellingham Metal Arts Guild\, 2620 North Harbor Loop Dr. Suite 6\, Bellingham\, WA 98225
CATEGORIES:Classes
END:VEVENT
BEGIN:VEVENT
DTSTART;TZID=UTC:20191208T130000
DTEND;TZID=UTC:20191208T170000
DTSTAMP:20260419T214131
CREATED:20191006T141105Z
LAST-MODIFIED:20191006T141105Z
UID:27064-1575810000-1575824400@bellinghamalive.com
SUMMARY:The Joy of Making Coin Rings
DESCRIPTION:In this fun\, hands-on class students will experience the joy of making a Coin Ring. Vintage Quarters will become beautiful\, heavy gauge silver rings. No soldering required\, instead we will anneal and forge\, anneal and forge! Coin rings are fascinating conversation pieces and comfortable to wear. Join our workshop for a fun afternoon of Coin Ring making. Sunday\, December 8\, 2019\, 1pm-5pm. Instructor: Adrienne Sheard. Prerequisites: Open to adults\, 18 years or older\, wanting to learn new skills. Bellingham Metal Arts Guild is a 501(c)(3) Non-Profit Organization promoting the Metal Arts through classes\, workshops\, lectures & more at our studio/education facility in the Squalicum Harbor Mall: 2620 North Harbor Loop Dr. Suite 6\, Bellingham\, WA 98225. Full details and to Register go to: Current.BMAG-WA.org \nCourse fee: $55.00 plus $10 materials fee. Additional materials will be available for purchase.
URL:https://bellinghamalive.com/event2/the-joy-of-making-coin-rings-2/
LOCATION:Squalicum Harbor Mall\, 2620 North Harbor Loop Dr.\, Bellingham\, WA\, 98226\, United States
CATEGORIES:Classes
END:VEVENT
BEGIN:VEVENT
DTSTART;TZID=UTC:20191202T000000
DTEND;TZID=UTC:20191202T000000
DTSTAMP:20260419T214131
CREATED:20190830T050758Z
LAST-MODIFIED:20190830T050758Z
UID:26805-1575244800-1575244800@bellinghamalive.com
SUMMARY:Christmas Ornament Workshop
DESCRIPTION:In this fun\, one day workshop students will learn basic metal fabrication techniques to create a custom Christmas ornament. Techniques include: design\, sawing\, piercing\, filing\, texturing\, soldering\, and rivets. Everyone will leave with at least one handmade ornament. A great gift idea. Prerequisites: Open to adults\, 18 years or older\, wanting to learn new skills. Educator: Lisa Dailey. Course fee: $85.00 plus $10 materials fee. Free parking & handicapped accessible. Bellingham Metal Arts Guild is a 501(c)(3) Non-Profit Organization promoting the Metal Arts in our community through educational classes\, workshop\, lectures & more at our educational studio/facility. For full details and to Register\, go to: Current.BMAG-WA.org \nbmag-wa.org
URL:https://bellinghamalive.com/event2/christmas-ornament-workshop/
LOCATION:Bellingham Metal Arts Guild\, 2620 North Harbor Loop Dr. Suite 6\, Bellingham\, WA 98225
CATEGORIES:Classes
END:VEVENT
BEGIN:VEVENT
DTSTART;TZID=UTC:20191123T183000
DTEND;TZID=UTC:20191123T203000
DTSTAMP:20260419T214131
CREATED:20191022T055057Z
LAST-MODIFIED:20191022T055057Z
UID:27451-1574533800-1574541000@bellinghamalive.com
SUMMARY:Calypso Kitchen Caribbean Cooking. Fall Class Menu
DESCRIPTION:Fall Menu complete with drinks\, appetizers & main course\nDrinks\nHibiscus Sangria\nCalypso Coconut Ponche de Creme\nAppetizers\nBacalau Salad with Avocado Slices\nTrinidad Fry Bake/Bread\nMain\nCoconut Curry Lamb\nTrinidad Buss Up Shut/Paratha\nCalypso Kitchen Fire Roasted Eggplant & Tomato Choka Mix\nGarlic & Herb Roasted Seasonal Vegetables \nhttps://calypso.kitchen/classes/
URL:https://bellinghamalive.com/event2/calypso-kitchen-caribbean-cooking-fall-class-menu/
CATEGORIES:Classes
END:VEVENT
BEGIN:VEVENT
DTSTART;TZID=UTC:20191109T100000
DTEND;TZID=UTC:20191110T170000
DTSTAMP:20260419T214131
CREATED:20191006T140829Z
LAST-MODIFIED:20191006T140829Z
UID:27063-1573293600-1573405200@bellinghamalive.com
SUMMARY:Fast Track* - Beginning Jewelry Metalsmithing 1
DESCRIPTION:Learn how to properly use specific tools and equipment for jewelry fabrication techniques including: Sawing\, piercing\, filing\, texturing\, basic soldering\, forming\, sanding and finishing\, using non-ferrous metals. You will use BMAG’s jewelry tools and equipment\, in a safe\, supportive\, creative environment. Each step will be well demonstrated with personal attention. You will leave the class with a sample piece of the techniques you have learned. Instructor: Marie-Claire Dole. Course fee: $215.00 plus $20 materials fee. Register before October 31st to allow the instructor time to purchase materials. Prerequisites: Beginning class open to adults\, 18 +\, wanting to learn new skills. November 9 & 10\, 2019\, 10am-5pm.\nBellingham Metal Arts Guild is a 501(c)(3) Non-Profit Organization promoting the Metal Arts in our community through educational classes\, workshop\, lectures & more at our educational studio/facility. For full details and to Register\, go to: Current.BMAG-WA.org
URL:https://bellinghamalive.com/event2/fast-track-beginning-jewelry-metalsmithing-1/
LOCATION:Squalicum Harbor Mall\, 2620 North Harbor Loop Dr.\, Bellingham\, WA\, 98226\, United States
CATEGORIES:Classes
END:VEVENT
BEGIN:VEVENT
DTSTART;TZID=UTC:20191104T170000
DTEND;TZID=UTC:20191104T190000
DTSTAMP:20260419T214131
CREATED:20190913T035251Z
LAST-MODIFIED:20190913T035251Z
UID:26895-1572886800-1572894000@bellinghamalive.com
SUMMARY:Weekly Swing Dance Classes
DESCRIPTION:Learn the basics in a friendly environment with Swing Dancing for Everyone\, or improve your Lindy Hop with our Intermediate class.\nEvery Monday\, with four week series starting the first Monday of each month.\n5-6pm: Swing Dancing for Everyone\n6-7pm: Intermediate/Advanced Lindy Hop\n$50 for the month. $15 drop-in. $40 for students. $12 student drop-in. \nbhamhop.com
URL:https://bellinghamalive.com/event2/weekly-swing-dance-classes-14/
CATEGORIES:Classes
END:VEVENT
BEGIN:VEVENT
DTSTART;TZID=UTC:20191019T100000
DTEND;TZID=UTC:20191020T170000
DTSTAMP:20260419T214131
CREATED:20191006T140314Z
LAST-MODIFIED:20191006T140314Z
UID:27061-1571479200-1571590800@bellinghamalive.com
SUMMARY:Fast Track Advanced: The Step-Bezel Ring
DESCRIPTION:This will be a two-day\, advanced class to help you explore a new bezel technique for a ring. A bezel is a band of metal\, Sterling Silver or Fine Silver\, which is formed around the edge of the stone to hold it in place. Usually it is made as a box bezel with a flat piece of metal supporting the flat cabochon and connecting the bezel and the ring. In this class\, the bezel will be an integral part of your design. We will fabricate a step-bezel to form a raised setting for your chosen cabochon or faceted gem. This requires careful measuring and fine motor skills. We will cover how to choose and fabricate the correct bezels for your gems. The ideal choice for this type of setting is a shallow cabochon or a faceted gem like an emerald cut shape. Some gems will be available from the instructor as needed. Instructor: Marie-Claire Dole. Deadline to register: Sunday Oct 6th at 12pm. Prerequisites: Open to adults (18 years and older) and student must have good basic skill in jewelry fabrication. Saturday & Sunday\, October 19 & 20\, 2019\, 10am-5pm. Course fee: $250.00 plus $30-$50 materials fee (depending on your needs).\nBellingham Metal Arts Guild is a 501(c)(3) Non-Profit Organization promoting the Metal Arts through classes\, workshops\, lectures & more at our studio/education facility in the Squalicum Harbor Mall.\nFull details and to Register go to: Current.BMAG-WA.org
URL:https://bellinghamalive.com/event2/fast-track-advanced-the-step-bezel-ring/
LOCATION:Squalicum Harbor Mall\, 2620 North Harbor Loop Dr.\, Bellingham\, WA\, 98226\, United States
CATEGORIES:Classes
END:VEVENT
BEGIN:VEVENT
DTSTART;TZID=UTC:20191012T100000
DTEND;TZID=UTC:20191013T170000
DTSTAMP:20260419T214131
CREATED:20191006T140544Z
LAST-MODIFIED:20191006T140544Z
UID:27062-1570874400-1570986000@bellinghamalive.com
SUMMARY:Weekend Beginning Jewelry
DESCRIPTION:In this weekend class you will learn basic jewelry fabrication techniques including: annealing\, sawing\, piercing\, filing\, texturing\, soldering\, forming\, and polishing using non-ferrous metals. You will use BMAG’s jewelry tools and equipment\, in a safe\, supportive\, creative environment and you can expect to finish one to two interesting pieces using these basic skills. No experience necessary! Instructor: Steven Anderson. Prerequisites: Open to adults\, 18 years or older\, wanting to learn new skills. Saturday & Sunday\, Oct 12 & 13\, 2019\, 10am to 5pm. Course fee: $215.00 plus $20 materials fee. Bellingham Metal Arts Guild is a 501(c)(3) Non-Profit Organization promoting the Metal Arts through classes\, workshops\, lectures & more at our studio/education facility in the Squalicum Harbor Mall. Full details and to Register go to: Current.BMAG-WA.org
URL:https://bellinghamalive.com/event2/weekend-beginning-jewelry/
LOCATION:Squalicum Harbor Mall\, 2620 North Harbor Loop Dr.\, Bellingham\, WA\, 98226\, United States
CATEGORIES:Classes
END:VEVENT
BEGIN:VEVENT
DTSTART;TZID=UTC:20191007T170000
DTEND;TZID=UTC:20191007T190000
DTSTAMP:20260419T214131
CREATED:20190913T035108Z
LAST-MODIFIED:20190913T035108Z
UID:26893-1570467600-1570474800@bellinghamalive.com
SUMMARY:Weekly Swing Dance Classes
DESCRIPTION:Learn the basics in a friendly environment with Swing Dancing for Everyone\, or improve your Lindy Hop with our Intermediate class.\nEvery Monday\, with four week series starting the first Monday of each month.\n5-6pm: Swing Dancing for Everyone\n6-7pm: Intermediate/Advanced Lindy Hop\n$50 for the month. $15 drop-in. $40 for students. $12 student drop-in. \nbhamhop.com
URL:https://bellinghamalive.com/event2/weekly-swing-dance-classes-13/
CATEGORIES:Classes
END:VEVENT
BEGIN:VEVENT
DTSTART;TZID=UTC:20191005T110000
DTEND;TZID=UTC:20191006T170000
DTSTAMP:20260419T214131
CREATED:20190830T044509Z
LAST-MODIFIED:20190830T044509Z
UID:26798-1570273200-1570381200@bellinghamalive.com
SUMMARY:Wax Carving at BMAG
DESCRIPTION:This 2-day class will allow you to create a unique wax model for a ring band or a pendant. You will use appropriate tools for carving or adding wax. This technique is suitable for a 3 dimensional figurative or abstract design that may not be achieved with direct metalsmithing. The finished wax will be sent out for the casting process. Instructor: Marie-Claire Dole. Prerequisites: Open to adults\, 18 years or older\, Basic Skills such as sawing and filing. October 5 & 6\, Saturday & Sunday. Course fee: $225.00 plus $TBD materials fee. Full details and to Register go to: Current.BMAG-WA.org.\nSubscribe to our Newsletter at: News.BMAG-WA.org.\nBellingham Metal Arts Guild (BMAG) is a 501(c)(3) Non-Profit Organization promoting the Metal Arts through classes\, workshops\, lectures & more at our studio/education facility in the Squalicum Harbor Mall. Email: Info@BMAG-WA.org
URL:https://bellinghamalive.com/event2/wax-carving-at-bmag/
LOCATION:Bellingham Metal Arts Guild\, 2620 North Harbor Loop Dr. Suite 6\, Bellingham\, WA 98225
CATEGORIES:Classes
END:VEVENT
BEGIN:VEVENT
DTSTART;TZID=UTC:20191001T180000
DTEND;TZID=UTC:20191001T210000
DTSTAMP:20260419T214131
CREATED:20190830T045302Z
LAST-MODIFIED:20190830T045302Z
UID:26801-1569952800-1569963600@bellinghamalive.com
SUMMARY:Your Project – From Start To Finish
DESCRIPTION:A six week class one evening a week designed for intermediate and advanced students. Enrolled students will bring three design ideas for their project to the first class. After discussion each student will choose one for the class project and prepare a plan of action. Together in class we will prepare an order for materials. The next five weeks will be studio time to put your plan into action with an instructor close at hand to answer questions that arise. During the last class we will take photos of your final pieces and have a\nlessons-learned / critique discussion. This course will walk you through the whole design process – from start to finish\, strengthen your metalsmithing skills and help you problem solve in the studio. Students should have a basic understanding of forging metals using hammers and stakes\, piercing and use of the jeweler’s saw\, sanding\, polishing\, filing and finishing techniques. Prerequisites: Open to students 18 yrs or older with Basic Jewelry Metalsmithing skills. Instructor: Sacha Bliese. Course fee: $265.00 plus materials fee determined by you in the first class. \nDates & Times: Tuesdays\, Oct 1\, 8\, 15\, 22\, 29\, Nov 5\, 2019\, 6pm to 9pm. \nBellingham Metal Arts Guild is a 501(c)(3) Non-Profit Organization promoting the Metal Arts through\nclasses\, workshops\, lectures & more at our studio/education facility in the Squalicum Harbor Mall.\nFull details and to Register go to: Current.BMAG-WA.org \nbmag-wa.org
URL:https://bellinghamalive.com/event2/your-project-from-start-to-finish-2/
LOCATION:Bellingham Metal Arts Guild\, 2620 North Harbor Loop Dr. Suite 6\, Bellingham\, WA 98225
CATEGORIES:Classes
END:VEVENT
BEGIN:VEVENT
DTSTART;TZID=UTC:20190914T100000
DTEND;TZID=UTC:20190915T170000
DTSTAMP:20260419T214131
CREATED:20190830T045024Z
LAST-MODIFIED:20190830T045024Z
UID:26800-1568455200-1568566800@bellinghamalive.com
SUMMARY:The Weave
DESCRIPTION:Students will learn the basics of wire weaving over the course of this 2-day class. Students will have the opportunity to make three different types of pendants and a bracelet using several weaving styles. For students enchanted with wire weaving\, more advanced classes will be offered so students can add to these techniques to make more complex pieces. Instructor: Brandon Milton. Prerequisites: Open to adults\, 18 years or older\, wanting to learn new skills. Dates & Times: Saturday & Sunday\, Sept 14 &15\, 2019\, 10am-5pm. Course fee: $225.00 plus $20 materials fee. Additional materials will be available for purchase. \nBellingham Metal Arts Guild is a 501(c)(3) Non-Profit Organization promoting the Metal Arts through classes\, workshops\, lectures & more at our studio/education facility in the Squalicum Harbor Mall. Full details and to Register go to: Current.BMAG-WA.org \nbmag-wa.org
URL:https://bellinghamalive.com/event2/the-weave/
LOCATION:Bellingham Metal Arts Guild\, 2620 North Harbor Loop Dr. Suite 6\, Bellingham\, WA 98225
CATEGORIES:Classes
END:VEVENT
BEGIN:VEVENT
DTSTART;TZID=UTC:20190912T183000
DTEND;TZID=UTC:20190912T203000
DTSTAMP:20260419T214131
CREATED:20190828T035308Z
LAST-MODIFIED:20190828T035308Z
UID:26777-1568313000-1568320200@bellinghamalive.com
SUMMARY:Ayurveda Study Group
DESCRIPTION:Are you interested in learning about the mysterious and alluring Science of Life called Ayurveda? \nDesigned to give you a fun and functional understanding of the ancient principles of Ayurveda\, this 10-week course provides you with an intimate portrait of your unique body-mind type AND gives you tools to transform your own health and wellness. \nClass begins Thursday\, Sept. 12. \nSee this link for more information and to register:\nayurvedichealthcenter.com
URL:https://bellinghamalive.com/event2/ayurveda-study-group/
LOCATION:Ayurvedic Health Center\, 203 West Holly Street Suite 201 & 204\, Bellingham\, WA\, 98225\, United States
CATEGORIES:Classes
END:VEVENT
BEGIN:VEVENT
DTSTART;TZID=UTC:20190910T190000
DTEND;TZID=UTC:20190910T210000
DTSTAMP:20260419T214131
CREATED:20190828T035047Z
LAST-MODIFIED:20190828T035047Z
UID:26775-1568142000-1568149200@bellinghamalive.com
SUMMARY:Chanting for Transformation
DESCRIPTION:Mantra is a ritualized form of singing where a particular intention is held and a particular state is invoked. Mantras have been used for thousands of years by many cultures across human history. The Vedic sciences are one of the most ardent and consistent users of mantra. Mantra is done for a purpose and is sacred. Mantras should never be done casually or irreverently\, and students benefit most by having a teacher initiate them into the use of mantra. \nJoin us in chanting Vedic sanskrit mantras for the sheer joy of it—as well as the transformation that they bring. \nInstruction will be provided.\nBeginners are encouraged.\nDrop-ins are welcome.\n$10.00 suggested donation. \nfacebook.com
URL:https://bellinghamalive.com/event2/chanting-for-transformation/
LOCATION:Ayurvedic Health Center\, 203 West Holly Street Suite 201 & 204\, Bellingham\, WA\, 98225\, United States
CATEGORIES:Classes
END:VEVENT
BEGIN:VEVENT
DTSTART;TZID=UTC:20190909T180000
DTEND;TZID=UTC:20190909T210000
DTSTAMP:20260419T214131
CREATED:20190830T044805Z
LAST-MODIFIED:20190830T044805Z
UID:26799-1568052000-1568062800@bellinghamalive.com
SUMMARY:BEGINNING JEWELRY METALSMITHING 1:
DESCRIPTION:In this 5-week evening class you will learn basic jewelry fabrication techniques including: annealing\, sawing\, piercing\, filing\, texturing\, soldering\, forming\, and polishing using non-ferrous metals. You will use BMAG’s jewelry tools and equipment\, in a safe\, supportive\, creative environment and you can expect to finish one to two interesting pieces using these basic skills. No experience necessary! Adults only. Instructor: Sacha Bliese. Mondays\, Sept 9\, 16\, 23\, 30 Oct 7\, 2019\, 6pm to 9pm. Course fee: $215.00 plus $20 materials fee. Prerequisites: Open to adults\, 18 years or older\, wanting to learn new skills. Full details and to Register go to: Current.BMAG-WA.org Subscribe to our Newsletter at: News.BMAG-WA.org Bellingham Metal Arts Guild is a 501(c)(3) Non-Profit Organization promoting the Metal Arts through classes\, workshops\, lectures & more at our studio/education facility in the Squalicum Harbor Mall. eMail: Info@BMAG-WA.org \nbmag-wa.org
URL:https://bellinghamalive.com/event2/beginning-jewelry-metalsmithing-1-2/
LOCATION:Bellingham Metal Arts Guild\, 2620 North Harbor Loop Dr. Suite 6\, Bellingham\, WA 98225
CATEGORIES:Classes
END:VEVENT
BEGIN:VEVENT
DTSTART;TZID=UTC:20190905T130000
DTEND;TZID=UTC:20190905T150000
DTSTAMP:20260419T214131
CREATED:20190716T052124Z
LAST-MODIFIED:20190716T052149Z
UID:25998-1567688400-1567695600@bellinghamalive.com
SUMMARY:Academy for Lifelong Learning Fall Preview
DESCRIPTION:The Academy for Lifelong Learning (ALL) offers adults an opportunity to learn and inspire continued intellectual growth. Programs include traditional liberal arts and sciences topics with an emphasis on interdisciplinary exploration\, utilizing formats that encourage discussion and exchange of knowledge. Programs are open to all interested adults\, regardless of age or educational background. With that in mind\, you are invited to join us for a preview event that showcases ALL’s upcoming fall and winter programming\, with a brief overview of diverse courses taught by expert faculty and a variety of leisure excursions. The event is free and open to the public\, with no registration required. Doors open at 12:30 p.m.\, with time for refreshments and socializing. ALL brings together an incredible community of curious minds. For more information\, visit wwu.edu/ALL. Please plan to join us!
URL:https://bellinghamalive.com/event2/academy-for-lifelong-learning-fall-preview/
CATEGORIES:Classes
END:VEVENT
BEGIN:VEVENT
DTSTART;TZID=UTC:20190823T180000
DTEND;TZID=UTC:20190823T203000
DTSTAMP:20260419T214131
CREATED:20190814T040318Z
LAST-MODIFIED:20190814T040318Z
UID:26501-1566583200-1566592200@bellinghamalive.com
SUMMARY:Clay Play with Fire!
DESCRIPTION:Raku Experience at Burnish Clay Studio – Fri 8/23 6-8:30 PM\, $48 per person. Participants will apply glaze material to their selected form and participate in the firing of those pieces. We will provide you a small pot made by Jesse Rasmussen\, or if you are an active potter you can bring your own small bisqued piece. No experience necessary\, advance registration required – www.burnishclaystudio.com
URL:https://bellinghamalive.com/event2/clay-play-with-fire-2/
CATEGORIES:Classes
END:VEVENT
END:VCALENDAR