BEGIN:VCALENDAR
VERSION:2.0
PRODID:-//Bellingham Alive - ECPv6.15.20//NONSGML v1.0//EN
CALSCALE:GREGORIAN
METHOD:PUBLISH
X-WR-CALNAME:Bellingham Alive
X-ORIGINAL-URL:https://bellinghamalive.com
X-WR-CALDESC:Events for Bellingham Alive
REFRESH-INTERVAL;VALUE=DURATION:PT1H
X-Robots-Tag:noindex
X-PUBLISHED-TTL:PT1H
BEGIN:VTIMEZONE
TZID:America/Denver
BEGIN:DAYLIGHT
TZOFFSETFROM:-0700
TZOFFSETTO:-0600
TZNAME:MDT
DTSTART:20250309T090000
END:DAYLIGHT
BEGIN:STANDARD
TZOFFSETFROM:-0600
TZOFFSETTO:-0700
TZNAME:MST
DTSTART:20251102T080000
END:STANDARD
BEGIN:DAYLIGHT
TZOFFSETFROM:-0700
TZOFFSETTO:-0600
TZNAME:MDT
DTSTART:20260308T090000
END:DAYLIGHT
BEGIN:STANDARD
TZOFFSETFROM:-0600
TZOFFSETTO:-0700
TZNAME:MST
DTSTART:20261101T080000
END:STANDARD
BEGIN:DAYLIGHT
TZOFFSETFROM:-0700
TZOFFSETTO:-0600
TZNAME:MDT
DTSTART:20270314T090000
END:DAYLIGHT
BEGIN:STANDARD
TZOFFSETFROM:-0600
TZOFFSETTO:-0700
TZNAME:MST
DTSTART:20271107T080000
END:STANDARD
END:VTIMEZONE
BEGIN:VEVENT
DTSTART;TZID=America/Denver:20260204T150000
DTEND;TZID=America/Denver:20260325T170000
DTSTAMP:20260423T015219
CREATED:20260105T235013Z
LAST-MODIFIED:20260105T235013Z
UID:48169-1770217200-1774458000@bellinghamalive.com
SUMMARY:Financial Learning and Resiliency Through Empowerment (FLARE)
DESCRIPTION:Free In Person Financial Course! Want to learn more about money? How to make your dollar stretch? How to create a budget? Well this free course is for you! Come join us on Wednesdays at the WECU Education Center on 511 E. Holly Street\, Downtown Bellingham\, starting February 4th-March 25th from 3:00pm-5:00pm. Scan the QR code or visit www.oppco.org/flare-registration/ to register. Hope to see you there!!!
URL:https://bellinghamalive.com/event2/financial-learning-and-resiliency-through-empowerment-flare-2/
CATEGORIES:Classes
ATTACH;FMTTYPE=image/jpeg:https://bellinghamalive.com/wp-content/uploads/2026/01/Financial-Learning-and-Resiliency-through-Empowerment-FLARE.jpg
END:VEVENT
BEGIN:VEVENT
DTSTART;TZID=America/Denver:20260402T180000
DTEND;TZID=America/Denver:20260402T193000
DTSTAMP:20260423T015219
CREATED:20260313T213836Z
LAST-MODIFIED:20260313T213836Z
UID:48867-1775152800-1775158200@bellinghamalive.com
SUMMARY:Live Online Gardening Green course begins April 2!
DESCRIPTION:Discover the secrets to vibrant\, lower-maintenance\, and environmentally friendly landscaping with WSU Whatcom County Extension’s Gardening Green courses. \nThe 5-session course begins April 2.\nLIVE online via Zoom\nThursdays: 4/2\, 4/9\, 4/23\, 4/30 from 6pm – 7:30 pm and on\nSaturday 5/2 from 10 am to 12 pm\nCost: $56 for a soil test \nYou’ll learn how to:\n• Cultivate healthy soils\, and conserve water\n• Reduce maintenance\n• Create naturally beautiful gardens that are bird and pollinator friendly\n• Help to keep our lakes and rivers clean \nAnd you’ll get started on a customized landscaping plan!\nParticipants will receive a coupon from a local nursery! \nTo learn more and register go to: https://extension.wsu.edu/whatcom/nr/gardening-green/
URL:https://bellinghamalive.com/event2/live-online-gardening-green-course-begins-april-2/
CATEGORIES:Classes
ATTACH;FMTTYPE=image/jpeg:https://bellinghamalive.com/wp-content/uploads/2026/03/2026-GG-online-course-graphic-Copy.jpg
END:VEVENT
END:VCALENDAR