BEGIN:VCALENDAR
VERSION:2.0
PRODID:-//Bellingham Alive - ECPv6.15.20//NONSGML v1.0//EN
CALSCALE:GREGORIAN
METHOD:PUBLISH
X-WR-CALNAME:Bellingham Alive
X-ORIGINAL-URL:https://bellinghamalive.com
X-WR-CALDESC:Events for Bellingham Alive
REFRESH-INTERVAL;VALUE=DURATION:PT1H
X-Robots-Tag:noindex
X-PUBLISHED-TTL:PT1H
BEGIN:VTIMEZONE
TZID:America/Denver
BEGIN:DAYLIGHT
TZOFFSETFROM:-0700
TZOFFSETTO:-0600
TZNAME:MDT
DTSTART:20250309T090000
END:DAYLIGHT
BEGIN:STANDARD
TZOFFSETFROM:-0600
TZOFFSETTO:-0700
TZNAME:MST
DTSTART:20251102T080000
END:STANDARD
BEGIN:DAYLIGHT
TZOFFSETFROM:-0700
TZOFFSETTO:-0600
TZNAME:MDT
DTSTART:20260308T090000
END:DAYLIGHT
BEGIN:STANDARD
TZOFFSETFROM:-0600
TZOFFSETTO:-0700
TZNAME:MST
DTSTART:20261101T080000
END:STANDARD
BEGIN:DAYLIGHT
TZOFFSETFROM:-0700
TZOFFSETTO:-0600
TZNAME:MDT
DTSTART:20270314T090000
END:DAYLIGHT
BEGIN:STANDARD
TZOFFSETFROM:-0600
TZOFFSETTO:-0700
TZNAME:MST
DTSTART:20271107T080000
END:STANDARD
END:VTIMEZONE
BEGIN:VEVENT
DTSTART;TZID=America/Denver:20260131T090000
DTEND;TZID=America/Denver:20260131T110000
DTSTAMP:20260419T193834
CREATED:20260126T170653Z
LAST-MODIFIED:20260126T170653Z
UID:48340-1769850000-1769857200@bellinghamalive.com
SUMMARY:Cream Puff Watercolor Workshop
DESCRIPTION:Learn some new watercolor skills while enjoying a drink & 2 cream puffs! All supplies & tasty treats provided. Taught by local artist Irene\, of Chroma Rex\, at Saltadena in downtown Bellingham \nAll skill levels welcome\, and beginners encouraged! Open to adults & high schoolers. \n$65/person\, or register with a buddy for a $10 discount \nRegister here:\nhttps://chromarex.com/products/watercolor-workshop-at-saltadena-bakery
URL:https://bellinghamalive.com/event2/cream-puff-watercolor-workshop/
CATEGORIES:Classes
ATTACH;FMTTYPE=image/jpeg:https://bellinghamalive.com/wp-content/uploads/2026/01/Saltadena-Watercolor-Workshop-Jan-20262.jpg
END:VEVENT
END:VCALENDAR