BEGIN:VCALENDAR
VERSION:2.0
PRODID:-//Bellingham Alive - ECPv6.15.20//NONSGML v1.0//EN
CALSCALE:GREGORIAN
METHOD:PUBLISH
X-WR-CALNAME:Bellingham Alive
X-ORIGINAL-URL:https://bellinghamalive.com
X-WR-CALDESC:Events for Bellingham Alive
REFRESH-INTERVAL;VALUE=DURATION:PT1H
X-Robots-Tag:noindex
X-PUBLISHED-TTL:PT1H
BEGIN:VTIMEZONE
TZID:America/Denver
BEGIN:DAYLIGHT
TZOFFSETFROM:-0700
TZOFFSETTO:-0600
TZNAME:MDT
DTSTART:20240310T090000
END:DAYLIGHT
BEGIN:STANDARD
TZOFFSETFROM:-0600
TZOFFSETTO:-0700
TZNAME:MST
DTSTART:20241103T080000
END:STANDARD
BEGIN:DAYLIGHT
TZOFFSETFROM:-0700
TZOFFSETTO:-0600
TZNAME:MDT
DTSTART:20250309T090000
END:DAYLIGHT
BEGIN:STANDARD
TZOFFSETFROM:-0600
TZOFFSETTO:-0700
TZNAME:MST
DTSTART:20251102T080000
END:STANDARD
BEGIN:DAYLIGHT
TZOFFSETFROM:-0700
TZOFFSETTO:-0600
TZNAME:MDT
DTSTART:20260308T090000
END:DAYLIGHT
BEGIN:STANDARD
TZOFFSETFROM:-0600
TZOFFSETTO:-0700
TZNAME:MST
DTSTART:20261101T080000
END:STANDARD
END:VTIMEZONE
BEGIN:VEVENT
DTSTART;TZID=America/Denver:20251015T173000
DTEND;TZID=America/Denver:20251210T193000
DTSTAMP:20260420T010113
CREATED:20251008T173726Z
LAST-MODIFIED:20251008T173726Z
UID:47165-1760549400-1765395000@bellinghamalive.com
SUMMARY:Financial Learning and Resiliency through Empowerment (FLARE)
DESCRIPTION:Financial Learning and Resiliency through Empowerment (FLARE) is a FREE series of eight consecutive classes designed to increase awareness of behaviors and beliefs surrounding money. Topics discussed are goal setting\, budgeting\, credit\, banking\, identity theft and fraud. 💙💛 Virtual classes are held Wednesday evenings\, 5:30-7:30pm\, beginning 10/15. Register with the link below to receive a zoom link invitation. Class attendance for all 8 classes is STRONGLY ENCOURAGED! Everyone’s welcome! Hope to see you there! \nFLARE Registration
URL:https://bellinghamalive.com/event2/financial-learning-and-resiliency-through-empowerment-flare/
CATEGORIES:Classes
ATTACH;FMTTYPE=image/jpeg:https://bellinghamalive.com/wp-content/uploads/2025/09/Financial-Learning-and-Resiliency-through-Empowerment-FLARE.jpg
END:VEVENT
BEGIN:VEVENT
DTSTART;TZID=America/Denver:20251021T173000
DTEND;TZID=America/Denver:20251021T210000
DTSTAMP:20260420T010113
CREATED:20250902T192423Z
LAST-MODIFIED:20250902T192423Z
UID:46686-1761067800-1761080400@bellinghamalive.com
SUMMARY:Italian Cooking Class & Four Course Dinner
DESCRIPTION:🇮🇹 Make Pasta Like a Tuscan with Chef Marta Ciappi \nJoin us for an unforgettable hands-on Italian cooking experience with Chef Marta Ciappi of Siena\, Italy. Learn authentic Tuscan pasta-making techniques while enjoying wine pairings from renowned Italian wineries — all in the elegant setting of Lairmont Manor. \n📅 Dates: Monday\, October 20 – Thursday\, October 23\n⏰ Time: 5:30 PM – 9:00 PM\n📍 Location: Lairmont Manor\, 405 Fieldston Rd\, Bellingham\, WA \n📞 Contact: 360-223-6983 / amilesd72@gmail.com\n🌐 Website/Registration: https://www.eventbrite.com/e/make-pasta-like-a-tuscan-hands-on-cooking-class-with-chef-marta-ciappi-registration-1422940857409?sg=26277a5cc3a7ee8f916737badec56c765a2aeea25d5d46f4fdabc0f1b740da776f4a6965b2caf80fe0d7ecce564adebca56a0d2ebfb6b7f86d80e276b87ff9ef503b1010d1d7d50de7862ab5cf&aff=ebdsshios
URL:https://bellinghamalive.com/event2/italian-cooking-class-four-course-dinner/
CATEGORIES:Classes
ATTACH;FMTTYPE=image/png:https://bellinghamalive.com/wp-content/uploads/2025/09/Italian-Cooking-Classes.png
END:VEVENT
END:VCALENDAR