BEGIN:VCALENDAR
VERSION:2.0
PRODID:-//Bellingham Alive - ECPv6.15.20//NONSGML v1.0//EN
CALSCALE:GREGORIAN
METHOD:PUBLISH
X-WR-CALNAME:Bellingham Alive
X-ORIGINAL-URL:https://bellinghamalive.com
X-WR-CALDESC:Events for Bellingham Alive
REFRESH-INTERVAL;VALUE=DURATION:PT1H
X-Robots-Tag:noindex
X-PUBLISHED-TTL:PT1H
BEGIN:VTIMEZONE
TZID:America/Denver
BEGIN:DAYLIGHT
TZOFFSETFROM:-0700
TZOFFSETTO:-0600
TZNAME:MDT
DTSTART:20240310T090000
END:DAYLIGHT
BEGIN:STANDARD
TZOFFSETFROM:-0600
TZOFFSETTO:-0700
TZNAME:MST
DTSTART:20241103T080000
END:STANDARD
BEGIN:DAYLIGHT
TZOFFSETFROM:-0700
TZOFFSETTO:-0600
TZNAME:MDT
DTSTART:20250309T090000
END:DAYLIGHT
BEGIN:STANDARD
TZOFFSETFROM:-0600
TZOFFSETTO:-0700
TZNAME:MST
DTSTART:20251102T080000
END:STANDARD
BEGIN:DAYLIGHT
TZOFFSETFROM:-0700
TZOFFSETTO:-0600
TZNAME:MDT
DTSTART:20260308T090000
END:DAYLIGHT
BEGIN:STANDARD
TZOFFSETFROM:-0600
TZOFFSETTO:-0700
TZNAME:MST
DTSTART:20261101T080000
END:STANDARD
END:VTIMEZONE
BEGIN:VEVENT
DTSTART;TZID=America/Denver:20250804T093000
DTEND;TZID=America/Denver:20250808T033000
DTSTAMP:20260422T045420
CREATED:20250509T165347Z
LAST-MODIFIED:20250702T071603Z
UID:45205-1754299800-1754623800@bellinghamalive.com
SUMMARY:Bellingham Repertory Dance Summer Teen Intensive
DESCRIPTION:Join us for BRD’s summer teen intensive! Throughout the week\, dancers will develop and hone new skills\, train with students from other schools\, and learn material from BRD’s professional repertory. Students will take a variety of contemporary dance classes and daily workshops\, taught by BRD company dancers and alumni. At the end of the week\, students will present their work in a conclusive showing open to family and friends on Friday\, August 8 from 2:30-3:30 PM at Presence Studio.
URL:https://bellinghamalive.com/event2/bellingham-repertory-dance-summer-teen-intensive/
CATEGORIES:Classes
ATTACH;FMTTYPE=image/jpeg:https://bellinghamalive.com/wp-content/uploads/2025/05/BRD-Teen-Intensive.jpg
END:VEVENT
BEGIN:VEVENT
DTSTART;TZID=America/Denver:20250819T180000
DTEND;TZID=America/Denver:20250819T193000
DTSTAMP:20260422T045420
CREATED:20250729T203827Z
LAST-MODIFIED:20250729T203827Z
UID:46287-1755626400-1755631800@bellinghamalive.com
SUMMARY:First Time Homebuyer Class
DESCRIPTION:Join us and our guest Amy Baker to learn about first-time home buying on Tuesday\, August 19th at Goods Local Brews (2620 Northwest Ave.) at 6 pm. \nBuying your first home is an exciting milestone\, and we’re here to help make the process simple and stress-free! Join us for our First-Time Home Buyer Seminar\, where we’ll break down everything you need to know—from understanding mortgages and down payment assistance programs to navigating the home-buying process with confidence. Whether you’re just starting to explore your options or ready to take the next step\, this seminar will provide expert insights and practical advice to help you make informed decisions on your journey to homeownership. \nRegister here: https://tinyurl.com/jt85wbc9
URL:https://bellinghamalive.com/event2/first-time-homebuyer-class/
CATEGORIES:Classes
ATTACH;FMTTYPE=image/png:https://bellinghamalive.com/wp-content/uploads/2025/07/First-Time-Home-Buyer-Class-August-2025-Social-Post.png
END:VEVENT
END:VCALENDAR