BEGIN:VCALENDAR
VERSION:2.0
PRODID:-//Bellingham Alive - ECPv6.15.20//NONSGML v1.0//EN
CALSCALE:GREGORIAN
METHOD:PUBLISH
X-ORIGINAL-URL:https://bellinghamalive.com
X-WR-CALDESC:Events for Bellingham Alive
REFRESH-INTERVAL;VALUE=DURATION:PT1H
X-Robots-Tag:noindex
X-PUBLISHED-TTL:PT1H
BEGIN:VTIMEZONE
TZID:America/Denver
BEGIN:DAYLIGHT
TZOFFSETFROM:-0700
TZOFFSETTO:-0600
TZNAME:MDT
DTSTART:20240310T090000
END:DAYLIGHT
BEGIN:STANDARD
TZOFFSETFROM:-0600
TZOFFSETTO:-0700
TZNAME:MST
DTSTART:20241103T080000
END:STANDARD
BEGIN:DAYLIGHT
TZOFFSETFROM:-0700
TZOFFSETTO:-0600
TZNAME:MDT
DTSTART:20250309T090000
END:DAYLIGHT
BEGIN:STANDARD
TZOFFSETFROM:-0600
TZOFFSETTO:-0700
TZNAME:MST
DTSTART:20251102T080000
END:STANDARD
BEGIN:DAYLIGHT
TZOFFSETFROM:-0700
TZOFFSETTO:-0600
TZNAME:MDT
DTSTART:20260308T090000
END:DAYLIGHT
BEGIN:STANDARD
TZOFFSETFROM:-0600
TZOFFSETTO:-0700
TZNAME:MST
DTSTART:20261101T080000
END:STANDARD
END:VTIMEZONE
BEGIN:VEVENT
DTSTART;TZID=America/Denver:20250723T170000
DTEND;TZID=America/Denver:20250723T200000
DTSTAMP:20260422T065229
CREATED:20250702T164307Z
LAST-MODIFIED:20250702T164307Z
UID:45903-1753290000-1753300800@bellinghamalive.com
SUMMARY:Pieced Block Stamping
DESCRIPTION:With rubber stamping\, we can put together modular shapes to create unique art. In this class\, we will prepare and carve our rubber blocks\, then use stamp pads to ink our stamps and print a variety of art pieces. We will make at least three different blocks to combine into different prints. This one-day workshop is on Wednesday\, July 23\, from 5-8pm at The Jansen Art Center in Lynden. The cost is $42 for class + $18 for all materials ($60 total). Sign up here: https://www.jansenartcenter.org/events/pieced-block-stamping/
URL:https://bellinghamalive.com/event2/pieced-block-stamping/
CATEGORIES:Classes
ATTACH;FMTTYPE=image/jpeg:https://bellinghamalive.com/wp-content/uploads/2025/06/Stamps-ws.jpg
END:VEVENT
END:VCALENDAR