BEGIN:VCALENDAR
VERSION:2.0
PRODID:-//Bellingham Alive - ECPv6.15.20//NONSGML v1.0//EN
CALSCALE:GREGORIAN
METHOD:PUBLISH
X-WR-CALNAME:Bellingham Alive
X-ORIGINAL-URL:https://bellinghamalive.com
X-WR-CALDESC:Events for Bellingham Alive
REFRESH-INTERVAL;VALUE=DURATION:PT1H
X-Robots-Tag:noindex
X-PUBLISHED-TTL:PT1H
BEGIN:VTIMEZONE
TZID:America/Denver
BEGIN:DAYLIGHT
TZOFFSETFROM:-0700
TZOFFSETTO:-0600
TZNAME:MDT
DTSTART:20240310T090000
END:DAYLIGHT
BEGIN:STANDARD
TZOFFSETFROM:-0600
TZOFFSETTO:-0700
TZNAME:MST
DTSTART:20241103T080000
END:STANDARD
BEGIN:DAYLIGHT
TZOFFSETFROM:-0700
TZOFFSETTO:-0600
TZNAME:MDT
DTSTART:20250309T090000
END:DAYLIGHT
BEGIN:STANDARD
TZOFFSETFROM:-0600
TZOFFSETTO:-0700
TZNAME:MST
DTSTART:20251102T080000
END:STANDARD
BEGIN:DAYLIGHT
TZOFFSETFROM:-0700
TZOFFSETTO:-0600
TZNAME:MDT
DTSTART:20260308T090000
END:DAYLIGHT
BEGIN:STANDARD
TZOFFSETFROM:-0600
TZOFFSETTO:-0700
TZNAME:MST
DTSTART:20261101T080000
END:STANDARD
END:VTIMEZONE
BEGIN:VEVENT
DTSTART;TZID=America/Denver:20250513T190000
DTEND;TZID=America/Denver:20250617T203000
DTSTAMP:20260422T084628
CREATED:20250425T171634Z
LAST-MODIFIED:20250425T171717Z
UID:44942-1747162800-1750192200@bellinghamalive.com
SUMMARY:All Voices Pop Up Chorus
DESCRIPTION:Did you sing in school or in the church choir or love to sing in the shower? Then join the All-Voices Pop-Up Chorus put on by the Mount Baker Toppers. Learn to sing 4-part acapella harmony from award-winning teachers for six weeks and then perform A Night of Acapella on June 21st at the Fairhaven Green. It’s free and it’s fun. Ages 12-99 welcome! Stop by The Majestic on May 13th and check it out!\nhttps://topperschorus.org/
URL:https://bellinghamalive.com/event2/all-voices-pop-up-chorus/
CATEGORIES:Classes
ATTACH;FMTTYPE=image/jpeg:https://bellinghamalive.com/wp-content/uploads/2025/04/mbt.jpg
END:VEVENT
BEGIN:VEVENT
DTSTART;TZID=America/Denver:20250622T160000
DTEND;TZID=America/Denver:20250622T180000
DTSTAMP:20260422T084628
CREATED:20250625T163334Z
LAST-MODIFIED:20250625T163334Z
UID:45681-1750608000-1750615200@bellinghamalive.com
SUMMARY:Bitters Making 7.0
DESCRIPTION:Bitters Making 7.0\nJUNE 22 | 4PM-6PM | $55/Person\nBack by popular demand\, Bitters Making 7.0 returns to Galloway’s for an intimate\, hands-on class that blends history\, creativity\, and cocktail craft. Led by bartender and herbalist Amanda Shoemaker\, this unique experience dives into the storied world of bitters—from their apothecary origins to their place behind today’s bar. Guests will explore a curated selection of herbs\, spices\, and botanicals to craft two custom blends\, with expert guidance and plenty of room to experiment. Whether you’re a cocktail connoisseur or a curious DIYer\, this is your chance to create something personal and flavorful to take home.
URL:https://bellinghamalive.com/event2/bitters-making-7-0-2/
CATEGORIES:Classes
ATTACH;FMTTYPE=image/jpeg:https://bellinghamalive.com/wp-content/uploads/2025/06/bellinghamfoodphotographerkatherynmorangallowayscocktailoctober201933-scaled.jpg
END:VEVENT
END:VCALENDAR