BEGIN:VCALENDAR
VERSION:2.0
PRODID:-//Bellingham Alive - ECPv6.15.20//NONSGML v1.0//EN
CALSCALE:GREGORIAN
METHOD:PUBLISH
X-WR-CALNAME:Bellingham Alive
X-ORIGINAL-URL:https://bellinghamalive.com
X-WR-CALDESC:Events for Bellingham Alive
REFRESH-INTERVAL;VALUE=DURATION:PT1H
X-Robots-Tag:noindex
X-PUBLISHED-TTL:PT1H
BEGIN:VTIMEZONE
TZID:America/Denver
BEGIN:DAYLIGHT
TZOFFSETFROM:-0700
TZOFFSETTO:-0600
TZNAME:MDT
DTSTART:20240310T090000
END:DAYLIGHT
BEGIN:STANDARD
TZOFFSETFROM:-0600
TZOFFSETTO:-0700
TZNAME:MST
DTSTART:20241103T080000
END:STANDARD
BEGIN:DAYLIGHT
TZOFFSETFROM:-0700
TZOFFSETTO:-0600
TZNAME:MDT
DTSTART:20250309T090000
END:DAYLIGHT
BEGIN:STANDARD
TZOFFSETFROM:-0600
TZOFFSETTO:-0700
TZNAME:MST
DTSTART:20251102T080000
END:STANDARD
BEGIN:DAYLIGHT
TZOFFSETFROM:-0700
TZOFFSETTO:-0600
TZNAME:MDT
DTSTART:20260308T090000
END:DAYLIGHT
BEGIN:STANDARD
TZOFFSETFROM:-0600
TZOFFSETTO:-0700
TZNAME:MST
DTSTART:20261101T080000
END:STANDARD
END:VTIMEZONE
BEGIN:VEVENT
DTSTART;TZID=America/Denver:20250226T173000
DTEND;TZID=America/Denver:20250226T190000
DTSTAMP:20260422T163230
CREATED:20250224T160048Z
LAST-MODIFIED:20250224T160048Z
UID:43990-1740591000-1740596400@bellinghamalive.com
SUMMARY:Mastering Estate Planning for Your Future
DESCRIPTION:STRATEGIES TO SECURE YOUR FUTURE \nThere’s no better time than now to think about protecting what’s meaningful to you. Estate planning allows you to make your wishes clear\, provide for loved ones\, and secure your legacy. \nEvent Details:\n– Date: February 26thth\n– Time: 5:30 – 7:00 PM\n– Where: 913 Lakeway Drive\, Bellingham – RE/MAX Whatcom County\n– What to Expect: A presentation with a Q&A\, plus delicious appetizers! \nWhy Estate Planning❓❓❓\nEstate planning is not just for the wealthy. It’s for anyone who wants to ensure that what they value is handled according to their wishes. Emily Rose of Limitless Law will walk us through the essential steps of setting up wills\, trusts\, and protecting assets\, making it easy to get started. \nThis event is open to our clients and their friends who may want to explore estate planning. Space is limited\, so RSVP below today to secure your spot. \nWe look forward to helping you “Craft Your Financial Legacy with Expert Guidance.” \nWarm regards\,\nAndi & Katie
URL:https://bellinghamalive.com/event2/mastering-estate-planning-for-your-future/
CATEGORIES:Classes
ATTACH;FMTTYPE=image/jpeg:https://bellinghamalive.com/wp-content/uploads/2025/02/Google-Business-Update.jpg
END:VEVENT
END:VCALENDAR