BEGIN:VCALENDAR
VERSION:2.0
PRODID:-//Bellingham Alive - ECPv6.15.20//NONSGML v1.0//EN
CALSCALE:GREGORIAN
METHOD:PUBLISH
X-WR-CALNAME:Bellingham Alive
X-ORIGINAL-URL:https://bellinghamalive.com
X-WR-CALDESC:Events for Bellingham Alive
REFRESH-INTERVAL;VALUE=DURATION:PT1H
X-Robots-Tag:noindex
X-PUBLISHED-TTL:PT1H
BEGIN:VTIMEZONE
TZID:America/Denver
BEGIN:DAYLIGHT
TZOFFSETFROM:-0700
TZOFFSETTO:-0600
TZNAME:MDT
DTSTART:20240310T090000
END:DAYLIGHT
BEGIN:STANDARD
TZOFFSETFROM:-0600
TZOFFSETTO:-0700
TZNAME:MST
DTSTART:20241103T080000
END:STANDARD
BEGIN:DAYLIGHT
TZOFFSETFROM:-0700
TZOFFSETTO:-0600
TZNAME:MDT
DTSTART:20250309T090000
END:DAYLIGHT
BEGIN:STANDARD
TZOFFSETFROM:-0600
TZOFFSETTO:-0700
TZNAME:MST
DTSTART:20251102T080000
END:STANDARD
BEGIN:DAYLIGHT
TZOFFSETFROM:-0700
TZOFFSETTO:-0600
TZNAME:MDT
DTSTART:20260308T090000
END:DAYLIGHT
BEGIN:STANDARD
TZOFFSETFROM:-0600
TZOFFSETTO:-0700
TZNAME:MST
DTSTART:20261101T080000
END:STANDARD
END:VTIMEZONE
BEGIN:VEVENT
DTSTART;TZID=America/Denver:20250118T130000
DTEND;TZID=America/Denver:20250118T170000
DTSTAMP:20260422T182845
CREATED:20250106T163515Z
LAST-MODIFIED:20250106T163515Z
UID:43146-1737205200-1737219600@bellinghamalive.com
SUMMARY:Vision / Dream Board Playshop
DESCRIPTION:🌟 PNW Cannasisters Presents: Vision/Dream Board Playshop 🌟 \nJoin hosts Mimi and Susan on Saturday\, January 18\, 2024\, from 1 PM to 5 PM-ish for an inspiring afternoon of crafting\, connecting\, and manifesting your dreams! \n✨ Open to all genders 21+ \n🌈 Start the New Year Fresh🌈\nDive into your aspirations with a focused vision/dream board that will help you visualize and bring your dreams to life. \nThis is a not-for-profit gathering to cultivate community\, conversation\, and connection. We kindly ask $25 per person donation to help cover costs and support our community work.\n10% proceeds goes to our community service project fund. \nWhat to Bring:\n✨Your high vibes ✨\n✨A favorite munchy to share 🍪\n✨Something to elevate with\, if you choose (elevation is optional and will take place outside or in the garage).\n✨ Any crafty/ collage materials for your vision/ dream board\n✨ Image\, photos\, inspirational words\, quotes\, etc… \nLet’s come together\, create\, and elevate our intentions for the year ahead! \nAll materials provided. No previous artistic experience required. Invite your inner child to play and dream. \nWe can’t wait to see you there!
URL:https://bellinghamalive.com/event2/vision-dream-board-playshop/
CATEGORIES:Classes
ATTACH;FMTTYPE=image/png:https://bellinghamalive.com/wp-content/uploads/2025/01/Join-the-PNW-Cannasisters-for-a-Creative-Dream-Board-Playshop-8.5-x-11-in_20241215_031656_0000.png
END:VEVENT
END:VCALENDAR