BEGIN:VCALENDAR
VERSION:2.0
PRODID:-//Bellingham Alive - ECPv6.15.20//NONSGML v1.0//EN
CALSCALE:GREGORIAN
METHOD:PUBLISH
X-WR-CALNAME:Bellingham Alive
X-ORIGINAL-URL:https://bellinghamalive.com
X-WR-CALDESC:Events for Bellingham Alive
REFRESH-INTERVAL;VALUE=DURATION:PT1H
X-Robots-Tag:noindex
X-PUBLISHED-TTL:PT1H
BEGIN:VTIMEZONE
TZID:America/Denver
BEGIN:DAYLIGHT
TZOFFSETFROM:-0700
TZOFFSETTO:-0600
TZNAME:MDT
DTSTART:20230312T090000
END:DAYLIGHT
BEGIN:STANDARD
TZOFFSETFROM:-0600
TZOFFSETTO:-0700
TZNAME:MST
DTSTART:20231105T080000
END:STANDARD
BEGIN:DAYLIGHT
TZOFFSETFROM:-0700
TZOFFSETTO:-0600
TZNAME:MDT
DTSTART:20240310T090000
END:DAYLIGHT
BEGIN:STANDARD
TZOFFSETFROM:-0600
TZOFFSETTO:-0700
TZNAME:MST
DTSTART:20241103T080000
END:STANDARD
BEGIN:DAYLIGHT
TZOFFSETFROM:-0700
TZOFFSETTO:-0600
TZNAME:MDT
DTSTART:20250309T090000
END:DAYLIGHT
BEGIN:STANDARD
TZOFFSETFROM:-0600
TZOFFSETTO:-0700
TZNAME:MST
DTSTART:20251102T080000
END:STANDARD
END:VTIMEZONE
BEGIN:VEVENT
DTSTART;TZID=America/Denver:20240929T100000
DTEND;TZID=America/Denver:20240929T120000
DTSTAMP:20260423T014634
CREATED:20240912T194022Z
LAST-MODIFIED:20240912T194022Z
UID:41945-1727604000-1727611200@bellinghamalive.com
SUMMARY:Minecraft Coding & amp; Modding
DESCRIPTION:Participants will experiment with creating their own mod in Mcreator and building Redstone Machines (for those that don’t know Redstone\, it’s kind of like electrical circuits within Minecraft and used to build all sorts of machines virtually!) \nKiddos will also be taking a mid-class break to get a little messy with a Minecraft STEAM project! Wear your Minecraft shirt and join the army of kids that love to create with Minecraft like BCRC does! \nRegistration dates\nAug 26\, 2024 8:30 AM to Sep 26\, 2024 4:30 PM \nAges: 9-12
URL:https://bellinghamalive.com/event2/minecraft-coding-modding/
CATEGORIES:Classes
ATTACH;FMTTYPE=image/jpeg:https://bellinghamalive.com/wp-content/uploads/2024/09/minecraft.jpg
END:VEVENT
BEGIN:VEVENT
DTSTART;TZID=America/Denver:20240930T180000
DTEND;TZID=America/Denver:20241209T193000
DTSTAMP:20260423T014634
CREATED:20240912T193758Z
LAST-MODIFIED:20240912T193758Z
UID:41959-1727719200-1733772600@bellinghamalive.com
SUMMARY:Relaxing Restoration
DESCRIPTION:Relieve stress with a relaxing restoration of guided meditation\, healing sounds\,\nand movement with licensed therapist\, Layla Jasper. Bring a blanket and yoga mat to the beautiful new Cordata pavilion. Pre-registration is required for all sessions. \nMondays\, 9/30\, 10/14\, 11/25\, 12/9 from 6-7:30pm \nThis program is non-refundable. \nAges: 18 years and older\nLocation: Cordata Park Pavilion – South Entrance
URL:https://bellinghamalive.com/event2/relaxing-restoration/
CATEGORIES:Classes
ATTACH;FMTTYPE=image/jpeg:https://bellinghamalive.com/wp-content/uploads/2024/09/RR_r1-scaled.jpg
END:VEVENT
END:VCALENDAR