BEGIN:VCALENDAR
VERSION:2.0
PRODID:-//Bellingham Alive - ECPv6.15.20//NONSGML v1.0//EN
CALSCALE:GREGORIAN
METHOD:PUBLISH
X-WR-CALNAME:Bellingham Alive
X-ORIGINAL-URL:https://bellinghamalive.com
X-WR-CALDESC:Events for Bellingham Alive
REFRESH-INTERVAL;VALUE=DURATION:PT1H
X-Robots-Tag:noindex
X-PUBLISHED-TTL:PT1H
BEGIN:VTIMEZONE
TZID:America/Denver
BEGIN:DAYLIGHT
TZOFFSETFROM:-0700
TZOFFSETTO:-0600
TZNAME:MDT
DTSTART:20230312T090000
END:DAYLIGHT
BEGIN:STANDARD
TZOFFSETFROM:-0600
TZOFFSETTO:-0700
TZNAME:MST
DTSTART:20231105T080000
END:STANDARD
BEGIN:DAYLIGHT
TZOFFSETFROM:-0700
TZOFFSETTO:-0600
TZNAME:MDT
DTSTART:20240310T090000
END:DAYLIGHT
BEGIN:STANDARD
TZOFFSETFROM:-0600
TZOFFSETTO:-0700
TZNAME:MST
DTSTART:20241103T080000
END:STANDARD
BEGIN:DAYLIGHT
TZOFFSETFROM:-0700
TZOFFSETTO:-0600
TZNAME:MDT
DTSTART:20250309T090000
END:DAYLIGHT
BEGIN:STANDARD
TZOFFSETFROM:-0600
TZOFFSETTO:-0700
TZNAME:MST
DTSTART:20251102T080000
END:STANDARD
END:VTIMEZONE
BEGIN:VEVENT
DTSTART;TZID=America/Denver:20240224T103000
DTEND;TZID=America/Denver:20240224T120000
DTSTAMP:20260423T132034
CREATED:20240104T181805Z
LAST-MODIFIED:20240104T181805Z
UID:39087-1708770600-1708776000@bellinghamalive.com
SUMMARY:FREE Women's Self-Defense Class
DESCRIPTION:Join us at USTA Martial Arts in Blaine for a FREE Women’s Self-Defense Class Saturday\, February 24th from 10:30AM to noon. Bring a friend to practice with!\nRegister today at www.ustablaine.com or by calling 360-685-USTA (8782) \nNO EXPERIENCE NECESSARY\n**Ages 13 and up
URL:https://bellinghamalive.com/event2/free-womens-self-defense-class/
CATEGORIES:Classes
ATTACH;FMTTYPE=image/png:https://bellinghamalive.com/wp-content/uploads/2024/01/Screenshot-2024-01-04-101739.png
END:VEVENT
END:VCALENDAR