BEGIN:VCALENDAR
VERSION:2.0
PRODID:-//Bellingham Alive - ECPv6.15.20//NONSGML v1.0//EN
CALSCALE:GREGORIAN
METHOD:PUBLISH
X-ORIGINAL-URL:https://bellinghamalive.com
X-WR-CALDESC:Events for Bellingham Alive
REFRESH-INTERVAL;VALUE=DURATION:PT1H
X-Robots-Tag:noindex
X-PUBLISHED-TTL:PT1H
BEGIN:VTIMEZONE
TZID:America/Denver
BEGIN:DAYLIGHT
TZOFFSETFROM:-0700
TZOFFSETTO:-0600
TZNAME:MDT
DTSTART:20220313T090000
END:DAYLIGHT
BEGIN:STANDARD
TZOFFSETFROM:-0600
TZOFFSETTO:-0700
TZNAME:MST
DTSTART:20221106T080000
END:STANDARD
BEGIN:DAYLIGHT
TZOFFSETFROM:-0700
TZOFFSETTO:-0600
TZNAME:MDT
DTSTART:20230312T090000
END:DAYLIGHT
BEGIN:STANDARD
TZOFFSETFROM:-0600
TZOFFSETTO:-0700
TZNAME:MST
DTSTART:20231105T080000
END:STANDARD
BEGIN:DAYLIGHT
TZOFFSETFROM:-0700
TZOFFSETTO:-0600
TZNAME:MDT
DTSTART:20240310T090000
END:DAYLIGHT
BEGIN:STANDARD
TZOFFSETFROM:-0600
TZOFFSETTO:-0700
TZNAME:MST
DTSTART:20241103T080000
END:STANDARD
END:VTIMEZONE
BEGIN:VEVENT
DTSTART;TZID=America/Denver:20230509T000000
DTEND;TZID=America/Denver:20230511T000000
DTSTAMP:20260424T052319
CREATED:20221227T144142Z
LAST-MODIFIED:20221227T144142Z
UID:35195-1683590400-1683763200@bellinghamalive.com
SUMMARY:MIND YOGA
DESCRIPTION:Stay & Travel Journeys To Inner Worlds Over 2-Days \nWellness retreats are a healthful way to bring body and mind back into alignment\, and to recenter the seat of soul in the spirit of loving kindness. At Heartful Retreats\, the focus is on exploring our many selves through friendship\, writing and art making\, good food\, and mindful spirituality. Are you bumping into cynicism and fear\, or are the gardens of possibility blooming for you? This mind yoga getaway offers a continuing practice of self-exploration and expression\, and seeks to create inner balance that can be built on through a ‘rinse and repeat’ method for deeper learning & discovery. Small class\, big impact – space is limited so book now. Specific info about this Retreat can be found at www.heartfulretreats.com/retreats or contact Yvette Neumann @360-510-9819.
URL:https://bellinghamalive.com/event2/mind-yoga/
LOCATION:Heartful Retreats\, 8480 Thompson Beach Rd\, Anacortes\, WA\, 98221\, United States
CATEGORIES:Classes
ORGANIZER;CN="Heartful Retreats":MAILTO:yvette@heartfulretreats.com
END:VEVENT
BEGIN:VEVENT
DTSTART;TZID=America/Denver:20230521T000000
DTEND;TZID=America/Denver:20230525T000000
DTSTAMP:20260424T052319
CREATED:20221227T144033Z
LAST-MODIFIED:20221227T144033Z
UID:35197-1684627200-1684972800@bellinghamalive.com
SUMMARY:ALCHEMY ME
DESCRIPTION:Stay & Explore With Our 5-Day Workshop On Self-Transformation \nWellness retreats are a healthful way to bring body and mind back into alignment\, and to recenter the seat of soul in the spirit of loving kindness. At Heartful Retreats\, the focus is on exploring our many selves through friendship\, writing and art making\, good food\, and mindful spirituality. This retreat is for anyone looking to examine distinct blueprints for life – those personal\, professional and spiritual selves that describe the material of who we are. What you will leave with is a finished set of keepsake materials\, tools\, & talismans\, & a better understanding of where you are now and possibilities ahead. Small class\, big impact – space is limited so book now. Specific info about this Retreat can be found at www.heartfulretreats.com/retreats or contact Yvette Neumann @360-510-9819.
URL:https://bellinghamalive.com/event2/alchemy-me/
LOCATION:Heartful Retreats\, 8480 Thompson Beach Rd\, Anacortes\, WA\, 98221\, United States
CATEGORIES:Classes
ORGANIZER;CN="Heartful Retreats":MAILTO:yvette@heartfulretreats.com
END:VEVENT
END:VCALENDAR