BEGIN:VCALENDAR
VERSION:2.0
PRODID:-//Bellingham Alive - ECPv6.15.20//NONSGML v1.0//EN
CALSCALE:GREGORIAN
METHOD:PUBLISH
X-ORIGINAL-URL:https://bellinghamalive.com
X-WR-CALDESC:Events for Bellingham Alive
REFRESH-INTERVAL;VALUE=DURATION:PT1H
X-Robots-Tag:noindex
X-PUBLISHED-TTL:PT1H
BEGIN:VTIMEZONE
TZID:America/Denver
BEGIN:DAYLIGHT
TZOFFSETFROM:-0700
TZOFFSETTO:-0600
TZNAME:MDT
DTSTART:20220313T090000
END:DAYLIGHT
BEGIN:STANDARD
TZOFFSETFROM:-0600
TZOFFSETTO:-0700
TZNAME:MST
DTSTART:20221106T080000
END:STANDARD
BEGIN:DAYLIGHT
TZOFFSETFROM:-0700
TZOFFSETTO:-0600
TZNAME:MDT
DTSTART:20230312T090000
END:DAYLIGHT
BEGIN:STANDARD
TZOFFSETFROM:-0600
TZOFFSETTO:-0700
TZNAME:MST
DTSTART:20231105T080000
END:STANDARD
BEGIN:DAYLIGHT
TZOFFSETFROM:-0700
TZOFFSETTO:-0600
TZNAME:MDT
DTSTART:20240310T090000
END:DAYLIGHT
BEGIN:STANDARD
TZOFFSETFROM:-0600
TZOFFSETTO:-0700
TZNAME:MST
DTSTART:20241103T080000
END:STANDARD
END:VTIMEZONE
BEGIN:VEVENT
DTSTART;TZID=America/Denver:20230316T180000
DTEND;TZID=America/Denver:20230316T190000
DTSTAMP:20260424T090132
CREATED:20230303T174541Z
LAST-MODIFIED:20230303T174541Z
UID:36362-1678989600-1678993200@bellinghamalive.com
SUMMARY:Wealth to Women
DESCRIPTION:Camille Koppenberg and Nickole Murphy are excited to announce a 2-part workshop\, Wealth to Women. \nOur 1st class will be on March 16th from 6-7pm at Her Connection HUB. We will be talking about budgeting – Where to start\, different ways to tackle debt payoff\, and the best plan of attack for that Oh Sh*t fund. \nOur 2nd class will be in April. We’ll discuss investing in homeownership and the stock market\, minus the country club cigar room. \nPlease register for our March 16th class at EventBrite – \nhttps://www.eventbrite.com/e/wealth-to-women-tickets-554451959737?fbclid=IwAR38CupvIzXzubbUgqHCN9wae08bM8PYgnGDS5eL3d3F56FF1lKl0OUq0sM
URL:https://bellinghamalive.com/event2/wealth-to-women/
LOCATION:Her Connection HUB\, 315 Lakeway Dr.\, Bellingham\, WA\, 98225\, United States
CATEGORIES:Classes
END:VEVENT
BEGIN:VEVENT
DTSTART;TZID=America/Denver:20230319T000000
DTEND;TZID=America/Denver:20230323T000000
DTSTAMP:20260424T090132
CREATED:20221227T145703Z
LAST-MODIFIED:20221227T145703Z
UID:35191-1679184000-1679529600@bellinghamalive.com
SUMMARY:LIFE & DEATH
DESCRIPTION:Stay and Bravely Explore The One Certainty In Life Over 5-Days \nWellness retreats are a healthful way to bring body and mind back into alignment\, and to recenter the seat of soul in the spirit of loving kindness. At Heartful Retreats\, the focus is on exploring our many selves through friendship\, writing and art making\, good food\, and mindful spirituality. Taking cues from your own life\, other cultures\, and the world of human thought\, we will explore the subject of death through the lens of beginnings and endings\, in particular\, endings within the timespan of a life. Hidden in the many little deaths we all face are insights about the nature of things; that impermanence is the way of the world\, and to really live and experience life to the fullest\, we must make peace with human want and desire. Small class\, big impact – space is limited so book now. Specific info about this Retreat can be found at www.heartfulretreats.com/retreats or contact Yvette Neumann @360-510-9819.
URL:https://bellinghamalive.com/event2/life-death-2/
LOCATION:Heartful Retreats\, 8480 Thompson Beach Rd\, Anacortes\, WA\, 98221\, United States
CATEGORIES:Classes
ORGANIZER;CN="Heartful Retreats":MAILTO:yvette@heartfulretreats.com
END:VEVENT
END:VCALENDAR