BEGIN:VCALENDAR
VERSION:2.0
PRODID:-//Bellingham Alive - ECPv6.15.20//NONSGML v1.0//EN
CALSCALE:GREGORIAN
METHOD:PUBLISH
X-ORIGINAL-URL:https://bellinghamalive.com
X-WR-CALDESC:Events for Bellingham Alive
REFRESH-INTERVAL;VALUE=DURATION:PT1H
X-Robots-Tag:noindex
X-PUBLISHED-TTL:PT1H
BEGIN:VTIMEZONE
TZID:America/Denver
BEGIN:DAYLIGHT
TZOFFSETFROM:-0700
TZOFFSETTO:-0600
TZNAME:MDT
DTSTART:20220313T090000
END:DAYLIGHT
BEGIN:STANDARD
TZOFFSETFROM:-0600
TZOFFSETTO:-0700
TZNAME:MST
DTSTART:20221106T080000
END:STANDARD
BEGIN:DAYLIGHT
TZOFFSETFROM:-0700
TZOFFSETTO:-0600
TZNAME:MDT
DTSTART:20230312T090000
END:DAYLIGHT
BEGIN:STANDARD
TZOFFSETFROM:-0600
TZOFFSETTO:-0700
TZNAME:MST
DTSTART:20231105T080000
END:STANDARD
BEGIN:DAYLIGHT
TZOFFSETFROM:-0700
TZOFFSETTO:-0600
TZNAME:MDT
DTSTART:20240310T090000
END:DAYLIGHT
BEGIN:STANDARD
TZOFFSETFROM:-0600
TZOFFSETTO:-0700
TZNAME:MST
DTSTART:20241103T080000
END:STANDARD
END:VTIMEZONE
BEGIN:VEVENT
DTSTART;VALUE=DATE:20230205
DTEND;VALUE=DATE:20230210
DTSTAMP:20260424T104214
CREATED:20221213T193624Z
LAST-MODIFIED:20221213T193624Z
UID:35187-1675555200-1675987199@bellinghamalive.com
SUMMARY:MASTERING COLOR
DESCRIPTION:Stay & Dive Deep With Our 5-Day Color Mixing Workshop \nWellness retreats are a healthful way to bring body and mind back into alignment\, and to recenter the seat of soul in the spirit of loving kindness. At Heartful Retreats\, the focus is on exploring our many selves through friendship\, writing and art making\, good food\, and mindful spirituality. Practice mixing clean\, bright colors using primary pigments in warm and cool tones and complete a painting project built around striking color melodies. You will leave with a deeper understanding of the art and science of color relationships and the chromatic variations found in primary\, secondary\, and tertiary color families. Small class\, big impact – space is limited so book now. Specific info about this Retreat can be found at www.heartfulretreats.com/retreats or contact Yvette Neumann @360-510-9819.
URL:https://bellinghamalive.com/event2/mastering-color/
LOCATION:Heartful Retreats\, 8480 Thompson Beach Rd\, Anacortes\, WA\, 98221\, United States
CATEGORIES:Classes
ORGANIZER;CN="Heartful Retreats":MAILTO:yvette@heartfulretreats.com
END:VEVENT
BEGIN:VEVENT
DTSTART;TZID=America/Denver:20230221T000000
DTEND;TZID=America/Denver:20230223T000000
DTSTAMP:20260424T104214
CREATED:20221227T150318Z
LAST-MODIFIED:20221227T150318Z
UID:35189-1676937600-1677110400@bellinghamalive.com
SUMMARY:STILL LIFE
DESCRIPTION:Stay & Investigate Fundamentals Of Everyday Things Over 2-Days \nWellness retreats are a healthful way to bring body and mind back into alignment\, and to recenter the seat of soul in the spirit of loving kindness. At Heartful Retreats\, the focus is on exploring our many selves through friendship\, writing and art making\, good food\, and mindful spirituality. In this hearty getaway\, you will create several small portraits\, based on interesting color mixes\, landscape\, figurative and abstract subjects. Each painting project explores key concepts in art\, and teaches how to model what is seen with the eye in a method-based way. You will leave with your very own gallery of fine art\, ready for mounting or portfolio exhibition. Small class\, big impact – space is limited so book now. Specific info about this Retreat can be found at www.heartfulretreats.com/retreats or contact Yvette Neumann @360-510-9819.
URL:https://bellinghamalive.com/event2/still-life-2/
LOCATION:Heartful Retreats\, 8480 Thompson Beach Rd\, Anacortes\, WA\, 98221\, United States
CATEGORIES:Classes
ORGANIZER;CN="Heartful Retreats":MAILTO:yvette@heartfulretreats.com
END:VEVENT
END:VCALENDAR