BEGIN:VCALENDAR
VERSION:2.0
PRODID:-//Bellingham Alive - ECPv6.15.20//NONSGML v1.0//EN
CALSCALE:GREGORIAN
METHOD:PUBLISH
X-WR-CALNAME:Bellingham Alive
X-ORIGINAL-URL:https://bellinghamalive.com
X-WR-CALDESC:Events for Bellingham Alive
REFRESH-INTERVAL;VALUE=DURATION:PT1H
X-Robots-Tag:noindex
X-PUBLISHED-TTL:PT1H
BEGIN:VTIMEZONE
TZID:UTC
BEGIN:STANDARD
TZOFFSETFROM:+0000
TZOFFSETTO:+0000
TZNAME:UTC
DTSTART:20210101T000000
END:STANDARD
END:VTIMEZONE
BEGIN:VEVENT
DTSTART;TZID=UTC:20220424T000000
DTEND;TZID=UTC:20220424T000000
DTSTAMP:20260425T044135
CREATED:20220420T120521Z
LAST-MODIFIED:20220420T120521Z
UID:33419-1650758400-1650758400@bellinghamalive.com
SUMMARY:All About Flower Essences: Making\, Buying\, Choosing\, Using
DESCRIPTION:Class taught by Michele Sanger\, Herbalist. $25 fee includes handouts\, recipes\, and samples. Kindly pre-register by calling Living Earth Herbs (360) 734-3207 or by stopping in the shop! \nFor more information check out our website: livingearthherbs.com
URL:https://bellinghamalive.com/event2/all-about-flower-essences-making-buying-choosing-using/
CATEGORIES:Classes
END:VEVENT
END:VCALENDAR